BEGIN:VCALENDAR
VERSION:2.0
PRODID:icalendar-ruby
CALSCALE:GREGORIAN
BEGIN:VTIMEZONE
TZID:America/New_York
BEGIN:DAYLIGHT
DTSTART:20260308T030000
TZOFFSETFROM:-0500
TZOFFSETTO:-0400
RRULE:FREQ=YEARLY;BYDAY=2SU;BYMONTH=3
TZNAME:EDT
END:DAYLIGHT
BEGIN:STANDARD
DTSTART:20261101T010000
TZOFFSETFROM:-0400
TZOFFSETTO:-0500
RRULE:FREQ=YEARLY;BYDAY=1SU;BYMONTH=11
TZNAME:EST
END:STANDARD
END:VTIMEZONE
BEGIN:VEVENT
DTSTAMP:20260424T173053Z
UID:043f933f-2815-486a-a57a-0cce068e36aa
DTSTART:20260429T073000
DTEND:20260429T080000
DESCRIPTION:
LOCATION:
SUMMARY:All Pro Dads 7:30 am-8:00 am
END:VEVENT
BEGIN:VEVENT
DTSTAMP:20260424T173053Z
UID:90e56fd0-9e43-4d9c-9bfb-04a12f92f3f5
DTSTART;VALUE=DATE:20260504
DTEND;VALUE=DATE:20260509
DESCRIPTION:
LOCATION:
SUMMARY:Teacher Appreciation Week
END:VEVENT
BEGIN:VEVENT
DTSTAMP:20260424T173053Z
UID:fb266fdf-f6f7-46ce-91b0-e4e12d2d659a
DTSTART:20260504T090000
DTEND:20260504T130000
DESCRIPTION:<a href="https://aptg.co/1hcK-M">View the flyer for more inform
 ation. </a>
LOCATION:
SUMMARY:Kindergarten Registration
END:VEVENT
BEGIN:VEVENT
DTSTAMP:20260424T173053Z
UID:ca472488-9e89-478e-b365-fbc5dd810b9b
DTSTART:20260504T090000
DTEND:20260504T130000
DESCRIPTION:
LOCATION:
SUMMARY: PreK/Kindergarten Registration
END:VEVENT
BEGIN:VEVENT
DTSTAMP:20260424T173053Z
UID:3dcfad2a-4320-4cd7-ae7a-05599078bcf0
DTSTART:20260504T160000
DTEND:20260504T180000
DESCRIPTION:<a href="https://aptg.co/1hcK-M">View the flyer for more inform
 ation.</a>
LOCATION:
SUMMARY:Kindergarten Registration
END:VEVENT
BEGIN:VEVENT
DTSTAMP:20260424T173053Z
UID:516e3083-bd69-44d5-8b2e-d5a9a03799aa
DTSTART:20260504T160000
DTEND:20260504T180000
DESCRIPTION:
LOCATION:
SUMMARY:PreK/Kindergarten Registration
END:VEVENT
BEGIN:VEVENT
DTSTAMP:20260424T173053Z
UID:fa598e5b-3ef1-461a-b31e-1d3afb7dba35
DTSTART;VALUE=DATE:20260505
DTEND;VALUE=DATE:20260506
DESCRIPTION:
LOCATION:
SUMMARY:Professional Development Day
END:VEVENT
BEGIN:VEVENT
DTSTAMP:20260424T173053Z
UID:4e5297a1-6b79-4898-9e17-d19f58c6937e
DTSTART;VALUE=DATE:20260505
DTEND;VALUE=DATE:20260506
DESCRIPTION:
LOCATION:
SUMMARY:Professional Development Day - No Students
END:VEVENT
BEGIN:VEVENT
DTSTAMP:20260424T173053Z
UID:74e7dae5-2046-449b-8bcc-c2d16aedf330
DTSTART;VALUE=DATE:20260506
DTEND;VALUE=DATE:20260508
DESCRIPTION:
LOCATION:
SUMMARY:Cheer Clinic
END:VEVENT
BEGIN:VEVENT
DTSTAMP:20260424T173053Z
UID:20b1544b-7ad9-4530-8169-6876fa240297
DTSTART;VALUE=DATE:20260506
DTEND;VALUE=DATE:20260507
DESCRIPTION:
LOCATION:
SUMMARY:Colorthon
END:VEVENT
BEGIN:VEVENT
DTSTAMP:20260424T173053Z
UID:ffdd2014-5a60-4d49-954a-9c74f2554528
DTSTART:20260507T180000
DTEND:20260507T193000
DESCRIPTION:
LOCATION:
SUMMARY:STEAM Night
END:VEVENT
BEGIN:VEVENT
DTSTAMP:20260424T173053Z
UID:0ebc0b0d-87ea-4dbc-9385-1f779cd8633f
DTSTART;VALUE=DATE:20260508
DTEND;VALUE=DATE:20260509
DESCRIPTION:
LOCATION:
SUMMARY:Cheer Tryouts
END:VEVENT
BEGIN:VEVENT
DTSTAMP:20260424T173053Z
UID:dbc46c34-69fa-4896-ac44-7e1c18cdc605
DTSTART:20260509T190000
DTEND:20260509T210000
DESCRIPTION:
LOCATION:Jackson Theatre\, 121 W Main St\, Jonesborough\, TN 37659\, USA
SUMMARY:Washington County's Got Teen Talent
END:VEVENT
BEGIN:VEVENT
DTSTAMP:20260424T173053Z
UID:db5c648e-0bf7-46d7-9008-b69c6c227684
DTSTART;VALUE=DATE:20260515
DTEND;VALUE=DATE:20260516
DESCRIPTION:
LOCATION:
SUMMARY:Field Day
END:VEVENT
BEGIN:VEVENT
DTSTAMP:20260424T173053Z
UID:06c22876-0c37-4f4d-818e-81ce02158478
DTSTART;VALUE=DATE:20260516
DTEND;VALUE=DATE:20260517
DESCRIPTION:Please visit <b><a href="http://www.wcde.org/graduation">www.wc
 de.org/graduation</a></b> for more information
LOCATION:
SUMMARY:Graduation Day at Boone and Crockett
END:VEVENT
BEGIN:VEVENT
DTSTAMP:20260424T173053Z
UID:6fc9c7a3-4423-42fa-b4da-0fdcc33b5f18
DTSTART;VALUE=DATE:20260517
DTEND;VALUE=DATE:20260518
DESCRIPTION:
LOCATION:
SUMMARY:Sports Banquet
END:VEVENT
BEGIN:VEVENT
DTSTAMP:20260424T173053Z
UID:4da1e01f-58ce-4f87-be97-52cc8cef11e2
DTSTART;VALUE=DATE:20260518
DTEND;VALUE=DATE:20260519
DESCRIPTION:
LOCATION:
SUMMARY:EPIC Beach Celebration 5-8
END:VEVENT
BEGIN:VEVENT
DTSTAMP:20260424T173053Z
UID:f3260a82-016c-4da2-8652-00a595ac6364
DTSTART;VALUE=DATE:20260519
DTEND;VALUE=DATE:20260520
DESCRIPTION:
LOCATION:
SUMMARY:EPIC Celebration Prek-4
END:VEVENT
BEGIN:VEVENT
DTSTAMP:20260424T173053Z
UID:d6625d7d-2ab0-414f-9339-de98a4b434d2
DTSTART;VALUE=DATE:20260520
DTEND;VALUE=DATE:20260521
DESCRIPTION:
LOCATION:
SUMMARY:Awards Day
END:VEVENT
BEGIN:VEVENT
DTSTAMP:20260424T173053Z
UID:fb30fd42-5a10-4784-aa5a-bda8a99fdbb0
DTSTART;VALUE=DATE:20260521
DTEND;VALUE=DATE:20260522
DESCRIPTION:
LOCATION:
SUMMARY:Last Day (dismiss at 10:30 am)
END:VEVENT
BEGIN:VEVENT
DTSTAMP:20260424T173053Z
UID:8d8587de-ef48-41a4-a069-270108bf445c
DTSTART;VALUE=DATE:20260521
DTEND;VALUE=DATE:20260522
DESCRIPTION:
LOCATION:
SUMMARY:Last Student Day - Abbreviated Day
END:VEVENT
BEGIN:VEVENT
DTSTAMP:20260424T173053Z
UID:30d1468e-c184-454a-b0e4-bb16303b7f3a
DTSTART:20260601T080000
DTEND:20260601T150000
DESCRIPTION:<a href="https://forms.gle/kXqf654QAdLPJasP8"><b>Click here to 
 register.</b></a>
LOCATION:
SUMMARY:High School Summer School Begins
END:VEVENT
BEGIN:VEVENT
DTSTAMP:20260424T173053Z
UID:69ea2696-8fee-411c-ba3c-657533746025
DTSTART:20260601T080000
DTEND:20260601T150000
DESCRIPTION:<a href="https://www.wcde.org/article/2799053"><b>Click here to
  register.</b></a>
LOCATION:
SUMMARY:Summer Academy Begins
END:VEVENT
BEGIN:VEVENT
DTSTAMP:20260424T173053Z
UID:2b65dea2-af64-4792-9732-e3ee6855b6f3
DTSTART:20260625T080000
DTEND:20260625T150000
DESCRIPTION:
LOCATION:
SUMMARY:Summer Academy Ends
END:VEVENT
BEGIN:VEVENT
DTSTAMP:20260424T173053Z
UID:33adcaa7-e299-4e33-ab8b-7a9d3da63bb9
DTSTART:20260626T080000
DTEND:20260626T150000
DESCRIPTION:
LOCATION:
SUMMARY:High School Summer School Ends
END:VEVENT
BEGIN:VEVENT
DTSTAMP:20260424T173053Z
UID:b1928c93-86c2-445f-8415-04b99766cc51
DTSTART:20260720T083000
DTEND:20260724T140000
DESCRIPTION:<a href="https://www.wcde.org/live-feed#11805634"><b>More Infor
 mation</b></a>
LOCATION:
SUMMARY:AMP
END:VEVENT
BEGIN:VEVENT
DTSTAMP:20260424T173053Z
UID:1371aab0-d56e-46cd-8890-1c0d16a3b928
DTSTART:20260720T083000
DTEND:20260720T140000
DESCRIPTION:<a href="https://www.wcde.org/live-feed#11805634"><b>More Infor
 mation</b></a>
LOCATION:
SUMMARY:AMP
END:VEVENT
BEGIN:VEVENT
DTSTAMP:20260424T173053Z
UID:f5c60274-3ed3-4c42-9775-638c2f915f1c
DTSTART:20260721T083000
DTEND:20260721T140000
DESCRIPTION:<a href="https://www.wcde.org/live-feed#11805634"><b>More Infor
 mation</b></a>
LOCATION:
SUMMARY:AMP
END:VEVENT
BEGIN:VEVENT
DTSTAMP:20260424T173053Z
UID:08fe0cf4-185b-491e-ad1b-98f38577b89c
DTSTART:20260722T083000
DTEND:20260722T140000
DESCRIPTION:<a href="https://www.wcde.org/live-feed#11805634"><b>More Infor
 mation</b></a>
LOCATION:
SUMMARY:AMP
END:VEVENT
BEGIN:VEVENT
DTSTAMP:20260424T173053Z
UID:8ce62eb7-f4b8-4f7e-afbe-f25697e0360b
DTSTART:20260723T083000
DTEND:20260723T140000
DESCRIPTION:<a href="https://www.wcde.org/live-feed#11805634"><b>More Infor
 mation</b></a>
LOCATION:
SUMMARY:AMP
END:VEVENT
BEGIN:VEVENT
DTSTAMP:20260424T173053Z
UID:5510a91e-88f4-4648-ae70-eeec310147ec
DTSTART:20260724T083000
DTEND:20260724T140000
DESCRIPTION:<a href="https://www.wcde.org/live-feed#11805634"><b>More Infor
 mation</b></a>
LOCATION:
SUMMARY:AMP
END:VEVENT
BEGIN:VEVENT
DTSTAMP:20260424T173053Z
UID:e9873121-432e-4f5e-b5a0-fbc2a5952a3a
DTSTART;VALUE=DATE:20260803
DTEND;VALUE=DATE:20260804
DESCRIPTION:
LOCATION:
SUMMARY:First Student Day/Abbreviated Day
END:VEVENT
BEGIN:VEVENT
DTSTAMP:20260424T173053Z
UID:6ec32130-bb92-4912-aeb7-ec2997284edc
DTSTART;VALUE=DATE:20260806
DTEND;VALUE=DATE:20260807
DESCRIPTION:
LOCATION:
SUMMARY:Election Day
END:VEVENT
BEGIN:VEVENT
DTSTAMP:20260424T173053Z
UID:87685ba9-4b97-48c5-9a4b-5689e20b5d08
DTSTART;VALUE=DATE:20260806
DTEND;VALUE=DATE:20260807
DESCRIPTION:
LOCATION:
SUMMARY:Inservice Day - No Students
END:VEVENT
BEGIN:VEVENT
DTSTAMP:20260424T173053Z
UID:94eda73f-2b35-4554-8d89-483f25f631b7
DTSTART;VALUE=DATE:20260907
DTEND;VALUE=DATE:20260908
DESCRIPTION:
LOCATION:
SUMMARY:Labor Day
END:VEVENT
BEGIN:VEVENT
DTSTAMP:20260424T173053Z
UID:b810881e-bd45-47d1-b666-dd2bac328f34
DTSTART;VALUE=DATE:20260907
DTEND;VALUE=DATE:20260908
DESCRIPTION:
LOCATION:
SUMMARY:Vacation Day - No staff or students
END:VEVENT
BEGIN:VEVENT
DTSTAMP:20260424T173053Z
UID:54e63427-72a3-4760-b06a-14785538b978
DTSTART;VALUE=DATE:20261002
DTEND;VALUE=DATE:20261003
DESCRIPTION:
LOCATION:
SUMMARY:Professional Development Day - No Students
END:VEVENT
BEGIN:VEVENT
DTSTAMP:20260424T173053Z
UID:603f7e19-90a5-46e9-a073-4bb4fa098e86
DTSTART;VALUE=DATE:20261005
DTEND;VALUE=DATE:20261010
DESCRIPTION:
LOCATION:
SUMMARY:Fall Break - No staff or students
END:VEVENT
BEGIN:VEVENT
DTSTAMP:20260424T173053Z
UID:7b0105c8-87f3-4d24-a019-36bd76642b4d
DTSTART;VALUE=DATE:20261012
DTEND;VALUE=DATE:20261013
DESCRIPTION:
LOCATION:
SUMMARY:Inservice Day - No Students
END:VEVENT
BEGIN:VEVENT
DTSTAMP:20260424T173053Z
UID:7b6ad67a-0d25-46e1-af06-92adba90d725
DTSTART;VALUE=DATE:20261103
DTEND;VALUE=DATE:20261104
DESCRIPTION:
LOCATION:
SUMMARY:Election Day
END:VEVENT
BEGIN:VEVENT
DTSTAMP:20260424T173053Z
UID:bc93611b-7120-428c-866c-2ab2d8535fac
DTSTART;VALUE=DATE:20261103
DTEND;VALUE=DATE:20261104
DESCRIPTION:
LOCATION:
SUMMARY:Vacation Day -  No staff or students
END:VEVENT
BEGIN:VEVENT
DTSTAMP:20260424T173053Z
UID:765b3ccf-069f-48aa-8814-edfbf1cc1060
DTSTART;VALUE=DATE:20261125
DTEND;VALUE=DATE:20261128
DESCRIPTION:
LOCATION:
SUMMARY:Thanksgiving Break - No staff or students
END:VEVENT
BEGIN:VEVENT
DTSTAMP:20260424T173053Z
UID:e5af824c-a912-412a-a92a-0ed10b4eddd5
DTSTART;VALUE=DATE:20261218
DTEND;VALUE=DATE:20261219
DESCRIPTION:
LOCATION:
SUMMARY:Abbreviated Day
END:VEVENT
BEGIN:VEVENT
DTSTAMP:20260424T173053Z
UID:1af4ce15-1bb8-41b6-971e-493997fc8fc6
DTSTART;VALUE=DATE:20261221
DTEND;VALUE=DATE:20261226
DESCRIPTION:
LOCATION:
SUMMARY:Winter Break - No staff or students
END:VEVENT
BEGIN:VEVENT
DTSTAMP:20260424T173053Z
UID:7709cb40-6500-4262-aeda-0145f339b3de
DTSTART;VALUE=DATE:20261228
DTEND;VALUE=DATE:20270102
DESCRIPTION:
LOCATION:
SUMMARY:Winter Break - No staff or students
END:VEVENT
BEGIN:VEVENT
DTSTAMP:20260424T173053Z
UID:5907f804-f483-4ab0-9b90-4b77ebcc27be
DTSTART;VALUE=DATE:20270104
DTEND;VALUE=DATE:20270105
DESCRIPTION:
LOCATION:
SUMMARY:Professional Development Day - No Students
END:VEVENT
BEGIN:VEVENT
DTSTAMP:20260424T173053Z
UID:a942dafa-25fb-4d35-b752-233b6619708a
DTSTART;VALUE=DATE:20270215
DTEND;VALUE=DATE:20270216
DESCRIPTION:
LOCATION:
SUMMARY:National SRO Day
END:VEVENT
BEGIN:VEVENT
DTSTAMP:20260424T173053Z
UID:713bda03-cba6-4dc4-a108-06509b6a1a90
DTSTART;VALUE=DATE:20280215
DTEND;VALUE=DATE:20280216
DESCRIPTION:
LOCATION:
SUMMARY:National SRO Day
END:VEVENT
BEGIN:VEVENT
DTSTAMP:20260424T173053Z
UID:57dda872-fe6f-4e6b-bb93-6aebd6cd6617
DTSTART;VALUE=DATE:20290215
DTEND;VALUE=DATE:20290216
DESCRIPTION:
LOCATION:
SUMMARY:National SRO Day
END:VEVENT
BEGIN:VEVENT
DTSTAMP:20260424T173053Z
UID:f125e0b1-55f0-48ef-9da4-ae82e2eeb815
DTSTART;VALUE=DATE:20300215
DTEND;VALUE=DATE:20300216
DESCRIPTION:
LOCATION:
SUMMARY:National SRO Day
END:VEVENT
BEGIN:VEVENT
DTSTAMP:20260424T173053Z
UID:78d3e847-3b51-4b9e-9638-738cb84d8636
DTSTART;VALUE=DATE:20310215
DTEND;VALUE=DATE:20310216
DESCRIPTION:
LOCATION:
SUMMARY:National SRO Day
END:VEVENT
BEGIN:VEVENT
DTSTAMP:20260424T173053Z
UID:90faeb31-5dfe-4e81-a273-1e32c2f00057
DTSTART;VALUE=DATE:20320215
DTEND;VALUE=DATE:20320216
DESCRIPTION:
LOCATION:
SUMMARY:National SRO Day
END:VEVENT
BEGIN:VEVENT
DTSTAMP:20260424T173053Z
UID:32d3eeb6-b8fd-4f1e-b29e-2921f26d45ad
DTSTART;VALUE=DATE:20330215
DTEND;VALUE=DATE:20330216
DESCRIPTION:
LOCATION:
SUMMARY:National SRO Day
END:VEVENT
BEGIN:VEVENT
DTSTAMP:20260424T173053Z
UID:ede62a7c-8323-4acb-8171-405ef1e80e21
DTSTART;VALUE=DATE:20340215
DTEND;VALUE=DATE:20340216
DESCRIPTION:
LOCATION:
SUMMARY:National SRO Day
END:VEVENT
BEGIN:VEVENT
DTSTAMP:20260424T173053Z
UID:be987098-9d2e-4065-87b0-f935d1e95efc
DTSTART;VALUE=DATE:20350215
DTEND;VALUE=DATE:20350216
DESCRIPTION:
LOCATION:
SUMMARY:National SRO Day
END:VEVENT
BEGIN:VEVENT
DTSTAMP:20260424T173053Z
UID:500371a5-fdfa-47fd-8ba7-a02880ad6a31
DTSTART;VALUE=DATE:20360215
DTEND;VALUE=DATE:20360216
DESCRIPTION:
LOCATION:
SUMMARY:National SRO Day
END:VEVENT
BEGIN:VEVENT
DTSTAMP:20260424T173053Z
UID:ae20d85f-9fd4-4799-bf1a-d30dc9752383
DTSTART;VALUE=DATE:20370215
DTEND;VALUE=DATE:20370216
DESCRIPTION:
LOCATION:
SUMMARY:National SRO Day
END:VEVENT
BEGIN:VEVENT
DTSTAMP:20260424T173053Z
UID:e46190ba-e755-4c80-9b2c-d3f877decce6
DTSTART;VALUE=DATE:20380215
DTEND;VALUE=DATE:20380216
DESCRIPTION:
LOCATION:
SUMMARY:National SRO Day
END:VEVENT
BEGIN:VEVENT
DTSTAMP:20260424T173053Z
UID:7454daa3-12a5-40bb-b548-d2e25e0e5361
DTSTART;VALUE=DATE:20390215
DTEND;VALUE=DATE:20390216
DESCRIPTION:
LOCATION:
SUMMARY:National SRO Day
END:VEVENT
BEGIN:VEVENT
DTSTAMP:20260424T173053Z
UID:281442b9-5f38-4786-9f46-047d84ba9837
DTSTART;VALUE=DATE:20400215
DTEND;VALUE=DATE:20400216
DESCRIPTION:
LOCATION:
SUMMARY:National SRO Day
END:VEVENT
BEGIN:VEVENT
DTSTAMP:20260424T173053Z
UID:e94d5f3d-354b-4d23-b557-6558a1f08d30
DTSTART;VALUE=DATE:20410215
DTEND;VALUE=DATE:20410216
DESCRIPTION:
LOCATION:
SUMMARY:National SRO Day
END:VEVENT
BEGIN:VEVENT
DTSTAMP:20260424T173053Z
UID:2b1cdfde-036b-468f-b4d6-234fa7a2a22a
DTSTART;VALUE=DATE:20420215
DTEND;VALUE=DATE:20420216
DESCRIPTION:
LOCATION:
SUMMARY:National SRO Day
END:VEVENT
BEGIN:VEVENT
DTSTAMP:20260424T173053Z
UID:64ed1510-0a48-4fd1-97df-e82eb2ad22ee
DTSTART;VALUE=DATE:20430215
DTEND;VALUE=DATE:20430216
DESCRIPTION:
LOCATION:
SUMMARY:National SRO Day
END:VEVENT
BEGIN:VEVENT
DTSTAMP:20260424T173053Z
UID:c4c6320b-643a-4ca4-a8ed-4456c6165dc8
DTSTART;VALUE=DATE:20440215
DTEND;VALUE=DATE:20440216
DESCRIPTION:
LOCATION:
SUMMARY:National SRO Day
END:VEVENT
BEGIN:VEVENT
DTSTAMP:20260424T173053Z
UID:23a9ddbb-2a66-4480-b097-ccc33e911337
DTSTART;VALUE=DATE:20450215
DTEND;VALUE=DATE:20450216
DESCRIPTION:
LOCATION:
SUMMARY:National SRO Day
END:VEVENT
BEGIN:VEVENT
DTSTAMP:20260424T173053Z
UID:5f9fde4e-bb34-4d18-b8e5-fe1b523c7c11
DTSTART;VALUE=DATE:20460215
DTEND;VALUE=DATE:20460216
DESCRIPTION:
LOCATION:
SUMMARY:National SRO Day
END:VEVENT
BEGIN:VEVENT
DTSTAMP:20260424T173053Z
UID:0d0397d4-6772-4033-9161-9e77e2434ef1
DTSTART;VALUE=DATE:20470215
DTEND;VALUE=DATE:20470216
DESCRIPTION:
LOCATION:
SUMMARY:National SRO Day
END:VEVENT
BEGIN:VEVENT
DTSTAMP:20260424T173053Z
UID:36f61b2f-73aa-48bf-afe1-2668b35388a3
DTSTART;VALUE=DATE:20480215
DTEND;VALUE=DATE:20480216
DESCRIPTION:
LOCATION:
SUMMARY:National SRO Day
END:VEVENT
BEGIN:VEVENT
DTSTAMP:20260424T173053Z
UID:d277ba95-8cbb-4818-be45-d47f562687e8
DTSTART;VALUE=DATE:20490215
DTEND;VALUE=DATE:20490216
DESCRIPTION:
LOCATION:
SUMMARY:National SRO Day
END:VEVENT
BEGIN:VEVENT
DTSTAMP:20260424T173053Z
UID:55dcedaa-d0b9-475d-9a5e-2476695617c8
DTSTART;VALUE=DATE:20500215
DTEND;VALUE=DATE:20500216
DESCRIPTION:
LOCATION:
SUMMARY:National SRO Day
END:VEVENT
BEGIN:VEVENT
DTSTAMP:20260424T173053Z
UID:0d95f32e-6eb5-4ef3-a979-5e407000d7e0
DTSTART;VALUE=DATE:20510215
DTEND;VALUE=DATE:20510216
DESCRIPTION:
LOCATION:
SUMMARY:National SRO Day
END:VEVENT
BEGIN:VEVENT
DTSTAMP:20260424T173053Z
UID:d7f641ec-f13d-4318-ae73-14044f09c0f7
DTSTART;VALUE=DATE:20520215
DTEND;VALUE=DATE:20520216
DESCRIPTION:
LOCATION:
SUMMARY:National SRO Day
END:VEVENT
BEGIN:VEVENT
DTSTAMP:20260424T173053Z
UID:d84fbb12-85d2-42a9-a076-0cc95c3c97ff
DTSTART;VALUE=DATE:20530215
DTEND;VALUE=DATE:20530216
DESCRIPTION:
LOCATION:
SUMMARY:National SRO Day
END:VEVENT
BEGIN:VEVENT
DTSTAMP:20260424T173053Z
UID:ec8b4655-ff6a-4874-929a-eca013cb401c
DTSTART;VALUE=DATE:20540215
DTEND;VALUE=DATE:20540216
DESCRIPTION:
LOCATION:
SUMMARY:National SRO Day
END:VEVENT
BEGIN:VEVENT
DTSTAMP:20260424T173053Z
UID:4fec70db-00e3-4da7-a03b-b086a8a30f01
DTSTART;VALUE=DATE:20550215
DTEND;VALUE=DATE:20550216
DESCRIPTION:
LOCATION:
SUMMARY:National SRO Day
END:VEVENT
BEGIN:VEVENT
DTSTAMP:20260424T173053Z
UID:6f89da5a-9012-4828-a640-4a4e28e51d30
DTSTART;VALUE=DATE:20560215
DTEND;VALUE=DATE:20560216
DESCRIPTION:
LOCATION:
SUMMARY:National SRO Day
END:VEVENT
BEGIN:VEVENT
DTSTAMP:20260424T173053Z
UID:422be531-4234-48b8-97f8-12606673426f
DTSTART;VALUE=DATE:20570215
DTEND;VALUE=DATE:20570216
DESCRIPTION:
LOCATION:
SUMMARY:National SRO Day
END:VEVENT
BEGIN:VEVENT
DTSTAMP:20260424T173053Z
UID:eda27c87-a519-4794-b4f9-f6b4965578c6
DTSTART;VALUE=DATE:20580215
DTEND;VALUE=DATE:20580216
DESCRIPTION:
LOCATION:
SUMMARY:National SRO Day
END:VEVENT
BEGIN:VEVENT
DTSTAMP:20260424T173053Z
UID:f3ef3b81-725a-4080-ac4c-a38167c96b2c
DTSTART;VALUE=DATE:20590215
DTEND;VALUE=DATE:20590216
DESCRIPTION:
LOCATION:
SUMMARY:National SRO Day
END:VEVENT
BEGIN:VEVENT
DTSTAMP:20260424T173053Z
UID:30c1735b-d903-43b8-8229-1cdaf98a2958
DTSTART;VALUE=DATE:20600215
DTEND;VALUE=DATE:20600216
DESCRIPTION:
LOCATION:
SUMMARY:National SRO Day
END:VEVENT
BEGIN:VEVENT
DTSTAMP:20260424T173053Z
UID:4508fc66-eb4a-4b9d-929b-9fd52f9576cc
DTSTART;VALUE=DATE:20610215
DTEND;VALUE=DATE:20610216
DESCRIPTION:
LOCATION:
SUMMARY:National SRO Day
END:VEVENT
BEGIN:VEVENT
DTSTAMP:20260424T173053Z
UID:2dc625e2-ff72-4dc6-be1b-92acbbba8c74
DTSTART;VALUE=DATE:20620215
DTEND;VALUE=DATE:20620216
DESCRIPTION:
LOCATION:
SUMMARY:National SRO Day
END:VEVENT
BEGIN:VEVENT
DTSTAMP:20260424T173053Z
UID:a3344197-16a1-49ea-adf1-e8bc03067748
DTSTART;VALUE=DATE:20630215
DTEND;VALUE=DATE:20630216
DESCRIPTION:
LOCATION:
SUMMARY:National SRO Day
END:VEVENT
BEGIN:VEVENT
DTSTAMP:20260424T173053Z
UID:3d3a8c01-e61d-4193-ac33-eef537257d10
DTSTART;VALUE=DATE:20640215
DTEND;VALUE=DATE:20640216
DESCRIPTION:
LOCATION:
SUMMARY:National SRO Day
END:VEVENT
BEGIN:VEVENT
DTSTAMP:20260424T173053Z
UID:c0e52495-ab2d-4fc4-8f76-e39f2532c0ed
DTSTART;VALUE=DATE:20650215
DTEND;VALUE=DATE:20650216
DESCRIPTION:
LOCATION:
SUMMARY:National SRO Day
END:VEVENT
BEGIN:VEVENT
DTSTAMP:20260424T173053Z
UID:d509b72d-d706-4032-8ffa-24b15c9807e9
DTSTART;VALUE=DATE:20660215
DTEND;VALUE=DATE:20660216
DESCRIPTION:
LOCATION:
SUMMARY:National SRO Day
END:VEVENT
BEGIN:VEVENT
DTSTAMP:20260424T173053Z
UID:344d2956-cec2-4b8a-8543-ff97677c3155
DTSTART;VALUE=DATE:20670215
DTEND;VALUE=DATE:20670216
DESCRIPTION:
LOCATION:
SUMMARY:National SRO Day
END:VEVENT
BEGIN:VEVENT
DTSTAMP:20260424T173053Z
UID:66620ccb-7c58-48a5-8062-c208816a4e8e
DTSTART;VALUE=DATE:20680215
DTEND;VALUE=DATE:20680216
DESCRIPTION:
LOCATION:
SUMMARY:National SRO Day
END:VEVENT
BEGIN:VEVENT
DTSTAMP:20260424T173053Z
UID:392589ed-8a98-4d6d-91ff-8a3c799bc782
DTSTART;VALUE=DATE:20690215
DTEND;VALUE=DATE:20690216
DESCRIPTION:
LOCATION:
SUMMARY:National SRO Day
END:VEVENT
BEGIN:VEVENT
DTSTAMP:20260424T173053Z
UID:e1f57bfd-2446-4700-8e8f-2348438ad57f
DTSTART;VALUE=DATE:20700215
DTEND;VALUE=DATE:20700216
DESCRIPTION:
LOCATION:
SUMMARY:National SRO Day
END:VEVENT
BEGIN:VEVENT
DTSTAMP:20260424T173053Z
UID:cd13a0ee-8b53-41ba-9962-1cd4411c5719
DTSTART;VALUE=DATE:20710215
DTEND;VALUE=DATE:20710216
DESCRIPTION:
LOCATION:
SUMMARY:National SRO Day
END:VEVENT
BEGIN:VEVENT
DTSTAMP:20260424T173053Z
UID:8044bae6-2b06-48a3-bf6f-d86b00cc7580
DTSTART;VALUE=DATE:20720215
DTEND;VALUE=DATE:20720216
DESCRIPTION:
LOCATION:
SUMMARY:National SRO Day
END:VEVENT
BEGIN:VEVENT
DTSTAMP:20260424T173053Z
UID:a98a3637-d233-4810-93c6-7038a3a9eb01
DTSTART;VALUE=DATE:20730215
DTEND;VALUE=DATE:20730216
DESCRIPTION:
LOCATION:
SUMMARY:National SRO Day
END:VEVENT
BEGIN:VEVENT
DTSTAMP:20260424T173053Z
UID:05190837-fef3-41d7-ab25-2d88633e7bd4
DTSTART;VALUE=DATE:20740215
DTEND;VALUE=DATE:20740216
DESCRIPTION:
LOCATION:
SUMMARY:National SRO Day
END:VEVENT
BEGIN:VEVENT
DTSTAMP:20260424T173053Z
UID:cabe5b99-7639-409d-a304-90faf9f00c92
DTSTART;VALUE=DATE:20750215
DTEND;VALUE=DATE:20750216
DESCRIPTION:
LOCATION:
SUMMARY:National SRO Day
END:VEVENT
BEGIN:VEVENT
DTSTAMP:20260424T173053Z
UID:b3cf971a-bb9e-45d8-8712-b5ac6760db12
DTSTART;VALUE=DATE:20760215
DTEND;VALUE=DATE:20760216
DESCRIPTION:
LOCATION:
SUMMARY:National SRO Day
END:VEVENT
BEGIN:VEVENT
DTSTAMP:20260424T173053Z
UID:8746833d-8110-4673-9bfc-8cab8c53f23d
DTSTART;VALUE=DATE:20770215
DTEND;VALUE=DATE:20770216
DESCRIPTION:
LOCATION:
SUMMARY:National SRO Day
END:VEVENT
BEGIN:VEVENT
DTSTAMP:20260424T173053Z
UID:906dd9f0-11a3-4d51-b613-0fa73b0454cc
DTSTART;VALUE=DATE:20780215
DTEND;VALUE=DATE:20780216
DESCRIPTION:
LOCATION:
SUMMARY:National SRO Day
END:VEVENT
BEGIN:VEVENT
DTSTAMP:20260424T173053Z
UID:5eb038e5-8482-41ab-85ef-7a9d9727e9f4
DTSTART;VALUE=DATE:20790215
DTEND;VALUE=DATE:20790216
DESCRIPTION:
LOCATION:
SUMMARY:National SRO Day
END:VEVENT
BEGIN:VEVENT
DTSTAMP:20260424T173053Z
UID:83d2f2de-5830-4289-ac3d-88553aea5da0
DTSTART;VALUE=DATE:20800215
DTEND;VALUE=DATE:20800216
DESCRIPTION:
LOCATION:
SUMMARY:National SRO Day
END:VEVENT
BEGIN:VEVENT
DTSTAMP:20260424T173053Z
UID:143a5709-5664-482a-8f69-955d97654da9
DTSTART;VALUE=DATE:20810215
DTEND;VALUE=DATE:20810216
DESCRIPTION:
LOCATION:
SUMMARY:National SRO Day
END:VEVENT
BEGIN:VEVENT
DTSTAMP:20260424T173053Z
UID:1860d936-2f5e-45b1-8cb1-2e4e3c0874ee
DTSTART;VALUE=DATE:20820215
DTEND;VALUE=DATE:20820216
DESCRIPTION:
LOCATION:
SUMMARY:National SRO Day
END:VEVENT
BEGIN:VEVENT
DTSTAMP:20260424T173053Z
UID:068668dd-b80c-4dca-9196-c21bbb068521
DTSTART;VALUE=DATE:20830215
DTEND;VALUE=DATE:20830216
DESCRIPTION:
LOCATION:
SUMMARY:National SRO Day
END:VEVENT
BEGIN:VEVENT
DTSTAMP:20260424T173053Z
UID:d26b8f51-6230-4f1b-8996-d85c0064d580
DTSTART;VALUE=DATE:20840215
DTEND;VALUE=DATE:20840216
DESCRIPTION:
LOCATION:
SUMMARY:National SRO Day
END:VEVENT
BEGIN:VEVENT
DTSTAMP:20260424T173053Z
UID:d2f8a8d2-2f0e-40a9-8b0b-7b246a2ed99a
DTSTART;VALUE=DATE:20850215
DTEND;VALUE=DATE:20850216
DESCRIPTION:
LOCATION:
SUMMARY:National SRO Day
END:VEVENT
BEGIN:VEVENT
DTSTAMP:20260424T173053Z
UID:15f9acdd-520d-4061-8ee9-763fc0bfb803
DTSTART;VALUE=DATE:20860215
DTEND;VALUE=DATE:20860216
DESCRIPTION:
LOCATION:
SUMMARY:National SRO Day
END:VEVENT
BEGIN:VEVENT
DTSTAMP:20260424T173053Z
UID:44b17714-f2a7-4bb0-9fd9-3814fedaea70
DTSTART;VALUE=DATE:20870215
DTEND;VALUE=DATE:20870216
DESCRIPTION:
LOCATION:
SUMMARY:National SRO Day
END:VEVENT
BEGIN:VEVENT
DTSTAMP:20260424T173053Z
UID:f81cbbe7-7112-4fd7-b1b8-4342e504e343
DTSTART;VALUE=DATE:20880215
DTEND;VALUE=DATE:20880216
DESCRIPTION:
LOCATION:
SUMMARY:National SRO Day
END:VEVENT
BEGIN:VEVENT
DTSTAMP:20260424T173053Z
UID:72dc1973-c5cc-4acc-997b-15e2a9356a0b
DTSTART;VALUE=DATE:20890215
DTEND;VALUE=DATE:20890216
DESCRIPTION:
LOCATION:
SUMMARY:National SRO Day
END:VEVENT
BEGIN:VEVENT
DTSTAMP:20260424T173053Z
UID:0452b6b0-dd32-4fe0-8a69-3880ff078b90
DTSTART;VALUE=DATE:20900215
DTEND;VALUE=DATE:20900216
DESCRIPTION:
LOCATION:
SUMMARY:National SRO Day
END:VEVENT
BEGIN:VEVENT
DTSTAMP:20260424T173053Z
UID:0d5dea06-0070-43fd-85e0-606b66d147c6
DTSTART;VALUE=DATE:20910215
DTEND;VALUE=DATE:20910216
DESCRIPTION:
LOCATION:
SUMMARY:National SRO Day
END:VEVENT
BEGIN:VEVENT
DTSTAMP:20260424T173053Z
UID:11b0c496-035e-437c-8713-97cb5ecd3c21
DTSTART;VALUE=DATE:20920215
DTEND;VALUE=DATE:20920216
DESCRIPTION:
LOCATION:
SUMMARY:National SRO Day
END:VEVENT
BEGIN:VEVENT
DTSTAMP:20260424T173053Z
UID:595eeeeb-7f0e-4613-a621-a9cd4d356734
DTSTART;VALUE=DATE:20930215
DTEND;VALUE=DATE:20930216
DESCRIPTION:
LOCATION:
SUMMARY:National SRO Day
END:VEVENT
BEGIN:VEVENT
DTSTAMP:20260424T173053Z
UID:7a935224-6add-423a-8c60-ef6b5ede9c2c
DTSTART;VALUE=DATE:20940215
DTEND;VALUE=DATE:20940216
DESCRIPTION:
LOCATION:
SUMMARY:National SRO Day
END:VEVENT
BEGIN:VEVENT
DTSTAMP:20260424T173053Z
UID:14e85cf8-3a71-4490-875a-f83353562b95
DTSTART;VALUE=DATE:20950215
DTEND;VALUE=DATE:20950216
DESCRIPTION:
LOCATION:
SUMMARY:National SRO Day
END:VEVENT
BEGIN:VEVENT
DTSTAMP:20260424T173053Z
UID:0e1011d6-eb09-4082-b258-fc445e67b4cf
DTSTART;VALUE=DATE:20960215
DTEND;VALUE=DATE:20960216
DESCRIPTION:
LOCATION:
SUMMARY:National SRO Day
END:VEVENT
BEGIN:VEVENT
DTSTAMP:20260424T173053Z
UID:2b65d6ce-74f2-4021-8389-dbcc10cf3a99
DTSTART;VALUE=DATE:20970215
DTEND;VALUE=DATE:20970216
DESCRIPTION:
LOCATION:
SUMMARY:National SRO Day
END:VEVENT
BEGIN:VEVENT
DTSTAMP:20260424T173053Z
UID:8fcd07c3-6318-497f-bbd2-a02ab79029c1
DTSTART;VALUE=DATE:20980215
DTEND;VALUE=DATE:20980216
DESCRIPTION:
LOCATION:
SUMMARY:National SRO Day
END:VEVENT
BEGIN:VEVENT
DTSTAMP:20260424T173053Z
UID:e55bb8e1-2593-4ca6-9da4-d0681a60a998
DTSTART;VALUE=DATE:20990215
DTEND;VALUE=DATE:20990216
DESCRIPTION:
LOCATION:
SUMMARY:National SRO Day
END:VEVENT
END:VCALENDAR
