BEGIN:VCALENDAR
VERSION:2.0
PRODID:icalendar-ruby
CALSCALE:GREGORIAN
BEGIN:VTIMEZONE
TZID:America/New_York
BEGIN:DAYLIGHT
DTSTART:20260308T030000
TZOFFSETFROM:-0500
TZOFFSETTO:-0400
RRULE:FREQ=YEARLY;BYDAY=2SU;BYMONTH=3
TZNAME:EDT
END:DAYLIGHT
BEGIN:STANDARD
DTSTART:20261101T010000
TZOFFSETFROM:-0400
TZOFFSETTO:-0500
RRULE:FREQ=YEARLY;BYDAY=1SU;BYMONTH=11
TZNAME:EST
END:STANDARD
END:VTIMEZONE
BEGIN:VEVENT
DTSTAMP:20260420T143311Z
UID:dcc32fef-644d-4fd2-8990-6625e87c0bf7
DTSTART;VALUE=DATE:20260420
DTEND;VALUE=DATE:20260421
DESCRIPTION:Specific testing dates for Westwood will be set during this win
 dow and shared with parents in a timely manner.
LOCATION:
SUMMARY:Westwood ILEARN Summative Window
END:VEVENT
BEGIN:VEVENT
DTSTAMP:20260420T143311Z
UID:a7078496-bfda-4f23-a116-75f7bfd782a2
DTSTART:20260420T180000
DTEND:20260420T200000
DESCRIPTION:
LOCATION:
SUMMARY:Westwood Skating Party
END:VEVENT
BEGIN:VEVENT
DTSTAMP:20260420T143311Z
UID:90758f39-d7b5-4d27-bb60-e1be093edea4
DTSTART;VALUE=DATE:20260421
DTEND;VALUE=DATE:20260422
DESCRIPTION:Specific testing dates for Westwood will be set during this win
 dow and shared with parents in a timely manner.
LOCATION:
SUMMARY:Westwood ILEARN Summative Window
END:VEVENT
BEGIN:VEVENT
DTSTAMP:20260420T143311Z
UID:0d42c960-83a1-4544-9c4e-a201dba40e5b
DTSTART:20260421T150000
DTEND:20260421T163000
DESCRIPTION:Must have permission slip on file to attend.
LOCATION:
SUMMARY:Westwood - Dive 3rd to 5th Grade
END:VEVENT
BEGIN:VEVENT
DTSTAMP:20260420T143311Z
UID:a8271c0c-2c35-4c37-89ed-eedf42e88fd6
DTSTART;VALUE=DATE:20260422
DTEND;VALUE=DATE:20260423
DESCRIPTION:Specific testing dates for Westwood will be set during this win
 dow and shared with parents in a timely manner.
LOCATION:
SUMMARY:Westwood ILEARN Summative Window
END:VEVENT
BEGIN:VEVENT
DTSTAMP:20260420T143311Z
UID:d904a1c4-5471-4c0e-bdfe-2ced71bd22cc
DTSTART;VALUE=DATE:20260423
DTEND;VALUE=DATE:20260424
DESCRIPTION:Specific testing dates for Westwood will be set during this win
 dow and shared with parents in a timely manner.
LOCATION:
SUMMARY:Westwood ILEARN Summative Window
END:VEVENT
BEGIN:VEVENT
DTSTAMP:20260420T143311Z
UID:701525ef-09b3-4d46-96ca-43857ae722ac
DTSTART;VALUE=DATE:20260424
DTEND;VALUE=DATE:20260425
DESCRIPTION:Specific testing dates for Westwood will be set during this win
 dow and shared with parents in a timely manner.
LOCATION:
SUMMARY:Westwood ILEARN Summative Window
END:VEVENT
BEGIN:VEVENT
DTSTAMP:20260420T143311Z
UID:2f5d2c86-f435-4f48-ad59-bf9b69aef092
DTSTART;VALUE=DATE:20260424
DTEND;VALUE=DATE:20260425
DESCRIPTION:Students can buy popcorn for $1.00
LOCATION:
SUMMARY:Westwood Popcorn Friday
END:VEVENT
BEGIN:VEVENT
DTSTAMP:20260420T143311Z
UID:5c665136-175a-45eb-bcfc-e9170e3d14fb
DTSTART:20260424T094500
DTEND:20260424T141500
DESCRIPTION:
LOCATION:
SUMMARY:Westwood PreK and Kindergarten to Baker Park
END:VEVENT
BEGIN:VEVENT
DTSTAMP:20260420T143311Z
UID:41dcaa19-06c7-4e27-bdc2-f7f54faf5002
DTSTART;VALUE=DATE:20260427
DTEND;VALUE=DATE:20260428
DESCRIPTION:Specific testing dates for Westwood will be set during this win
 dow and shared with parents in a timely manner.
LOCATION:
SUMMARY:Westwood ILEARN Summative Window
END:VEVENT
BEGIN:VEVENT
DTSTAMP:20260420T143311Z
UID:a236d5fa-fbdd-4a26-aaf1-31122649b114
DTSTART;VALUE=DATE:20260428
DTEND;VALUE=DATE:20260429
DESCRIPTION:Specific testing dates for Westwood will be set during this win
 dow and shared with parents in a timely manner.
LOCATION:
SUMMARY:Westwood ILEARN Summative Window
END:VEVENT
BEGIN:VEVENT
DTSTAMP:20260420T143311Z
UID:2a0f2b3d-0d28-4edd-87cc-1a2af702d517
DTSTART;VALUE=DATE:20260428
DTEND;VALUE=DATE:20260429
DESCRIPTION:
LOCATION:
SUMMARY:Westwood PTO Flowers Delivered
END:VEVENT
BEGIN:VEVENT
DTSTAMP:20260420T143311Z
UID:edf3f00e-0f4c-4d8b-a575-5cc23d11799c
DTSTART:20260428T180000
DTEND:20260428T190000
DESCRIPTION:
LOCATION:
SUMMARY:Westwood PTO Meeting
END:VEVENT
BEGIN:VEVENT
DTSTAMP:20260420T143311Z
UID:2ab656cc-43ca-4fbe-b313-6a04ec1e5095
DTSTART;VALUE=DATE:20260429
DTEND;VALUE=DATE:20260430
DESCRIPTION:Specific testing dates for Westwood will be set during this win
 dow and shared with parents in a timely manner.
LOCATION:
SUMMARY:Westwood ILEARN Summative Window
END:VEVENT
BEGIN:VEVENT
DTSTAMP:20260420T143311Z
UID:40f6b55a-42db-4688-8111-b5b689cc800e
DTSTART;VALUE=DATE:20260430
DTEND;VALUE=DATE:20260501
DESCRIPTION:Specific testing dates for Westwood will be set during this win
 dow and shared with parents in a timely manner.
LOCATION:
SUMMARY:Westwood ILEARN Summative Window
END:VEVENT
BEGIN:VEVENT
DTSTAMP:20260420T143311Z
UID:7cf72352-f30a-4661-82c7-0854b8f9ff27
DTSTART;VALUE=DATE:20260501
DTEND;VALUE=DATE:20260502
DESCRIPTION:Specific testing dates for Westwood will be set during this win
 dow and shared with parents in a timely manner.
LOCATION:
SUMMARY:Westwood ILEARN Summative Window
END:VEVENT
BEGIN:VEVENT
DTSTAMP:20260420T143311Z
UID:efabc725-de97-459c-9ca2-27515836841e
DTSTART;VALUE=DATE:20260504
DTEND;VALUE=DATE:20260509
DESCRIPTION:
LOCATION:
SUMMARY:Teacher Appreciation Week
END:VEVENT
BEGIN:VEVENT
DTSTAMP:20260420T143311Z
UID:c0d8aa61-7f78-4d6b-b388-4f338eab6e17
DTSTART;VALUE=DATE:20260504
DTEND;VALUE=DATE:20260505
DESCRIPTION:Specific testing dates for Westwood will be set during this win
 dow and shared with parents in a timely manner.
LOCATION:
SUMMARY:Westwood ILEARN Summative Window
END:VEVENT
BEGIN:VEVENT
DTSTAMP:20260420T143311Z
UID:4c439b5f-1fc7-4654-bbdb-72a00b2fd534
DTSTART;VALUE=DATE:20260505
DTEND;VALUE=DATE:20260506
DESCRIPTION:Specific testing dates for Westwood will be set during this win
 dow and shared with parents in a timely manner.
LOCATION:
SUMMARY:Westwood ILEARN Summative Window
END:VEVENT
BEGIN:VEVENT
DTSTAMP:20260420T143311Z
UID:5e6e6b32-6da7-4231-8b8a-ec702089cdc7
DTSTART;VALUE=DATE:20260506
DTEND;VALUE=DATE:20260507
DESCRIPTION:Specific testing dates for Westwood will be set during this win
 dow and shared with parents in a timely manner.
LOCATION:
SUMMARY:Westwood ILEARN Summative Window
END:VEVENT
BEGIN:VEVENT
DTSTAMP:20260420T143311Z
UID:72cbb733-52af-4cc9-a87b-455626548cf9
DTSTART:20260506T083000
DTEND:20260506T143000
DESCRIPTION:
LOCATION:
SUMMARY:Westwood 1st Grade to Indianapolis Zoo
END:VEVENT
BEGIN:VEVENT
DTSTAMP:20260420T143311Z
UID:9b8fee4e-b747-4f73-996c-6ec28263dd7d
DTSTART;VALUE=DATE:20260507
DTEND;VALUE=DATE:20260508
DESCRIPTION:Specific testing dates for Westwood will be set during this win
 dow and shared with parents in a timely manner.
LOCATION:
SUMMARY:Westwood ILEARN Summative Window
END:VEVENT
BEGIN:VEVENT
DTSTAMP:20260420T143311Z
UID:fe97ebc9-c935-4852-912b-3dbd6f55f7b8
DTSTART:20260507T090000
DTEND:20260507T143000
DESCRIPTION:
LOCATION:
SUMMARY:Westwood 5th Grade to Indians Game
END:VEVENT
BEGIN:VEVENT
DTSTAMP:20260420T143311Z
UID:16f48b45-97be-439d-a42b-6ba194424081
DTSTART;VALUE=DATE:20260508
DTEND;VALUE=DATE:20260509
DESCRIPTION:Specific testing dates for Westwood will be set during this win
 dow and shared with parents in a timely manner.
LOCATION:
SUMMARY:Westwood ILEARN Summative Window
END:VEVENT
BEGIN:VEVENT
DTSTAMP:20260420T143311Z
UID:57fb09bd-1267-4b4c-9610-1693cd338230
DTSTART:20260514T093000
DTEND:20260514T143000
DESCRIPTION:
LOCATION:
SUMMARY:Westwood 5th Grade Track Meet
END:VEVENT
BEGIN:VEVENT
DTSTAMP:20260420T143311Z
UID:110247b4-38f0-4d49-ba0d-3c9bae65a5ff
DTSTART:20260515T083000
DTEND:20260515T104500
DESCRIPTION:
LOCATION:
SUMMARY:Westwood 4th Grade Famous Hoosier Project
END:VEVENT
BEGIN:VEVENT
DTSTAMP:20260420T143311Z
UID:484f4e7a-9598-406f-8e18-061190ace3bc
DTSTART:20260518T180000
DTEND:20260518T190000
DESCRIPTION:
LOCATION:
SUMMARY:Westwood 5th Grade Graduation
END:VEVENT
BEGIN:VEVENT
DTSTAMP:20260420T143311Z
UID:7bef0cb9-b89e-4741-b933-a68eac09e4c3
DTSTART;VALUE=DATE:20260519
DTEND;VALUE=DATE:20260520
DESCRIPTION:Volunteers must have a current background check on file.
LOCATION:
SUMMARY:Westwood Field Day
END:VEVENT
BEGIN:VEVENT
DTSTAMP:20260420T143311Z
UID:0ade872e-a28a-4be1-b4ba-3709b68dfee8
DTSTART:20260519T094000
DTEND:20260519T115000
DESCRIPTION:
LOCATION:
SUMMARY:Westwood PreK Graduation Practice
END:VEVENT
BEGIN:VEVENT
DTSTAMP:20260420T143311Z
UID:d318b733-1f4b-40a8-a412-87a3177f8288
DTSTART:20260520T100000
DTEND:20260520T130000
DESCRIPTION:More information to come from Tonia Haines
LOCATION:
SUMMARY:Westwood PreK Graduation
END:VEVENT
BEGIN:VEVENT
DTSTAMP:20260420T143311Z
UID:6bdb7b3e-9220-413d-ad5c-b1c772c84d2a
DTSTART;VALUE=DATE:20260522
DTEND;VALUE=DATE:20260523
DESCRIPTION:Westwood report cards will be sent home today.
LOCATION:
SUMMARY:End of 4th Quarter
END:VEVENT
BEGIN:VEVENT
DTSTAMP:20260420T143311Z
UID:4d98b41a-e59a-4756-a2a1-fd564bdd20bd
DTSTART;VALUE=DATE:20260522
DTEND;VALUE=DATE:20260523
DESCRIPTION:
LOCATION:
SUMMARY:Westwood Report Cards Sent Home
END:VEVENT
BEGIN:VEVENT
DTSTAMP:20260420T143311Z
UID:4f19fcac-58a9-416c-b727-0b86597a590c
DTSTART:20260522T080000
DTEND:20260522T150000
DESCRIPTION:
LOCATION:
SUMMARY:Last Day of School
END:VEVENT
BEGIN:VEVENT
DTSTAMP:20260420T143311Z
UID:94825a12-ec8e-45d1-8215-c30b9d65b6f3
DTSTART:20260522T130000
DTEND:20260522T140000
DESCRIPTION:
LOCATION:
SUMMARY:Honor Program PreK-4th
END:VEVENT
END:VCALENDAR
