BEGIN:VCALENDAR
VERSION:2.0
PRODID:icalendar-ruby
CALSCALE:GREGORIAN
BEGIN:VTIMEZONE
TZID:America/Chicago
BEGIN:DAYLIGHT
DTSTART:20260308T030000
TZOFFSETFROM:-0600
TZOFFSETTO:-0500
RRULE:FREQ=YEARLY;BYDAY=2SU;BYMONTH=3
TZNAME:CDT
END:DAYLIGHT
BEGIN:STANDARD
DTSTART:20261101T010000
TZOFFSETFROM:-0500
TZOFFSETTO:-0600
RRULE:FREQ=YEARLY;BYDAY=1SU;BYMONTH=11
TZNAME:CST
END:STANDARD
END:VTIMEZONE
BEGIN:VEVENT
DTSTAMP:20260422T100737Z
UID:753d130d-3993-418f-a07e-b280df8fe894
DTSTART;VALUE=DATE:20260422
DTEND;VALUE=DATE:20260423
DESCRIPTION:
LOCATION:
SUMMARY:4th Grade Math STAAR 
END:VEVENT
BEGIN:VEVENT
DTSTAMP:20260422T100737Z
UID:fd3c1478-e128-4ea2-b6d2-4d5365745f2b
DTSTART;VALUE=DATE:20260424
DTEND;VALUE=DATE:20260425
DESCRIPTION:
LOCATION:
SUMMARY:2nd Grade Math CBA
END:VEVENT
BEGIN:VEVENT
DTSTAMP:20260422T100737Z
UID:c4965525-ef7c-491c-81c5-d57b40d6bf88
DTSTART:20260429T174500
DTEND:20260429T190000
DESCRIPTION:
LOCATION:
SUMMARY:3rd Grade Musical
END:VEVENT
BEGIN:VEVENT
DTSTAMP:20260422T100737Z
UID:7ed3cc9c-2167-42dd-803b-05a13613880a
DTSTART;VALUE=DATE:20260501
DTEND;VALUE=DATE:20260502
DESCRIPTION:
LOCATION:
SUMMARY:Field Day
END:VEVENT
BEGIN:VEVENT
DTSTAMP:20260422T100737Z
UID:6f6ed314-0aa9-43ce-b3e6-42e88b53fcdc
DTSTART;VALUE=DATE:20260505
DTEND;VALUE=DATE:20260506
DESCRIPTION:
LOCATION:
SUMMARY:2nd Grade Math AIA
END:VEVENT
BEGIN:VEVENT
DTSTAMP:20260422T100737Z
UID:0dcd8924-b39e-4db8-999c-0626f48a4d30
DTSTART;VALUE=DATE:20260507
DTEND;VALUE=DATE:20260508
DESCRIPTION:
LOCATION:
SUMMARY:2nd Grade RLA AIA
END:VEVENT
BEGIN:VEVENT
DTSTAMP:20260422T100737Z
UID:ccede6bf-b8b1-4b08-abb6-a90536ee07bf
DTSTART;VALUE=DATE:20260514
DTEND;VALUE=DATE:20260515
DESCRIPTION:
LOCATION:
SUMMARY:Progress Report Goes Home
END:VEVENT
BEGIN:VEVENT
DTSTAMP:20260422T100737Z
UID:c951208b-b874-4a6e-b148-af220647a7d5
DTSTART;VALUE=DATE:20260522
DTEND;VALUE=DATE:20260523
DESCRIPTION:
LOCATION:
SUMMARY:2nd Grade Math CBA
END:VEVENT
BEGIN:VEVENT
DTSTAMP:20260422T100737Z
UID:048bdfa3-1b5a-4ae7-9d73-a3cc4e51d73e
DTSTART;VALUE=DATE:20260525
DTEND;VALUE=DATE:20260526
DESCRIPTION:
LOCATION:
SUMMARY:Student/Staff Holiday
END:VEVENT
BEGIN:VEVENT
DTSTAMP:20260422T100737Z
UID:d8e5ae19-00b4-4be5-b8e0-f4945596f5de
DTSTART;VALUE=DATE:20260527
DTEND;VALUE=DATE:20260528
DESCRIPTION:
LOCATION:
SUMMARY:1st-3rd Award Ceremony 
END:VEVENT
BEGIN:VEVENT
DTSTAMP:20260422T100737Z
UID:aac00ffb-64f2-4c00-a711-a659a9614cd3
DTSTART;VALUE=DATE:20260528
DTEND;VALUE=DATE:20260529
DESCRIPTION:
LOCATION:
SUMMARY:Kindergarten/4th Grade Graduations
END:VEVENT
BEGIN:VEVENT
DTSTAMP:20260422T100737Z
UID:484f9d23-c21f-4c50-b7c0-e73c7d0ef62e
DTSTART;VALUE=DATE:20260529
DTEND;VALUE=DATE:20260530
DESCRIPTION:
LOCATION:
SUMMARY:Last Day of School
END:VEVENT
END:VCALENDAR
