BEGIN:VCALENDAR
VERSION:2.0
PRODID:icalendar-ruby
CALSCALE:GREGORIAN
BEGIN:VTIMEZONE
TZID:America/Chicago
BEGIN:DAYLIGHT
DTSTART:20260308T030000
TZOFFSETFROM:-0600
TZOFFSETTO:-0500
RRULE:FREQ=YEARLY;BYDAY=2SU;BYMONTH=3
TZNAME:CDT
END:DAYLIGHT
BEGIN:STANDARD
DTSTART:20261101T010000
TZOFFSETFROM:-0500
TZOFFSETTO:-0600
RRULE:FREQ=YEARLY;BYDAY=1SU;BYMONTH=11
TZNAME:CST
END:STANDARD
END:VTIMEZONE
BEGIN:VEVENT
DTSTAMP:20260426T032526Z
UID:0482e694-ee6c-4f02-8da2-bf17083d6c35
DTSTART:20260425T110000
DTEND:20260425T140000
DESCRIPTION:
LOCATION:
SUMMARY:MCHS FR Baseball @ Evansville North\, IN DH
END:VEVENT
BEGIN:VEVENT
DTSTAMP:20260426T032526Z
UID:b6d94cda-f4a3-4103-83b1-8e3c080659af
DTSTART:20260427T160000
DTEND:20260427T190000
DESCRIPTION:
LOCATION:
SUMMARY:MCHS Men's and Women's Varsity Tennis vs Ballard @ HOME
END:VEVENT
BEGIN:VEVENT
DTSTAMP:20260426T032526Z
UID:6fd5fc67-1ae5-4399-8608-3b650551fa52
DTSTART:20260427T180000
DTEND:20260427T210000
DESCRIPTION:
LOCATION:
SUMMARY:MCHS FR Softball @ Marshall County
END:VEVENT
BEGIN:VEVENT
DTSTAMP:20260426T032526Z
UID:f1290c97-2c6b-4076-a242-dd91f81e9068
DTSTART:20260427T180000
DTEND:20260427T210000
DESCRIPTION:
LOCATION:
SUMMARY:MCHS Varsity/JV Softball Graves County @ HOME\, Baptist Health Fiel
 d
END:VEVENT
BEGIN:VEVENT
DTSTAMP:20260426T032526Z
UID:447dcbf1-375a-4668-9395-7524cec20ed3
DTSTART:20260428T153000
DTEND:20260428T183000
DESCRIPTION:
LOCATION:
SUMMARY:MCHS Men's and Women's Varsity Tennis @ Paducah Tilghman
END:VEVENT
BEGIN:VEVENT
DTSTAMP:20260426T032526Z
UID:6ac11b0c-0709-45c4-9969-68b454cba3a8
DTSTART:20260428T163000
DTEND:20260428T190000
DESCRIPTION:
LOCATION:
SUMMARY:MCHS JV Baseball @ Harrisburg\, IL DH
END:VEVENT
BEGIN:VEVENT
DTSTAMP:20260426T032526Z
UID:0a6ac762-e1bb-41df-8220-b0199aa502a1
DTSTART:20260428T173000
DTEND:20260428T203000
DESCRIPTION:
LOCATION:
SUMMARY:MCHS FR Baseball vs Marshall County DH @ HOME\, Edward Jones Field
END:VEVENT
BEGIN:VEVENT
DTSTAMP:20260426T032526Z
UID:f27725d1-50ea-4c8a-9f33-1e521c5043ab
DTSTART:20260428T180000
DTEND:20260428T203000
DESCRIPTION:
LOCATION:
SUMMARY:MCHS Varsity Baseball @ University Heights Academy
END:VEVENT
BEGIN:VEVENT
DTSTAMP:20260426T032526Z
UID:e8a726b8-76f5-49df-abb2-9d7e637366e5
DTSTART:20260428T180000
DTEND:20260428T210000
DESCRIPTION:
LOCATION:
SUMMARY:MCHS Varsity/JV Softball vs Livingston County @ HOME\, Baptist Heal
 th Field
END:VEVENT
BEGIN:VEVENT
DTSTAMP:20260426T032526Z
UID:c407dc73-b6e0-481c-9368-01a92c5a3647
DTSTART:20260430T173000
DTEND:20260430T203000
DESCRIPTION:
LOCATION:
SUMMARY:MCHS FR Baseball vs Graves County DH @ HOME\, Edward Jones Field
END:VEVENT
BEGIN:VEVENT
DTSTAMP:20260426T032526Z
UID:b2584089-8c97-4322-9774-52b24a2b4177
DTSTART:20260430T173000
DTEND:20260430T213000
DESCRIPTION:
LOCATION:
SUMMARY:MCHS Varsity/JV Baseball @ Calloway County
END:VEVENT
BEGIN:VEVENT
DTSTAMP:20260426T032526Z
UID:3d6d9477-7676-4dd2-9044-9636c2629e69
DTSTART:20260430T180000
DTEND:20260430T210000
DESCRIPTION:
LOCATION:
SUMMARY:MCHS Varsity/JV Softball @ Paducah Tilghman
END:VEVENT
BEGIN:VEVENT
DTSTAMP:20260426T032526Z
UID:2b853153-fb83-4fb3-a567-6da62bebbc21
DTSTART:20260501T170000
DTEND:20260501T190000
DESCRIPTION:
LOCATION:
SUMMARY:MCHS Varsity Baseball vs Graves County @ HOME\, Edward Jones Field
END:VEVENT
BEGIN:VEVENT
DTSTAMP:20260426T032526Z
UID:f6264183-6249-41a3-af6a-6a918438c2e8
DTSTART:20260501T180000
DTEND:20260501T210000
DESCRIPTION:
LOCATION:
SUMMARY:MCHS Varsity/JV Softball @ Madisonville NH
END:VEVENT
BEGIN:VEVENT
DTSTAMP:20260426T032526Z
UID:e621893d-b354-4e87-bce4-9822f966d4ca
DTSTART;VALUE=DATE:20260502
DTEND;VALUE=DATE:20260503
DESCRIPTION:
LOCATION:
SUMMARY:MCHS FR Softball @ Owensboro Catholic Tournament
END:VEVENT
BEGIN:VEVENT
DTSTAMP:20260426T032526Z
UID:2d7b8945-62e1-4adb-979a-bc430f731c98
DTSTART;VALUE=DATE:20260502
DTEND;VALUE=DATE:20260503
DESCRIPTION:
LOCATION:
SUMMARY:MCHS JV Baseball @ Jackson\, MO DH
END:VEVENT
BEGIN:VEVENT
DTSTAMP:20260426T032526Z
UID:a1a4a778-8514-4d4e-84ed-1822cac71dd0
DTSTART;VALUE=DATE:20260502
DTEND;VALUE=DATE:20260503
DESCRIPTION:
LOCATION:
SUMMARY:MCHS Men's and Women's Varsity Tennis vs Daviess/South Warren @ HOM
 E
END:VEVENT
BEGIN:VEVENT
DTSTAMP:20260426T032526Z
UID:30833d39-39fa-4b46-9471-9df2bbe74abb
DTSTART:20260502T100000
DTEND:20260502T140000
DESCRIPTION:
LOCATION:
SUMMARY:MCHS Track and Field @ Area 1 Championships
END:VEVENT
BEGIN:VEVENT
DTSTAMP:20260426T032526Z
UID:84fe369e-2c21-42da-99a0-944cc2e2acf8
DTSTART:20260502T103000
DTEND:20260502T123000
DESCRIPTION:
LOCATION:
SUMMARY:MCHS Varsity Baseball vs Henry Clay @ HOME\, Edward Jones Field
END:VEVENT
BEGIN:VEVENT
DTSTAMP:20260426T032526Z
UID:274d9743-92fa-4023-b441-307b7e19e17b
DTSTART:20260502T110000
DTEND:20260502T140000
DESCRIPTION:
LOCATION:
SUMMARY:MCHS FR Baseball @ Christian County DH 
END:VEVENT
BEGIN:VEVENT
DTSTAMP:20260426T032526Z
UID:d9c3f136-e7ce-4e91-9cb4-c260dafa8cd5
DTSTART:20260502T143000
DTEND:20260502T163000
DESCRIPTION:
LOCATION:
SUMMARY:MCHS Varsity Baseball vs Saint Xavier @ HOME\, Edward Jones Field
END:VEVENT
BEGIN:VEVENT
DTSTAMP:20260426T032526Z
UID:6883e046-df35-4148-8c57-a5be09dee674
DTSTART:20260504T160000
DTEND:20260504T190000
DESCRIPTION:
LOCATION:
SUMMARY:MCHS Men's and Women's Varsity Tennis vs Paducah Lions @ HOME
END:VEVENT
BEGIN:VEVENT
DTSTAMP:20260426T032526Z
UID:ac017c9b-6e46-4803-afb9-346d844192fe
DTSTART:20260504T170000
DTEND:20260504T200000
DESCRIPTION:
LOCATION:
SUMMARY:MCHS FR Baseball @ Hickman County DH
END:VEVENT
BEGIN:VEVENT
DTSTAMP:20260426T032526Z
UID:18ce382c-7764-4d7c-88e1-b6d37329c226
DTSTART:20260504T173000
DTEND:20260504T203000
DESCRIPTION:
LOCATION:
SUMMARY:MCHS Varsity/JV Softball vs Ballard Memorial @ HOME\, Baptist Healt
 h Field
END:VEVENT
BEGIN:VEVENT
DTSTAMP:20260426T032526Z
UID:f3a9b467-51bb-4afb-b2c1-d36e82307b4f
DTSTART:20260504T180000
DTEND:20260504T193000
DESCRIPTION:
LOCATION:
SUMMARY:MCHS JV Baseball vs Christian County @ HOME\, Edward Jones Field
END:VEVENT
BEGIN:VEVENT
DTSTAMP:20260426T032526Z
UID:5862f3f1-27e5-415b-bd93-99fc83fdb28f
DTSTART:20260505T160000
DTEND:20260505T190000
DESCRIPTION:
LOCATION:
SUMMARY:MCHS Men's and Women's Varsity Tennis vs Graves County @ HOME
END:VEVENT
BEGIN:VEVENT
DTSTAMP:20260426T032526Z
UID:8ab74ba5-9ff2-4d47-9afb-4353b9586ad8
DTSTART:20260505T173000
DTEND:20260505T203000
DESCRIPTION:
LOCATION:
SUMMARY:MCHS JV Baseball vs Marshall County DH @ HOME\, Edward Jones Field
END:VEVENT
BEGIN:VEVENT
DTSTAMP:20260426T032526Z
UID:4978f35e-55e5-4b7d-8cd2-af818b9fffbb
DTSTART:20260505T180000
DTEND:20260505T200000
DESCRIPTION:
LOCATION:
SUMMARY:MCHS Varsity Baseball @ St. Mary
END:VEVENT
BEGIN:VEVENT
DTSTAMP:20260426T032526Z
UID:4f8caf90-ffd3-4346-9fab-4ab2d9c6c748
DTSTART:20260507T173000
DTEND:20260507T203000
DESCRIPTION:
LOCATION:
SUMMARY:MCHS FR Softball vs Mayfield DH @ HOME\, Baptist Health Field
END:VEVENT
BEGIN:VEVENT
DTSTAMP:20260426T032526Z
UID:4befc7e8-d1cd-4037-99de-8f9b83c475a8
DTSTART:20260507T180000
DTEND:20260507T200000
DESCRIPTION:
LOCATION:
SUMMARY:MCHS Varsity Baseball vs St. Mary @ HOME\, Edward Jones Field
END:VEVENT
BEGIN:VEVENT
DTSTAMP:20260426T032526Z
UID:62a843c7-ada4-4065-bc21-dd4c8e27b832
DTSTART:20260507T180000
DTEND:20260507T210000
DESCRIPTION:
LOCATION:
SUMMARY:MCHS Varsity/JV Softball @ Graves County
END:VEVENT
BEGIN:VEVENT
DTSTAMP:20260426T032526Z
UID:863865e4-0da9-4f19-8ab9-6c817df3fb73
DTSTART;VALUE=DATE:20260508
DTEND;VALUE=DATE:20260510
DESCRIPTION:
LOCATION:
SUMMARY:MCHS FR Softball @ Meade County Tournament
END:VEVENT
BEGIN:VEVENT
DTSTAMP:20260426T032526Z
UID:33923b44-f942-40bc-8b68-fb10291f41c8
DTSTART;VALUE=DATE:20260508
DTEND;VALUE=DATE:20260510
DESCRIPTION:
LOCATION:
SUMMARY:MCHS Men's and Women's Tennis - Regional Tournament Teams
END:VEVENT
BEGIN:VEVENT
DTSTAMP:20260426T032526Z
UID:ca54b14f-75cb-4b48-8b49-42bacf4d53bd
DTSTART;VALUE=DATE:20260508
DTEND;VALUE=DATE:20260510
DESCRIPTION:
LOCATION:
SUMMARY:MCHS Varsity Softball @ GRC Tournament
END:VEVENT
BEGIN:VEVENT
DTSTAMP:20260426T032526Z
UID:6d02349b-3134-47e6-8b01-527ae062fa24
DTSTART;VALUE=DATE:20260508
DTEND;VALUE=DATE:20260509
DESCRIPTION:
LOCATION:
SUMMARY:SIGNING DAY
END:VEVENT
BEGIN:VEVENT
DTSTAMP:20260426T032526Z
UID:9b7563bb-9f14-4a97-a108-4a6dbe3d4310
DTSTART:20260508T180000
DTEND:20260508T200000
DESCRIPTION:7pm EST
LOCATION:
SUMMARY:MCHS Varsity Baseball @ South Oldham
END:VEVENT
BEGIN:VEVENT
DTSTAMP:20260426T032526Z
UID:e344a53b-553f-428c-8778-76700681f8e0
DTSTART:20260508T183000
DTEND:20260508T203000
DESCRIPTION:
LOCATION:
SUMMARY:MCHS FR Baseball @ Edwardsville\, IL
END:VEVENT
BEGIN:VEVENT
DTSTAMP:20260426T032526Z
UID:02c2e350-893c-4ff5-8271-46863477fe07
DTSTART:20260509T100000
DTEND:20260509T120000
DESCRIPTION:
LOCATION:
SUMMARY:MCHS FR Baseball vs O'Fallon\, IL @ Triad HS
END:VEVENT
BEGIN:VEVENT
DTSTAMP:20260426T032526Z
UID:8080c36e-a826-4e0b-8e66-19a47c4f64d6
DTSTART:20260509T104500
DTEND:20260509T124500
DESCRIPTION:11:45 AM EST
LOCATION:
SUMMARY:MCHS Varsity Baseball vs Dupont Manual @ Trinity
END:VEVENT
BEGIN:VEVENT
DTSTAMP:20260426T032526Z
UID:2149b558-697c-434f-b10e-0eb608d0c803
DTSTART:20260509T110000
DTEND:20260509T130000
DESCRIPTION:
LOCATION:
SUMMARY:MCHS JV Baseball vs Evansville North\, IN @ HOME\, Edward Jones Fie
 ld
END:VEVENT
BEGIN:VEVENT
DTSTAMP:20260426T032526Z
UID:c5cb811f-8853-434a-a03c-0ba43a8bf375
DTSTART:20260509T120000
DTEND:20260509T140000
DESCRIPTION:
LOCATION:
SUMMARY:MCHS FR Baseball @ Triad\, IL
END:VEVENT
BEGIN:VEVENT
DTSTAMP:20260426T032526Z
UID:1878aa43-3024-4ab5-8ff4-f2d18d254986
DTSTART:20260509T130000
DTEND:20260509T150000
DESCRIPTION:2 PM EST
LOCATION:
SUMMARY:MCHS Varsity Baseball @ Trinity
END:VEVENT
BEGIN:VEVENT
DTSTAMP:20260426T032526Z
UID:c8e1c460-9263-4d54-913e-0cb00994112c
DTSTART:20260509T170000
DTEND:20260509T190000
DESCRIPTION:
LOCATION:
SUMMARY:MCHS JV Baseball vs Owensboro Catholic @ HOME\, Edward Jones FIeld
END:VEVENT
BEGIN:VEVENT
DTSTAMP:20260426T032526Z
UID:b1968788-6c9f-4cbf-bfea-b23ef76d33d5
DTSTART;VALUE=DATE:20260511
DTEND;VALUE=DATE:20260515
DESCRIPTION:
LOCATION:
SUMMARY:MCHS Men's and Women's Varsity Tennis - Regional Tournament Individ
 uals
END:VEVENT
BEGIN:VEVENT
DTSTAMP:20260426T032526Z
UID:8122525f-8746-43ed-973f-661a90079de9
DTSTART:20260511T173000
DTEND:20260511T193000
DESCRIPTION:
LOCATION:
SUMMARY:MCHS Varsity Baseball @ CCA
END:VEVENT
BEGIN:VEVENT
DTSTAMP:20260426T032526Z
UID:9de3d91b-9666-479b-8b51-b4859a1c794c
DTSTART:20260511T180000
DTEND:20260511T210000
DESCRIPTION:
LOCATION:
SUMMARY:MCHS Varsity/JV Softball vs Marshall County @ HOME\, Baptist Health
  Field
END:VEVENT
BEGIN:VEVENT
DTSTAMP:20260426T032526Z
UID:049d057f-d9e1-4051-863f-2241a5e86ba8
DTSTART:20260512T173000
DTEND:20260512T193000
DESCRIPTION:
LOCATION:
SUMMARY:MCHS Varsity Baseball @ Christian County
END:VEVENT
BEGIN:VEVENT
DTSTAMP:20260426T032526Z
UID:addcd634-a9c9-416a-abb4-e77f892e253c
DTSTART:20260512T180000
DTEND:20260512T210000
DESCRIPTION:
LOCATION:
SUMMARY:MCHS Varsity DH Softball vs Hickman County @ HOME\, Baptist Health 
 Field
END:VEVENT
BEGIN:VEVENT
DTSTAMP:20260426T032526Z
UID:1266ef6d-36fc-43d5-bf1b-bbbbcfc88571
DTSTART:20260512T190000
DTEND:20260512T210000
DESCRIPTION:
LOCATION:
SUMMARY:MCHS Spring Band Concert
END:VEVENT
BEGIN:VEVENT
DTSTAMP:20260426T032526Z
UID:57731fcb-6bc4-43c5-a953-34ec897ac34a
DTSTART:20260514T173000
DTEND:20260514T213000
DESCRIPTION:
LOCATION:
SUMMARY:MCHS JV/Varsity Baseball vs Marshall County @ HOME\, Edward Jones F
 ield
END:VEVENT
BEGIN:VEVENT
DTSTAMP:20260426T032526Z
UID:98630e9d-9b84-40a2-bf5c-f5f71a245dc8
DTSTART:20260514T180000
DTEND:20260514T210000
DESCRIPTION:
LOCATION:
SUMMARY:MCHS Varsity/JV Softball vs Trigg County @ HOME\, Baptist Health Fi
 eld
END:VEVENT
BEGIN:VEVENT
DTSTAMP:20260426T032526Z
UID:609fc76c-a304-4233-bf02-26353da75308
DTSTART:20260515T173000
DTEND:20260515T203000
DESCRIPTION:
LOCATION:
SUMMARY:MCHS FR Baseball @ Henderson County DH
END:VEVENT
BEGIN:VEVENT
DTSTAMP:20260426T032526Z
UID:02fc2472-8c73-4726-aa61-43f1b7c062d8
DTSTART:20260515T180000
DTEND:20260515T200000
DESCRIPTION:
LOCATION:
SUMMARY:MCHS Varsity Baseball vs University Heights Academy @ HOME\, Edward
  Jones Field
END:VEVENT
BEGIN:VEVENT
DTSTAMP:20260426T032526Z
UID:71267c51-2e99-4d63-962a-aa01291bf090
DTSTART:20260515T180000
DTEND:20260515T193000
DESCRIPTION:
LOCATION:
SUMMARY:MCHS Varsity Softball vs Henderson County @ HOME\, Baptist Health F
 ield
END:VEVENT
BEGIN:VEVENT
DTSTAMP:20260426T032526Z
UID:e90738ed-5420-477d-94be-8121ba119adb
DTSTART:20260516T100000
DTEND:20260516T140000
DESCRIPTION:
LOCATION:
SUMMARY:MCHS Track and Field @ Regional Championships @ Henderson
END:VEVENT
BEGIN:VEVENT
DTSTAMP:20260426T032526Z
UID:02893ff6-b17d-4e68-9971-4ddbc0a3ada0
DTSTART:20260516T110000
DTEND:20260516T123000
DESCRIPTION:
LOCATION:
SUMMARY:MCHS FR Softball vs Muhlenberg County @ HOME\, Baptist Health Field
END:VEVENT
BEGIN:VEVENT
DTSTAMP:20260426T032526Z
UID:727ff515-bf23-4748-b3c6-16050eacba60
DTSTART;VALUE=DATE:20260518
DTEND;VALUE=DATE:20260523
DESCRIPTION:
LOCATION:
SUMMARY:MCHS Softball @ Districts
END:VEVENT
BEGIN:VEVENT
DTSTAMP:20260426T032526Z
UID:cd1a7429-9f71-4f91-afbf-a8b44e9f14ea
DTSTART:20260523T090000
DTEND:20260523T140000
DESCRIPTION:
LOCATION:
SUMMARY:MCHS Track and Field @ KHSAA State Championships @ Lexington
END:VEVENT
BEGIN:VEVENT
DTSTAMP:20260426T032526Z
UID:cdc18823-28ac-4576-92b7-83fab4e8a6b5
DTSTART;VALUE=DATE:20260525
DTEND;VALUE=DATE:20260531
DESCRIPTION:
LOCATION:
SUMMARY:MCHS Softball @ REGIONALS
END:VEVENT
BEGIN:VEVENT
DTSTAMP:20260426T032526Z
UID:64574b99-4072-43e1-8ba2-390a039afc19
DTSTART;VALUE=DATE:20260526
DTEND;VALUE=DATE:20260529
DESCRIPTION:
LOCATION:
SUMMARY:MCHS Men's and Women's Varsity Tennis @ KHSAA State Tournament (Fir
 st Rounds)
END:VEVENT
BEGIN:VEVENT
DTSTAMP:20260426T032526Z
UID:fc8e73fb-b853-46a3-b528-e107c336bc98
DTSTART;VALUE=DATE:20260601
DTEND;VALUE=DATE:20260606
DESCRIPTION:
LOCATION:
SUMMARY:MCHS Men's and Women's Varsity Tennis @ KHSAA State Tournament (Fin
 al Rounds/Team)
END:VEVENT
BEGIN:VEVENT
DTSTAMP:20260426T032526Z
UID:5dbc3346-e781-4345-ac79-cbc61dd4046f
DTSTART;VALUE=DATE:20260606
DTEND;VALUE=DATE:20260607
DESCRIPTION:
LOCATION:
SUMMARY:MCHS Trap @ STATE 
END:VEVENT
END:VCALENDAR
