BEGIN:VCALENDAR
VERSION:2.0
PRODID:icalendar-ruby
CALSCALE:GREGORIAN
BEGIN:VTIMEZONE
TZID:America/Los_Angeles
BEGIN:DAYLIGHT
DTSTART:20260308T030000
TZOFFSETFROM:-0800
TZOFFSETTO:-0700
RRULE:FREQ=YEARLY;BYDAY=2SU;BYMONTH=3
TZNAME:PDT
END:DAYLIGHT
BEGIN:STANDARD
DTSTART:20261101T010000
TZOFFSETFROM:-0700
TZOFFSETTO:-0800
RRULE:FREQ=YEARLY;BYDAY=1SU;BYMONTH=11
TZNAME:PST
END:STANDARD
END:VTIMEZONE
BEGIN:VEVENT
DTSTAMP:20260425T131615Z
UID:d85ee64a-53e5-4a9f-a954-2a9d069c4b44
DTSTART:20260426T173000
DTEND:20260426T183000
DESCRIPTION:
LOCATION:
SUMMARY:Almira PTO Meeting
END:VEVENT
BEGIN:VEVENT
DTSTAMP:20260425T131615Z
UID:14ebc9c2-4881-4721-b049-e541270d41dd
DTSTART:20260429T180000
DTEND:20260429T190000
DESCRIPTION:
LOCATION:
SUMMARY:Almira Board Meeting
END:VEVENT
BEGIN:VEVENT
DTSTAMP:20260425T131615Z
UID:742cb286-573b-4b4f-b73c-22a917afb4ed
DTSTART:20260501T083000
DTEND:20260501T150000
DESCRIPTION:
LOCATION:Coulee City\, WA 99115\, USA
SUMMARY:K-5 Outdoor Education Learning Day
END:VEVENT
BEGIN:VEVENT
DTSTAMP:20260425T131615Z
UID:4e217cdf-dc25-4e27-b1a2-4e55c12a542e
DTSTART:20260504T080000
DTEND:20260508T153000
DESCRIPTION:
LOCATION:Almira Library 
SUMMARY:Almira Book Fair
END:VEVENT
BEGIN:VEVENT
DTSTAMP:20260425T131615Z
UID:4c616647-65fc-44be-b3dc-636db5a84ab9
DTSTART:20260506T120500
DTEND:20260506T150500
DESCRIPTION:
LOCATION:
SUMMARY:Half Day - Staff In-Service
END:VEVENT
BEGIN:VEVENT
DTSTAMP:20260425T131615Z
UID:d38116d4-e7c0-41b1-ac84-9ff6e4c11f97
DTSTART:20260512T183000
DTEND:20260512T193000
DESCRIPTION:
LOCATION:
SUMMARY:Almira Elementary & ACH Middle School Spring Concert
END:VEVENT
BEGIN:VEVENT
DTSTAMP:20260425T131615Z
UID:2552c39f-0ce8-4b57-b62b-81de3b2439c0
DTSTART:20260513T140500
DTEND:20260513T150500
DESCRIPTION:
LOCATION:
SUMMARY:1 Hour Early Release
END:VEVENT
BEGIN:VEVENT
DTSTAMP:20260425T131615Z
UID:71d7e856-8262-49c0-b4f7-4263cf43a2d8
DTSTART;VALUE=DATE:20260515
DTEND;VALUE=DATE:20260516
DESCRIPTION:<p>Time TBA</p>
LOCATION:
SUMMARY:ACH MS Elections for 2026-27
END:VEVENT
BEGIN:VEVENT
DTSTAMP:20260425T131615Z
UID:b078f51b-30f6-44b3-b3db-0c97a6de205f
DTSTART:20260520T170000
DTEND:20260520T180000
DESCRIPTION:
LOCATION:
SUMMARY:Almira CTE Advisory Meeting
END:VEVENT
BEGIN:VEVENT
DTSTAMP:20260425T131615Z
UID:11021037-5b93-4082-afd3-9d5b4a20cd91
DTSTART;VALUE=DATE:20260522
DTEND;VALUE=DATE:20260523
DESCRIPTION:
LOCATION:
SUMMARY:No School - Snow Day #2
END:VEVENT
BEGIN:VEVENT
DTSTAMP:20260425T131615Z
UID:87d6c86b-dfe9-490e-84c6-1f4d94869591
DTSTART;VALUE=DATE:20260525
DTEND;VALUE=DATE:20260526
DESCRIPTION:
LOCATION:
SUMMARY:No School - Memorial Day
END:VEVENT
BEGIN:VEVENT
DTSTAMP:20260425T131615Z
UID:82f54f73-9e8d-4375-9dc5-db2aa26c571b
DTSTART:20260526T080000
DTEND:20260527T150000
DESCRIPTION:
LOCATION:
SUMMARY:5th Grade Camp Delaney
END:VEVENT
BEGIN:VEVENT
DTSTAMP:20260425T131615Z
UID:709b89ee-9eb1-469f-a631-68dcbbb8a85b
DTSTART:20260527T180000
DTEND:20260527T190000
DESCRIPTION:
LOCATION:
SUMMARY:School Board Meeting
END:VEVENT
BEGIN:VEVENT
DTSTAMP:20260425T131615Z
UID:7c58c0b5-68b3-40f4-bbe7-26f6876fa371
DTSTART:20260609T080000
DTEND:20260609T200000
DESCRIPTION:
LOCATION:
SUMMARY:MS Trip to Silverwood
END:VEVENT
BEGIN:VEVENT
DTSTAMP:20260425T131615Z
UID:4eb60603-ee0a-46a5-a229-48db1602e5de
DTSTART:20260611T080000
DTEND:20260611T103000
DESCRIPTION:
LOCATION:
SUMMARY:Last Day of School
END:VEVENT
BEGIN:VEVENT
DTSTAMP:20260425T131615Z
UID:27efdfc6-8938-459b-84b8-6e43e5728204
DTSTART:20260624T180000
DTEND:20260624T190000
DESCRIPTION:
LOCATION:
SUMMARY:School Board Meeting
END:VEVENT
END:VCALENDAR
