BEGIN:VCALENDAR
VERSION:2.0
PRODID:icalendar-ruby
CALSCALE:GREGORIAN
BEGIN:VTIMEZONE
TZID:America/Chicago
BEGIN:DAYLIGHT
DTSTART:20260308T030000
TZOFFSETFROM:-0600
TZOFFSETTO:-0500
RRULE:FREQ=YEARLY;BYDAY=2SU;BYMONTH=3
TZNAME:CDT
END:DAYLIGHT
BEGIN:STANDARD
DTSTART:20261101T010000
TZOFFSETFROM:-0500
TZOFFSETTO:-0600
RRULE:FREQ=YEARLY;BYDAY=1SU;BYMONTH=11
TZNAME:CST
END:STANDARD
END:VTIMEZONE
BEGIN:VEVENT
DTSTAMP:20260425T031014Z
UID:3cdd10bd-b4b2-4e96-9172-191bb7d9bb88
DTSTART;VALUE=DATE:20260424
DTEND;VALUE=DATE:20260425
DESCRIPTION:
LOCATION:
SUMMARY:Student Holiday / Staff Day (Possible Weather Make-Up Day)
END:VEVENT
BEGIN:VEVENT
DTSTAMP:20260425T031014Z
UID:0f669c6a-7009-46e4-8dcc-ac54bbbf7135
DTSTART:20260429T183000
DTEND:20260429T203000
DESCRIPTION:
LOCATION:Dripping Springs High School Auditorium\, 940 U.S. 290\, Dripping 
 Springs\, TX 78620\, USA
SUMMARY:DSISD Jazz Concert - DSHS Auditorium
END:VEVENT
BEGIN:VEVENT
DTSTAMP:20260425T031014Z
UID:2b557c32-02bf-4c1d-b213-85d71343ed8e
DTSTART:20260508T083000
DTEND:20260508T093000
DESCRIPTION:
LOCATION:
SUMMARY:PTA Meeting / Board Meeting Following
END:VEVENT
BEGIN:VEVENT
DTSTAMP:20260425T031014Z
UID:f53209c0-db32-48bd-8c42-4f2b4b6c9116
DTSTART;VALUE=DATE:20260522
DTEND;VALUE=DATE:20260523
DESCRIPTION:
LOCATION:
SUMMARY:Early Release - 1:10 PM (No Lunch)
END:VEVENT
BEGIN:VEVENT
DTSTAMP:20260425T031014Z
UID:e3e97efb-dc0f-4ebf-88a9-3fb77ea66eda
DTSTART;VALUE=DATE:20260522
DTEND;VALUE=DATE:20260523
DESCRIPTION:
LOCATION:
SUMMARY:Last Day of School
END:VEVENT
BEGIN:VEVENT
DTSTAMP:20260425T031014Z
UID:9cd66f2c-b4cf-467e-90df-724acfee34eb
DTSTART;VALUE=DATE:20260525
DTEND;VALUE=DATE:20260526
DESCRIPTION:
LOCATION:
SUMMARY:District Holiday
END:VEVENT
BEGIN:VEVENT
DTSTAMP:20260425T031014Z
UID:540614c9-2b13-446d-85cc-2ed7ce329ca5
DTSTART;VALUE=DATE:20260526
DTEND;VALUE=DATE:20260528
DESCRIPTION:
LOCATION:
SUMMARY:Staff Days
END:VEVENT
END:VCALENDAR
