BEGIN:VCALENDAR
VERSION:2.0
PRODID:icalendar-ruby
CALSCALE:GREGORIAN
BEGIN:VTIMEZONE
TZID:America/New_York
BEGIN:DAYLIGHT
DTSTART:20260308T030000
TZOFFSETFROM:-0500
TZOFFSETTO:-0400
RRULE:FREQ=YEARLY;BYDAY=2SU;BYMONTH=3
TZNAME:EDT
END:DAYLIGHT
BEGIN:STANDARD
DTSTART:20261101T010000
TZOFFSETFROM:-0400
TZOFFSETTO:-0500
RRULE:FREQ=YEARLY;BYDAY=1SU;BYMONTH=11
TZNAME:EST
END:STANDARD
END:VTIMEZONE
BEGIN:VEVENT
DTSTAMP:20260421T092203Z
UID:fafe9573-1a50-4622-ac9a-2bee50d37e05
DTSTART:20260421T171500
DTEND:20260421T191500
DESCRIPTION:
LOCATION:Danville\, OH 43014\, USA
SUMMARY:Varsity Baseball vs Loudonville
END:VEVENT
BEGIN:VEVENT
DTSTAMP:20260421T092203Z
UID:f4712be0-bf8e-413d-a98b-f2a88b06fb47
DTSTART:20260421T171500
DTEND:20260421T191500
DESCRIPTION:
LOCATION:D.A.R.C.I. Field\, 15801-15819 Danville-Jelloway Rd\, Danville\, O
 H 43014\, USA
SUMMARY:Varsity Softball vs Loudonville
END:VEVENT
BEGIN:VEVENT
DTSTAMP:20260421T092203Z
UID:f8a209b5-f1da-4c31-b085-94e831e70ef0
DTSTART:20260422T163000
DTEND:20260422T203000
DESCRIPTION:
LOCATION:Cardington-Lincoln High School\, 349 Chesterville Ave\, Cardington
 \, OH 43315\, USA
SUMMARY:JH Track @ Cardington
END:VEVENT
BEGIN:VEVENT
DTSTAMP:20260421T092203Z
UID:8750ec04-64ee-4db8-a170-50332e530e63
DTSTART:20260422T163000
DTEND:20260422T203000
DESCRIPTION:
LOCATION:East Knox High School\, 23227 Coshocton Ave\, Howard\, OH 43028\, 
 USA
SUMMARY:Varsity Track @ East Knox
END:VEVENT
BEGIN:VEVENT
DTSTAMP:20260421T092203Z
UID:7c853563-e22c-42cc-9ca1-56b30b380d23
DTSTART:20260422T171500
DTEND:20260422T191500
DESCRIPTION:
LOCATION:Loudonville High School\, 421 Campus Ave\, Loudonville\, OH 44842\
 , USA
SUMMARY:Varsity Baseball @ Loudonville
END:VEVENT
BEGIN:VEVENT
DTSTAMP:20260421T092203Z
UID:1ce4f3cc-8d66-4998-9434-6c86d1616fd7
DTSTART:20260422T171500
DTEND:20260422T191500
DESCRIPTION:
LOCATION:Loudonville High School\, 421 Campus Ave\, Loudonville\, OH 44842\
 , USA
SUMMARY:Varsity Softball @ Loudonville
END:VEVENT
BEGIN:VEVENT
DTSTAMP:20260421T092203Z
UID:e1352679-ced8-4dcd-90c6-e396f720d508
DTSTART:20260423T170000
DTEND:20260423T190000
DESCRIPTION:
LOCATION:Utica\, OH 43080\, USA
SUMMARY:Varsity Baseball @ Utica 
END:VEVENT
BEGIN:VEVENT
DTSTAMP:20260421T092203Z
UID:9473fa5d-a25e-4b8a-b81d-84396d633275
DTSTART:20260424T163000
DTEND:20260424T203000
DESCRIPTION:
LOCATION:Loudonville High School\, 421 Campus Ave\, Loudonville\, OH 44842\
 , USA
SUMMARY:JH Track @ Loudonville 
END:VEVENT
BEGIN:VEVENT
DTSTAMP:20260421T092203Z
UID:82d63c76-3b90-4339-b615-aea1b7c9c2e0
DTSTART:20260424T163000
DTEND:20260424T203000
DESCRIPTION:
LOCATION:Newcomerstown High School\, 1 Woody Hayes Dr\, Newcomerstown\, OH 
 43832\, USA
SUMMARY:Varsity Track @ Newcomerstown
END:VEVENT
BEGIN:VEVENT
DTSTAMP:20260421T092203Z
UID:be8b64dc-4ce6-4f11-bb28-b399ba23b0c3
DTSTART:20260424T171500
DTEND:20260424T191500
DESCRIPTION:
LOCATION:Danville\, OH 43014\, USA
SUMMARY:Varsity Baseball vs Millersport
END:VEVENT
BEGIN:VEVENT
DTSTAMP:20260421T092203Z
UID:94024584-aeab-4b6f-8408-6cb5c47a97b0
DTSTART:20260424T171500
DTEND:20260424T191500
DESCRIPTION:
LOCATION:D.A.R.C.I. Field\, 15801-15819 Danville-Jelloway Rd\, Danville\, O
 H 43014\, USA
SUMMARY:Varsity Softball vs Sheridan
END:VEVENT
BEGIN:VEVENT
DTSTAMP:20260421T092203Z
UID:ed62bd46-eb46-4230-a31e-6928460a263b
DTSTART:20260425T190000
DTEND:20260425T220000
DESCRIPTION:
LOCATION:112 E High St\, Mt Vernon\, OH 43050\, USA
SUMMARY:Prom 
END:VEVENT
BEGIN:VEVENT
DTSTAMP:20260421T092203Z
UID:c86ed2ec-2421-486a-aa6e-00854627b97b
DTSTART:20260428T163000
DTEND:20260428T203000
DESCRIPTION:
LOCATION:Danville\, OH 43014\, USA
SUMMARY:Varsity Track vs EK\, Utica\, GCA
END:VEVENT
BEGIN:VEVENT
DTSTAMP:20260421T092203Z
UID:1a4b7c44-2a50-4b00-bece-f3790e639f02
DTSTART:20260428T171500
DTEND:20260428T191500
DESCRIPTION:
LOCATION:Fredericktown High School\, 111 Stadium Dr\, Fredericktown\, OH 43
 019\, USA
SUMMARY:Varsity Baseball @ Fredericktown
END:VEVENT
BEGIN:VEVENT
DTSTAMP:20260421T092203Z
UID:e9d3192a-f26e-44d5-82ee-e66705b2162a
DTSTART:20260428T171500
DTEND:20260428T191500
DESCRIPTION:
LOCATION:Fredericktown High School\, 111 Stadium Dr\, Fredericktown\, OH 43
 019\, USA
SUMMARY:Varsity Softball @ Fredericktown
END:VEVENT
BEGIN:VEVENT
DTSTAMP:20260421T092203Z
UID:ff480ec3-b270-44e2-879e-b7c578a8b84b
DTSTART:20260429T171500
DTEND:20260429T191500
DESCRIPTION:
LOCATION:Danville\, OH 43014\, USA
SUMMARY:Varsity Baseball vs Fredericktown
END:VEVENT
BEGIN:VEVENT
DTSTAMP:20260421T092203Z
UID:15edb428-c8bf-480e-b01c-b7a4ba8da285
DTSTART:20260429T171500
DTEND:20260429T191500
DESCRIPTION:
LOCATION:D.A.R.C.I. Field\, 15801-15819 Danville-Jelloway Rd\, Danville\, O
 H 43014\, USA
SUMMARY:Varsity Softball vs Fredericktown
END:VEVENT
BEGIN:VEVENT
DTSTAMP:20260421T092203Z
UID:d1c98da5-ff7b-4827-80fc-e1ba34f6f472
DTSTART:20260430T174500
DTEND:20260430T194500
DESCRIPTION:<p>Auditorium</p>
LOCATION:10 W Rambo St\, Danville\, OH 43014\, USA
SUMMARY:End of Year Band Concert
END:VEVENT
BEGIN:VEVENT
DTSTAMP:20260421T092203Z
UID:7928a6e9-ab48-4041-b0b2-ae0fa4ed1971
DTSTART:20260501T160000
DTEND:20260501T200000
DESCRIPTION:
LOCATION:Smithville High School\, 200 Smithie Dr\, Smithville\, OH 44677\, 
 USA
SUMMARY:Varsity Track @ Smithville
END:VEVENT
BEGIN:VEVENT
DTSTAMP:20260421T092203Z
UID:ea3a0fda-4f77-403f-8626-dc8797e4efe4
DTSTART:20260501T170000
DTEND:20260501T190000
DESCRIPTION:
LOCATION:West Muskingum High School\, 150 Kimes Rd\, Zanesville\, OH 43701\
 , USA
SUMMARY:Varsity Softball @ West Muskingum
END:VEVENT
BEGIN:VEVENT
DTSTAMP:20260421T092203Z
UID:1f42fa05-76f2-423c-8f4c-9236285810ff
DTSTART:20260502T094500
DTEND:20260502T144500
DESCRIPTION:
LOCATION:Millersport Junior/Senior High School\, 11850 Lancaster St\, Mille
 rsport\, OH 43046\, USA
SUMMARY:JH Track @ Millersport
END:VEVENT
BEGIN:VEVENT
DTSTAMP:20260421T092203Z
UID:ecb416ad-af5e-4330-9cb5-591ae4beb172
DTSTART:20260502T120000
DTEND:20260502T140000
DESCRIPTION:
LOCATION:Danville\, OH 43014\, USA
SUMMARY:Varsity Baseball vs Genoa Christian Academy
END:VEVENT
BEGIN:VEVENT
DTSTAMP:20260421T092203Z
UID:cc120a34-b634-4731-8afe-96e0e71ca645
DTSTART:20260503T180000
DTEND:20260503T200000
DESCRIPTION:
LOCATION:Danville High School\, 10 W Rambo St\, Danville\, OH 43014\, USA
SUMMARY:FFA Banquet
END:VEVENT
BEGIN:VEVENT
DTSTAMP:20260421T092203Z
UID:b993a23a-d13c-44b1-871a-25448f6c6275
DTSTART:20260504T163000
DTEND:20260504T203000
DESCRIPTION:
LOCATION:Centerburg High School\, 3782 Columbus Rd\, Centerburg\, OH 43011\
 , USA
SUMMARY:Varsity Track @ Centerburg
END:VEVENT
BEGIN:VEVENT
DTSTAMP:20260421T092203Z
UID:209b7fcc-e5ab-4e34-8fcd-2af37ff61ef9
DTSTART:20260505T163000
DTEND:20260505T203000
DESCRIPTION:
LOCATION:Danville\, OH 43014\, USA
SUMMARY:JH Track vs Utica/EK/Granville Christian
END:VEVENT
BEGIN:VEVENT
DTSTAMP:20260421T092203Z
UID:941394df-9faf-47e3-a2d8-04092edb3d7b
DTSTART:20260505T171500
DTEND:20260505T191500
DESCRIPTION:
LOCATION:Cardington-Lincoln High School\, 349 Chesterville Ave\, Cardington
 \, OH 43315\, USA
SUMMARY:Varsity Baseball @ Cardington
END:VEVENT
BEGIN:VEVENT
DTSTAMP:20260421T092203Z
UID:4cad3fdd-f41c-459d-9674-5d1cf38c0e48
DTSTART:20260505T171500
DTEND:20260505T191500
DESCRIPTION:
LOCATION:Cardington-Lincoln High School\, 349 Chesterville Ave\, Cardington
 \, OH 43315\, USA
SUMMARY:Varsity Softball @ Cardington
END:VEVENT
BEGIN:VEVENT
DTSTAMP:20260421T092203Z
UID:ff898be1-4026-414b-a98c-7ff6b255c38f
DTSTART:20260505T180000
DTEND:20260505T193000
DESCRIPTION:
LOCATION:Auditorium
SUMMARY:Knox County Quality Assurance
END:VEVENT
BEGIN:VEVENT
DTSTAMP:20260421T092203Z
UID:c0d41cb5-8a29-453d-ae16-16e18c6171c7
DTSTART:20260506T171500
DTEND:20260506T191500
DESCRIPTION:
LOCATION:Danville\, OH 43014\, USA
SUMMARY:Varsity Baseball vs Cardington
END:VEVENT
BEGIN:VEVENT
DTSTAMP:20260421T092203Z
UID:27a7b547-c22c-47f1-a8eb-a9b8613947ac
DTSTART:20260506T171500
DTEND:20260506T191500
DESCRIPTION:
LOCATION:D.A.R.C.I. Field\, 15801-15819 Danville-Jelloway Rd\, Danville\, O
 H 43014\, USA
SUMMARY:Varsity Softball vs Cardington
END:VEVENT
BEGIN:VEVENT
DTSTAMP:20260421T092203Z
UID:cfb76df1-b0be-4d85-9156-fe984f058ece
DTSTART:20260507T183000
DTEND:20260507T193000
DESCRIPTION:
LOCATION:Danville High School\, 10 W Rambo St\, Danville\, OH 43014\, USA
SUMMARY:Spring Choir Concert
END:VEVENT
BEGIN:VEVENT
DTSTAMP:20260421T092203Z
UID:98d57aa0-8aa6-4f43-a6f5-20e91119ffae
DTSTART;VALUE=DATE:20260508
DTEND;VALUE=DATE:20260509
DESCRIPTION:
LOCATION:
SUMMARY:Day of Service
END:VEVENT
BEGIN:VEVENT
DTSTAMP:20260421T092203Z
UID:de08a17e-01e8-4e0d-b1ca-004271d11aa1
DTSTART:20260508T163000
DTEND:20260508T203000
DESCRIPTION:
LOCATION:Loudonville High School\, 421 Campus Ave\, Loudonville\, OH 44842\
 , USA
SUMMARY:JH Track @ Loudonville - KMAC
END:VEVENT
BEGIN:VEVENT
DTSTAMP:20260421T092203Z
UID:87c8350a-5988-4de9-8f77-94e03e07e8fb
DTSTART:20260508T190000
DTEND:20260508T210000
DESCRIPTION:
LOCATION:Lake Park Campground\, 23253 OH-83\, Coshocton\, OH 43812\, USA
SUMMARY:Varsity Baseball @ Coshocton
END:VEVENT
BEGIN:VEVENT
DTSTAMP:20260421T092203Z
UID:754e010c-4fb6-4089-852c-6fb260eb170b
DTSTART:20260509T110000
DTEND:20260509T150000
DESCRIPTION:
LOCATION:Danville\, OH 43014\, USA
SUMMARY:Varsity Baseball vs Lucas (DH)
END:VEVENT
BEGIN:VEVENT
DTSTAMP:20260421T092203Z
UID:8d8b2a0b-cfea-4d43-8f2b-48981b874907
DTSTART:20260509T120000
DTEND:20260509T140000
DESCRIPTION:
LOCATION:D.A.R.C.I. Field\, 15801-15819 Danville-Jelloway Rd\, Danville\, O
 H 43014\, USA
SUMMARY:Varsity Softball vs Licking Valley
END:VEVENT
BEGIN:VEVENT
DTSTAMP:20260421T092203Z
UID:e411f3ff-0ad3-45ad-8ca8-a85816b5a35d
DTSTART:20260512T163000
DTEND:20260512T203000
DESCRIPTION:
LOCATION:Mount Gilead High School\, 338 Park Ave\, Mt Gilead\, OH 43338\, U
 SA
SUMMARY:Varsity Track @ Mt. Gilead - KMAC
END:VEVENT
BEGIN:VEVENT
DTSTAMP:20260421T092203Z
UID:c494666e-d8e6-4cc2-a863-200635cde49f
DTSTART:20260512T171500
DTEND:20260512T191500
DESCRIPTION:
LOCATION:Danville\, OH 43014\, USA
SUMMARY:Varsity Baseball vs East Knox
END:VEVENT
BEGIN:VEVENT
DTSTAMP:20260421T092203Z
UID:cb7ea02a-d713-4a4b-9f9c-af3d79293b65
DTSTART:20260513T171500
DTEND:20260513T191500
DESCRIPTION:
LOCATION:East Knox High School\, 23227 Coshocton Ave\, Howard\, OH 43028\, 
 USA
SUMMARY:Varsity Baseball @ East Knox
END:VEVENT
BEGIN:VEVENT
DTSTAMP:20260421T092203Z
UID:d2c8106b-d669-44de-bfc2-2e54ce17d546
DTSTART:20260514T190000
DTEND:20260514T210000
DESCRIPTION:
LOCATION:St Lukes Center
SUMMARY:Academic Awards Banquet
END:VEVENT
BEGIN:VEVENT
DTSTAMP:20260421T092203Z
UID:2f93b909-147a-4c16-8468-51d0a9125d52
DTSTART;VALUE=DATE:20260517
DTEND;VALUE=DATE:20260518
DESCRIPTION:
LOCATION:
SUMMARY:Graduation 
END:VEVENT
BEGIN:VEVENT
DTSTAMP:20260421T092203Z
UID:677e837f-9669-499f-9d53-36292e49cb31
DTSTART:20260518T180000
DTEND:20260518T193000
DESCRIPTION:
LOCATION:203 S Richards St\, Danville\, OH 43014\, USA
SUMMARY:Board Meeting 
END:VEVENT
BEGIN:VEVENT
DTSTAMP:20260421T092203Z
UID:1137881b-417d-4ee2-9221-d6478ac5712e
DTSTART:20260518T180000
DTEND:20260518T190000
DESCRIPTION:<p><span>Any student entering grades 7-12 next school year part
 icipating in cheer\, cross country\, volleyball\, marching band\, or footb
 all needs to attend with a parent. The meeting will start in the HS Audito
 rium.</span></p>
LOCATION:High School Auditorium
SUMMARY:Fall Parent/Athlete Sports Meeting
END:VEVENT
BEGIN:VEVENT
DTSTAMP:20260421T092203Z
UID:6a3abbd9-1698-4e97-871e-03a85b8a39a3
DTSTART:20260519T180000
DTEND:20260519T190000
DESCRIPTION:
LOCATION:Danville Elementary & Jr High\, 205 W Rambo St\, Danville\, OH 430
 14\, USA
SUMMARY:6th Grade Commencement
END:VEVENT
BEGIN:VEVENT
DTSTAMP:20260421T092203Z
UID:06c90123-740e-4809-af79-78438a751ef8
DTSTART;VALUE=DATE:20260520
DTEND;VALUE=DATE:20260521
DESCRIPTION:
LOCATION:
SUMMARY:Last day of 4th quarter
END:VEVENT
BEGIN:VEVENT
DTSTAMP:20260421T092203Z
UID:c527904a-e58b-45ee-a277-3d63c081bc57
DTSTART;VALUE=DATE:20260521
DTEND;VALUE=DATE:20260522
DESCRIPTION:
LOCATION:
SUMMARY:Teacher Work Day 
END:VEVENT
BEGIN:VEVENT
DTSTAMP:20260421T092203Z
UID:5ebdb9bb-c097-4991-a40f-3c5ec5bf3fd4
DTSTART:20260615T180000
DTEND:20260615T193000
DESCRIPTION:
LOCATION:203 S Richards St\, Danville\, OH 43014\, USA
SUMMARY:Board Meeting
END:VEVENT
BEGIN:VEVENT
DTSTAMP:20260421T092203Z
UID:446e9901-c3d6-4544-9659-ba4b8beb82ef
DTSTART:20260720T180000
DTEND:20260720T193000
DESCRIPTION:
LOCATION:203 S Richards St\, Danville\, OH 43014\, USA
SUMMARY:Board Meeting
END:VEVENT
BEGIN:VEVENT
DTSTAMP:20260421T092203Z
UID:d0b26d06-cb89-49dd-a3b0-eb358fbe5bda
DTSTART:20260810T080000
DTEND:20260814T180000
DESCRIPTION:
LOCATION:EMS Gym
SUMMARY:Band Camp
END:VEVENT
BEGIN:VEVENT
DTSTAMP:20260421T092203Z
UID:efb9d159-a776-4437-babc-93f898fe9e68
DTSTART:20260812T073000
DTEND:20260812T150000
DESCRIPTION:
LOCATION:
SUMMARY:Teacher Work Day
END:VEVENT
BEGIN:VEVENT
DTSTAMP:20260421T092203Z
UID:9914d95b-d3d6-4da3-848f-3b245cdd9f5f
DTSTART:20260813T073000
DTEND:20260813T150000
DESCRIPTION:
LOCATION:
SUMMARY:Teacher Work Day 
END:VEVENT
BEGIN:VEVENT
DTSTAMP:20260421T092203Z
UID:e3e5ddda-a495-4a8d-aeac-dd7245300fa2
DTSTART:20260813T170000
DTEND:20260813T183000
DESCRIPTION:
LOCATION:
SUMMARY:Open House
END:VEVENT
BEGIN:VEVENT
DTSTAMP:20260421T092203Z
UID:ce9e204a-dad5-4064-82c1-eb0e148b5717
DTSTART:20260814T073000
DTEND:20260814T150000
DESCRIPTION:
LOCATION:
SUMMARY:Teacher Work Day 
END:VEVENT
BEGIN:VEVENT
DTSTAMP:20260421T092203Z
UID:c77e3aa6-5dac-4eb5-a696-7da47270df41
DTSTART;VALUE=DATE:20260817
DTEND;VALUE=DATE:20260818
DESCRIPTION:
LOCATION:
SUMMARY:First day of Q1
END:VEVENT
BEGIN:VEVENT
DTSTAMP:20260421T092203Z
UID:7f57c51b-0c0f-45cc-8dc7-7ab650731dfa
DTSTART:20260817T180000
DTEND:20260817T193000
DESCRIPTION:
LOCATION:203 S Richards St\, Danville\, OH 43014\, USA
SUMMARY:Board Meeting
END:VEVENT
BEGIN:VEVENT
DTSTAMP:20260421T092203Z
UID:0964aee9-2446-4b55-8c6f-1557d896014f
DTSTART;VALUE=DATE:20260907
DTEND;VALUE=DATE:20260908
DESCRIPTION:
LOCATION:
SUMMARY:Labor Day-NO SCHOOL
END:VEVENT
BEGIN:VEVENT
DTSTAMP:20260421T092203Z
UID:791d1e64-eb46-4ce9-8c98-8d5a89ca0aa1
DTSTART:20260921T180000
DTEND:20260921T193000
DESCRIPTION:
LOCATION:203 S Richards St\, Danville\, OH 43014\, USA
SUMMARY:Board Meeting
END:VEVENT
BEGIN:VEVENT
DTSTAMP:20260421T092203Z
UID:b01c5f92-7ccd-4782-9780-d47f835fbecf
DTSTART;VALUE=DATE:20261016
DTEND;VALUE=DATE:20261017
DESCRIPTION:
LOCATION:
SUMMARY:End of Q1 
END:VEVENT
BEGIN:VEVENT
DTSTAMP:20260421T092203Z
UID:7d49d5c0-01c5-4656-a9a4-9608a8504ccf
DTSTART;VALUE=DATE:20261019
DTEND;VALUE=DATE:20261020
DESCRIPTION:
LOCATION:
SUMMARY:First day of Q2
END:VEVENT
BEGIN:VEVENT
DTSTAMP:20260421T092203Z
UID:3b0091f2-7a04-4f36-b5cf-09a1a9af4107
DTSTART:20261019T180000
DTEND:20261019T193000
DESCRIPTION:
LOCATION:203 S Richards St\, Danville\, OH 43014\, USA
SUMMARY:Board Meeting
END:VEVENT
BEGIN:VEVENT
DTSTAMP:20260421T092203Z
UID:a938f03c-77a0-4243-9e5e-f2490024f148
DTSTART;VALUE=DATE:20261023
DTEND;VALUE=DATE:20261024
DESCRIPTION:
LOCATION:
SUMMARY:No School
END:VEVENT
BEGIN:VEVENT
DTSTAMP:20260421T092203Z
UID:979322ea-4754-40e4-b086-23d808901bce
DTSTART:20261114T140000
DTEND:20261114T160000
DESCRIPTION:Two showings. 2:00 PM and 7:00 PM
LOCATION:Auditorium
SUMMARY:Fall Production (2 Shows)
END:VEVENT
BEGIN:VEVENT
DTSTAMP:20260421T092203Z
UID:cd02f4d0-95a9-4e18-8f65-bc9bea3b6de3
DTSTART:20261116T180000
DTEND:20261116T193000
DESCRIPTION:
LOCATION:203 S Richards St\, Danville\, OH 43014\, USA
SUMMARY:Board Meeting
END:VEVENT
BEGIN:VEVENT
DTSTAMP:20260421T092203Z
UID:cbd8af27-45d5-40ac-ac0e-669eac11e191
DTSTART;VALUE=DATE:20261125
DTEND;VALUE=DATE:20261128
DESCRIPTION:
LOCATION:
SUMMARY:Thanksgiving Break
END:VEVENT
BEGIN:VEVENT
DTSTAMP:20260421T092203Z
UID:d569f100-6aad-4a6d-835d-4f597d20f0df
DTSTART;VALUE=DATE:20261130
DTEND;VALUE=DATE:20261201
DESCRIPTION:
LOCATION:
SUMMARY:Conference Comp Day-No School
END:VEVENT
BEGIN:VEVENT
DTSTAMP:20260421T092203Z
UID:5e541c8a-6076-497f-a729-6f3a40413701
DTSTART;VALUE=DATE:20261201
DTEND;VALUE=DATE:20261202
DESCRIPTION:
LOCATION:
SUMMARY:Classes Resume
END:VEVENT
BEGIN:VEVENT
DTSTAMP:20260421T092203Z
UID:7046107c-3517-48ed-9977-57ebefb4a226
DTSTART;VALUE=DATE:20261218
DTEND;VALUE=DATE:20261219
DESCRIPTION:
LOCATION:
SUMMARY:End of Q2
END:VEVENT
BEGIN:VEVENT
DTSTAMP:20260421T092203Z
UID:831069c5-b827-404c-9a8e-512745c5a74f
DTSTART;VALUE=DATE:20261221
DTEND;VALUE=DATE:20261226
DESCRIPTION:
LOCATION:
SUMMARY:Winter Break
END:VEVENT
BEGIN:VEVENT
DTSTAMP:20260421T092203Z
UID:964c8bf0-7310-4cf4-8f28-11cbbac095cc
DTSTART:20261221T180000
DTEND:20261221T193000
DESCRIPTION:
LOCATION:203 S Richards St\, Danville\, OH 43014\, USA
SUMMARY:Board Meeting
END:VEVENT
BEGIN:VEVENT
DTSTAMP:20260421T092203Z
UID:02860ffc-ddb5-49fc-a543-3a38597609f0
DTSTART;VALUE=DATE:20261228
DTEND;VALUE=DATE:20270102
DESCRIPTION:
LOCATION:
SUMMARY:Winter Break
END:VEVENT
BEGIN:VEVENT
DTSTAMP:20260421T092203Z
UID:c0e8906b-3f17-4bba-825b-7a667cbc8c98
DTSTART;VALUE=DATE:20270104
DTEND;VALUE=DATE:20270105
DESCRIPTION:
LOCATION:
SUMMARY:Teacher Work Day-No School
END:VEVENT
BEGIN:VEVENT
DTSTAMP:20260421T092203Z
UID:6fc56db3-859d-4cb1-912c-da32f1e643d0
DTSTART;VALUE=DATE:20270105
DTEND;VALUE=DATE:20270106
DESCRIPTION:
LOCATION:
SUMMARY:First day of Q3
END:VEVENT
BEGIN:VEVENT
DTSTAMP:20260421T092203Z
UID:a743ecad-a57c-4d46-911f-5aace1846f8f
DTSTART:20270116T190000
DTEND:20270116T210000
DESCRIPTION:
LOCATION:Auditorium
SUMMARY:Danville's Got Talent
END:VEVENT
BEGIN:VEVENT
DTSTAMP:20260421T092203Z
UID:9991b359-9762-4b07-85d7-e1ab0618b7ff
DTSTART;VALUE=DATE:20270118
DTEND;VALUE=DATE:20270119
DESCRIPTION:
LOCATION:
SUMMARY:MLK Day-No School
END:VEVENT
BEGIN:VEVENT
DTSTAMP:20260421T092203Z
UID:4b39af81-c6ce-4707-849c-ec8ce4217b48
DTSTART;VALUE=DATE:20270215
DTEND;VALUE=DATE:20270216
DESCRIPTION:
LOCATION:
SUMMARY:Presidents Day-No School
END:VEVENT
BEGIN:VEVENT
DTSTAMP:20260421T092203Z
UID:13f3f021-88d0-48ff-a2ea-92ab08ecd316
DTSTART;VALUE=DATE:20270311
DTEND;VALUE=DATE:20270312
DESCRIPTION:
LOCATION:
SUMMARY:End of Q3
END:VEVENT
BEGIN:VEVENT
DTSTAMP:20260421T092203Z
UID:10104e4a-3829-47e2-a12b-7089d26b16ff
DTSTART;VALUE=DATE:20270312
DTEND;VALUE=DATE:20270313
DESCRIPTION:
LOCATION:
SUMMARY:Teacher Work Day-No School
END:VEVENT
BEGIN:VEVENT
DTSTAMP:20260421T092203Z
UID:c79e940d-24d7-4ae1-934f-c4ff2627fc84
DTSTART:20270312T190000
DTEND:20270312T210000
DESCRIPTION:
LOCATION:Auditorium
SUMMARY:Spring Musical 
END:VEVENT
BEGIN:VEVENT
DTSTAMP:20260421T092203Z
UID:590f59c1-a99c-4cbe-bee9-395219fa1774
DTSTART:20270313T190000
DTEND:20270313T210000
DESCRIPTION:
LOCATION:Auditorium
SUMMARY:Spring Musical 
END:VEVENT
BEGIN:VEVENT
DTSTAMP:20260421T092203Z
UID:3b50e6f7-6b42-41a2-a7ff-ccbf475c0d34
DTSTART;VALUE=DATE:20270315
DTEND;VALUE=DATE:20270316
DESCRIPTION:
LOCATION:
SUMMARY:First Day of Q4
END:VEVENT
BEGIN:VEVENT
DTSTAMP:20260421T092203Z
UID:647613bd-c70d-4d39-b518-bd3c9ee5aec0
DTSTART;VALUE=DATE:20270322
DTEND;VALUE=DATE:20270327
DESCRIPTION:
LOCATION:
SUMMARY:Spring Break
END:VEVENT
BEGIN:VEVENT
DTSTAMP:20260421T092203Z
UID:eb897f74-dd08-4cf2-914d-233413c45c5d
DTSTART;VALUE=DATE:20270329
DTEND;VALUE=DATE:20270330
DESCRIPTION:
LOCATION:
SUMMARY:Conference Comp Day-No School
END:VEVENT
BEGIN:VEVENT
DTSTAMP:20260421T092203Z
UID:fefe7267-16c9-4b48-940a-6fc3f10cfa29
DTSTART;VALUE=DATE:20270330
DTEND;VALUE=DATE:20270331
DESCRIPTION:
LOCATION:
SUMMARY:Classes Resume
END:VEVENT
BEGIN:VEVENT
DTSTAMP:20260421T092203Z
UID:9ef2e78d-6731-4c56-8a58-e67b2f34de73
DTSTART:20270413T180000
DTEND:20270413T190000
DESCRIPTION:
LOCATION:Auditorium
SUMMARY:Performing Arts Banquet
END:VEVENT
BEGIN:VEVENT
DTSTAMP:20260421T092203Z
UID:a0ae0447-4348-4964-b9bb-314acad0765a
DTSTART;VALUE=DATE:20270521
DTEND;VALUE=DATE:20270522
DESCRIPTION:
LOCATION:
SUMMARY:Last Day for Seniors
END:VEVENT
BEGIN:VEVENT
DTSTAMP:20260421T092203Z
UID:65090eb6-0a5e-4321-ab05-7488e83c2d1b
DTSTART;VALUE=DATE:20270523
DTEND;VALUE=DATE:20270524
DESCRIPTION:
LOCATION:
SUMMARY:Graduation 
END:VEVENT
BEGIN:VEVENT
DTSTAMP:20260421T092203Z
UID:168d227d-0ee6-4c2b-b217-36bf6fc5b3e1
DTSTART;VALUE=DATE:20270525
DTEND;VALUE=DATE:20270526
DESCRIPTION:
LOCATION:
SUMMARY:End of Q4
END:VEVENT
BEGIN:VEVENT
DTSTAMP:20260421T092203Z
UID:84934594-d22a-4c09-b7e0-b46be8fcb96c
DTSTART;VALUE=DATE:20270526
DTEND;VALUE=DATE:20270527
DESCRIPTION:
LOCATION:
SUMMARY:Teacher Work Day
END:VEVENT
END:VCALENDAR
