BEGIN:VCALENDAR
VERSION:2.0
PRODID:icalendar-ruby
CALSCALE:GREGORIAN
BEGIN:VTIMEZONE
TZID:America/New_York
BEGIN:DAYLIGHT
DTSTART:20260308T030000
TZOFFSETFROM:-0500
TZOFFSETTO:-0400
RRULE:FREQ=YEARLY;BYDAY=2SU;BYMONTH=3
TZNAME:EDT
END:DAYLIGHT
BEGIN:STANDARD
DTSTART:20261101T010000
TZOFFSETFROM:-0400
TZOFFSETTO:-0500
RRULE:FREQ=YEARLY;BYDAY=1SU;BYMONTH=11
TZNAME:EST
END:STANDARD
END:VTIMEZONE
BEGIN:VEVENT
DTSTAMP:20260425T155755Z
UID:d5963d60-9002-4179-91d5-c15d33409871
DTSTART:20260506T183000
DTEND:20260506T210000
DESCRIPTION:
LOCATION:High School - Multiple Spaces
SUMMARY:Class of 2026 Senior Awards Night
END:VEVENT
BEGIN:VEVENT
DTSTAMP:20260425T155755Z
UID:638a14a2-4b51-4a27-a4f8-d53d543c853e
DTSTART:20260514T163000
DTEND:20260514T180000
DESCRIPTION:<p><span>Join us for LFELC's Preschool Information Night! Come 
 meet our staff\, tour classrooms\, and get information about enrollment fo
 r the 26/27 school year.</span></p>
LOCATION:11425 Torrey Rd\, Fenton\, MI 48430\, USA
SUMMARY:Preschool Information Night
END:VEVENT
BEGIN:VEVENT
DTSTAMP:20260425T155755Z
UID:5482a89a-9520-44f6-9729-6ef4b79f6c9d
DTSTART:20260516T110000
DTEND:20260516T123000
DESCRIPTION:
LOCATION:High School - HS Cross Country Course
SUMMARY:Hope Squad Fun Run
END:VEVENT
BEGIN:VEVENT
DTSTAMP:20260425T155755Z
UID:db7340b8-f45d-4f84-afe5-6d1082e58c74
DTSTART:20260519T083000
DTEND:20260519T121500
DESCRIPTION:
LOCATION:High School - Auditorium
SUMMARY:Upcoming Freshman Class Orientation
END:VEVENT
BEGIN:VEVENT
DTSTAMP:20260425T155755Z
UID:dd44b33d-0e37-4f4a-812b-f3de6e0033eb
DTSTART:20260528T183000
DTEND:20260528T203000
DESCRIPTION:
LOCATION:High School - Stadium
SUMMARY:LFHS Commencement
END:VEVENT
BEGIN:VEVENT
DTSTAMP:20260425T155755Z
UID:c10426b6-ce87-47d7-9665-02296e74c61b
DTSTART:20261208T173000
DTEND:20261208T203000
DESCRIPTION:
LOCATION:High School - Auditorium\, Band Room\, Commons
SUMMARY:MS Band Concert
END:VEVENT
BEGIN:VEVENT
DTSTAMP:20260425T155755Z
UID:73333d48-3e29-4edd-8c1e-af06b062aed6
DTSTART:20261209T180000
DTEND:20261209T203000
DESCRIPTION:
LOCATION:High School - Auditorium\, Band Room\, Commons
SUMMARY:MS Choirs Concert
END:VEVENT
BEGIN:VEVENT
DTSTAMP:20260425T155755Z
UID:fdeb79b2-198a-402d-b396-32c9aac1b38d
DTSTART:20261210T173000
DTEND:20261210T203000
DESCRIPTION:
LOCATION:High School - Auditorium\, Band Room\, Commons
SUMMARY:High School Choir Performance
END:VEVENT
BEGIN:VEVENT
DTSTAMP:20260425T155755Z
UID:92c1446a-8256-4899-a498-c49d6d79c6ed
DTSTART:20261215T173000
DTEND:20261215T203000
DESCRIPTION:
LOCATION:High School - Auditorium\, Band Room\, Commons
SUMMARY:High School Band Concert
END:VEVENT
BEGIN:VEVENT
DTSTAMP:20260425T155755Z
UID:348eb253-ec80-43d3-82ba-5cc2622895dd
DTSTART:20270220T170000
DTEND:20270220T210000
DESCRIPTION:
LOCATION:High School - Band Room\, Commons\, High School\, HS Gym\, HS Park
  Lot
SUMMARY:Daddy Daughter Dance 
END:VEVENT
BEGIN:VEVENT
DTSTAMP:20260425T155755Z
UID:1cbdb762-f222-4e5d-8fd7-3e4fc2ed52b9
DTSTART:20270226T163000
DTEND:20270226T203000
DESCRIPTION:
LOCATION:High School - Auditorium\, Band Room\, Commons
SUMMARY:Middle School Theatre Club Performances
END:VEVENT
BEGIN:VEVENT
DTSTAMP:20260425T155755Z
UID:ef828fcb-9fbe-4dbc-b5dd-137c2bb5c391
DTSTART:20270227T140000
DTEND:20270227T173000
DESCRIPTION:
LOCATION:High School - Auditorium\, Band Room\, Commons
SUMMARY:Middle School Theatre Club Performances
END:VEVENT
BEGIN:VEVENT
DTSTAMP:20260425T155755Z
UID:a077270e-8414-4f8d-9b07-3cf6245e265a
DTSTART:20270302T173000
DTEND:20270302T190000
DESCRIPTION:
LOCATION:Elementary School - West Shore\, WS Gym/Cafe
SUMMARY:Kindergarten Round-Up 
END:VEVENT
BEGIN:VEVENT
DTSTAMP:20260425T155755Z
UID:57c2134a-d38c-482c-b440-f1067fb1f7db
DTSTART:20270304T173000
DTEND:20270304T190000
DESCRIPTION:
LOCATION:Elementary School - West Shore\, WS Gym/Cafe
SUMMARY:Kindergarten Round-Up 
END:VEVENT
END:VCALENDAR
