BEGIN:VCALENDAR
VERSION:2.0
PRODID:icalendar-ruby
CALSCALE:GREGORIAN
BEGIN:VTIMEZONE
TZID:America/New_York
BEGIN:DAYLIGHT
DTSTART:20260308T030000
TZOFFSETFROM:-0500
TZOFFSETTO:-0400
RRULE:FREQ=YEARLY;BYDAY=2SU;BYMONTH=3
TZNAME:EDT
END:DAYLIGHT
BEGIN:STANDARD
DTSTART:20261101T010000
TZOFFSETFROM:-0400
TZOFFSETTO:-0500
RRULE:FREQ=YEARLY;BYDAY=1SU;BYMONTH=11
TZNAME:EST
END:STANDARD
END:VTIMEZONE
BEGIN:VEVENT
DTSTAMP:20260420T143816Z
UID:6d673907-38b4-42c2-8b75-7ed4279345ec
DTSTART:20260423T091500
DTEND:20260423T140000
DESCRIPTION:
LOCATION:
SUMMARY:Pre-K to Muncie Childrens Museum
END:VEVENT
BEGIN:VEVENT
DTSTAMP:20260420T143816Z
UID:1a176a54-f82c-42b1-b2c7-52bf83e1503f
DTSTART:20260430T082000
DTEND:20260430T133000
DESCRIPTION:
LOCATION:
SUMMARY:Kindergarten to Indy Zoo
END:VEVENT
BEGIN:VEVENT
DTSTAMP:20260420T143816Z
UID:1bb0e66d-93e8-46dc-be6a-c5f1e12722c5
DTSTART;VALUE=DATE:20260501
DTEND;VALUE=DATE:20260502
DESCRIPTION:
LOCATION:
SUMMARY:Wilbur Wright Walk-A-Thon
END:VEVENT
BEGIN:VEVENT
DTSTAMP:20260420T143816Z
UID:48a38bbf-f2ae-414d-8f2b-8f0a3e809c96
DTSTART;VALUE=DATE:20260503
DTEND;VALUE=DATE:20260504
DESCRIPTION:
LOCATION:
SUMMARY:Teacher Appreciation Week
END:VEVENT
BEGIN:VEVENT
DTSTAMP:20260420T143816Z
UID:91f7f45f-a4f3-403f-b9e8-1dc2b9d4023f
DTSTART;VALUE=DATE:20260508
DTEND;VALUE=DATE:20260509
DESCRIPTION:
LOCATION:
SUMMARY:Wilbur Wright Walk - A - Thon Rain Date
END:VEVENT
BEGIN:VEVENT
DTSTAMP:20260420T143816Z
UID:dd61a9aa-030d-463e-8fb0-f1aed9fbadfb
DTSTART:20260508T083000
DTEND:20260508T141500
DESCRIPTION:
LOCATION:
SUMMARY:1st Grade to Indy Children's Museum
END:VEVENT
BEGIN:VEVENT
DTSTAMP:20260420T143816Z
UID:e2297b12-e36e-4c6b-8e0a-16964083ce56
DTSTART:20260508T140000
DTEND:20260508T143000
DESCRIPTION:
LOCATION:
SUMMARY:Synergy Day
END:VEVENT
BEGIN:VEVENT
DTSTAMP:20260420T143816Z
UID:ba466332-2ef4-4d27-a56f-97202a0611d1
DTSTART:20260514T082000
DTEND:20260514T141500
DESCRIPTION:
LOCATION:
SUMMARY:4th to Conner Prairie
END:VEVENT
BEGIN:VEVENT
DTSTAMP:20260420T143816Z
UID:d3cf7e0f-653a-4d39-b0a2-b58f0596c212
DTSTART:20260514T093000
DTEND:20260514T133000
DESCRIPTION:
LOCATION:
SUMMARY:5th Grade Track Meet
END:VEVENT
BEGIN:VEVENT
DTSTAMP:20260420T143816Z
UID:58633432-741f-4359-babb-ea5ff60e029c
DTSTART:20260514T151500
DTEND:20260514T160000
DESCRIPTION:
LOCATION:
SUMMARY:Wilbur Wright Food Pantry
END:VEVENT
BEGIN:VEVENT
DTSTAMP:20260420T143816Z
UID:81896249-9b0d-4592-ae4b-bf388feda08a
DTSTART:20260514T173000
DTEND:20260514T180000
DESCRIPTION:
LOCATION:
SUMMARY:Wilbur Wright PTO
END:VEVENT
BEGIN:VEVENT
DTSTAMP:20260420T143816Z
UID:ff83d795-dc4d-4401-8bf0-d6b4c8ef5df2
DTSTART:20260515T083000
DTEND:20260515T113000
DESCRIPTION:
LOCATION:
SUMMARY:Munoz and Thomas to Cornerstone Center - Muncie
END:VEVENT
BEGIN:VEVENT
DTSTAMP:20260420T143816Z
UID:9f3592af-522f-4e34-864e-a0b6cc0d1cd6
DTSTART:20260519T092500
DTEND:20260519T113000
DESCRIPTION:
LOCATION:Bundy Auditorium
SUMMARY:Pre-K Graduation Practice
END:VEVENT
BEGIN:VEVENT
DTSTAMP:20260420T143816Z
UID:5f7432b0-fbc0-4010-a434-775b5a13c98c
DTSTART:20260520T100000
DTEND:20260520T103000
DESCRIPTION:
LOCATION:Bundy Auditorium
SUMMARY:Tiny Trojans Pre-K Graduation
END:VEVENT
BEGIN:VEVENT
DTSTAMP:20260420T143816Z
UID:b43b5bfd-8691-4bc5-a175-63d7848eaec2
DTSTART:20260520T180000
DTEND:20260520T193000
DESCRIPTION:
LOCATION:Bundy Auditorium\, 601 Parkview Dr\, New Castle\, IN 47362\, USA
SUMMARY:Wilbur Wright - 5th Grade Honor Night
END:VEVENT
BEGIN:VEVENT
DTSTAMP:20260420T143816Z
UID:e6c8aebd-d165-40b1-bbb7-b94bdbbfa7ba
DTSTART;VALUE=DATE:20260521
DTEND;VALUE=DATE:20260522
DESCRIPTION:
LOCATION:
SUMMARY:Wilbur Wright - Field Day
END:VEVENT
BEGIN:VEVENT
DTSTAMP:20260420T143816Z
UID:551fdcdc-2863-4491-8470-6a629db92e34
DTSTART;VALUE=DATE:20260522
DTEND;VALUE=DATE:20260523
DESCRIPTION:
LOCATION:
SUMMARY:Wilbur Wright End of 4th Quarter
END:VEVENT
BEGIN:VEVENT
DTSTAMP:20260420T143816Z
UID:270d682b-0869-4f38-8309-4ad6dd781f80
DTSTART;VALUE=DATE:20260522
DTEND;VALUE=DATE:20260523
DESCRIPTION:
LOCATION:
SUMMARY:Wilbur Wright Report Cards 4th Quarter Home
END:VEVENT
BEGIN:VEVENT
DTSTAMP:20260420T143816Z
UID:6859b096-ca06-4c91-8ebe-9617ae7cfe42
DTSTART:20260522T080000
DTEND:20260522T150000
DESCRIPTION:
LOCATION:
SUMMARY:Last Day of School
END:VEVENT
END:VCALENDAR
