BEGIN:VCALENDAR
VERSION:2.0
PRODID:icalendar-ruby
CALSCALE:GREGORIAN
BEGIN:VTIMEZONE
TZID:America/Los_Angeles
BEGIN:DAYLIGHT
DTSTART:20260308T030000
TZOFFSETFROM:-0800
TZOFFSETTO:-0700
RRULE:FREQ=YEARLY;BYDAY=2SU;BYMONTH=3
TZNAME:PDT
END:DAYLIGHT
BEGIN:STANDARD
DTSTART:20261101T010000
TZOFFSETFROM:-0700
TZOFFSETTO:-0800
RRULE:FREQ=YEARLY;BYDAY=1SU;BYMONTH=11
TZNAME:PST
END:STANDARD
END:VTIMEZONE
BEGIN:VEVENT
DTSTAMP:20260425T104711Z
UID:d198f7fe-a8e0-4a2e-860e-9ed34af79bd6
DTSTART;VALUE=DATE:20260504
DTEND;VALUE=DATE:20260505
DESCRIPTION:
LOCATION:
SUMMARY:Eligibility Grade Check
END:VEVENT
BEGIN:VEVENT
DTSTAMP:20260425T104711Z
UID:bef94883-f9ca-4014-a59b-17d652d653a6
DTSTART;VALUE=DATE:20260508
DTEND;VALUE=DATE:20260509
DESCRIPTION:
LOCATION:
SUMMARY:No School-Waiver Day
END:VEVENT
BEGIN:VEVENT
DTSTAMP:20260425T104711Z
UID:c5d913df-4ac3-4c5c-bfd6-3e8284f417f9
DTSTART;VALUE=DATE:20260518
DTEND;VALUE=DATE:20260519
DESCRIPTION:
LOCATION:
SUMMARY:Eligibility Grade Check
END:VEVENT
BEGIN:VEVENT
DTSTAMP:20260425T104711Z
UID:fe52d149-9500-4463-be20-a190934bffbc
DTSTART;VALUE=DATE:20260522
DTEND;VALUE=DATE:20260523
DESCRIPTION:
LOCATION:
SUMMARY:No School-Memorial Day Break (make-up)
END:VEVENT
BEGIN:VEVENT
DTSTAMP:20260425T104711Z
UID:bafe8a18-6502-453d-9175-b1f4059b7e36
DTSTART;VALUE=DATE:20260525
DTEND;VALUE=DATE:20260526
DESCRIPTION:
LOCATION:
SUMMARY:No School-Memorial Day
END:VEVENT
BEGIN:VEVENT
DTSTAMP:20260425T104711Z
UID:e03d753c-8d9a-46ea-8c84-357a03ba4c32
DTSTART:20260606T140000
DTEND:20260606T150000
DESCRIPTION:
LOCATION:
SUMMARY:GRADUATION-Class of 2026
END:VEVENT
BEGIN:VEVENT
DTSTAMP:20260425T104711Z
UID:4f3fc918-485d-41f6-82ca-5a6530a381bd
DTSTART;VALUE=DATE:20260612
DTEND;VALUE=DATE:20260613
DESCRIPTION:
LOCATION:
SUMMARY:11am Rls-Last Day of School
END:VEVENT
END:VCALENDAR
