BEGIN:VCALENDAR
VERSION:2.0
PRODID:icalendar-ruby
CALSCALE:GREGORIAN
BEGIN:VTIMEZONE
TZID:America/New_York
BEGIN:DAYLIGHT
DTSTART:20260308T030000
TZOFFSETFROM:-0500
TZOFFSETTO:-0400
RRULE:FREQ=YEARLY;BYDAY=2SU;BYMONTH=3
TZNAME:EDT
END:DAYLIGHT
BEGIN:STANDARD
DTSTART:20261101T010000
TZOFFSETFROM:-0400
TZOFFSETTO:-0500
RRULE:FREQ=YEARLY;BYDAY=1SU;BYMONTH=11
TZNAME:EST
END:STANDARD
END:VTIMEZONE
BEGIN:VEVENT
DTSTAMP:20260421T033457Z
UID:fa2867ea-4900-4a0f-aaf1-d40836d5fdc9
DTSTART:20260507T190000
DTEND:20260507T200000
DESCRIPTION:<p></p>
LOCATION:Council Chambers 8213 High Street\, Garrettsville
SUMMARY:Planning Commission Meeting
END:VEVENT
BEGIN:VEVENT
DTSTAMP:20260421T033457Z
UID:29c08f75-b8f0-40e3-8c03-2a58ff0a8f8c
DTSTART:20260513T170000
DTEND:20260513T180000
DESCRIPTION:
LOCATION:8213 High St\, Garrettsville\, OH 44231\, USA
SUMMARY:Board of Public Affair Meeting
END:VEVENT
BEGIN:VEVENT
DTSTAMP:20260421T033457Z
UID:efaca8d2-6d28-46c7-a3f6-977fffa08bb2
DTSTART:20260513T190000
DTEND:20260513T210000
DESCRIPTION:
LOCATION:8213 High Street\, Council Chambers
SUMMARY:Village Council Meeting
END:VEVENT
BEGIN:VEVENT
DTSTAMP:20260421T033457Z
UID:a48fc74a-0ef7-4c07-967a-ebfb9672f08a
DTSTART:20260604T190000
DTEND:20260604T200000
DESCRIPTION:<p></p>
LOCATION:Council Chambers 8213 High Street\, Garrettsville
SUMMARY:Planning Commission Meeting
END:VEVENT
BEGIN:VEVENT
DTSTAMP:20260421T033457Z
UID:fe24d81d-aaf4-4a95-9d5f-702ccab7a6f1
DTSTART:20260610T170000
DTEND:20260610T180000
DESCRIPTION:
LOCATION:8213 High St\, Garrettsville\, OH 44231\, USA
SUMMARY:Board of Public Affair Meeting
END:VEVENT
BEGIN:VEVENT
DTSTAMP:20260421T033457Z
UID:f26dc4c5-269c-4c69-b92e-21d2b6077876
DTSTART:20260610T190000
DTEND:20260610T210000
DESCRIPTION:
LOCATION:8213 High Street\, Council Chambers
SUMMARY:Village Council Meeting
END:VEVENT
BEGIN:VEVENT
DTSTAMP:20260421T033457Z
UID:71f69c70-ec11-4127-a088-a8bf968020b1
DTSTART:20260702T190000
DTEND:20260702T200000
DESCRIPTION:<p></p>
LOCATION:Council Chambers 8213 High Street\, Garrettsville
SUMMARY:Planning Commission Meeting
END:VEVENT
BEGIN:VEVENT
DTSTAMP:20260421T033457Z
UID:1270b2d3-6e77-4e17-80c4-8d365f485081
DTSTART:20260708T170000
DTEND:20260708T180000
DESCRIPTION:
LOCATION:8213 High St\, Garrettsville\, OH 44231\, USA
SUMMARY:Board of Public Affair Meeting
END:VEVENT
BEGIN:VEVENT
DTSTAMP:20260421T033457Z
UID:6270b25f-0261-4eb2-831f-789e538c14e5
DTSTART:20260708T190000
DTEND:20260708T210000
DESCRIPTION:
LOCATION:8213 High Street\, Council Chambers
SUMMARY:Village Council Meeting
END:VEVENT
BEGIN:VEVENT
DTSTAMP:20260421T033457Z
UID:9aa6f583-305c-45da-98d1-4c18021bd2e5
DTSTART:20260806T190000
DTEND:20260806T200000
DESCRIPTION:<p></p>
LOCATION:Council Chambers 8213 High Street\, Garrettsville
SUMMARY:Planning Commission Meeting
END:VEVENT
BEGIN:VEVENT
DTSTAMP:20260421T033457Z
UID:f9ae8707-195f-4b6d-b9b3-d7976efddf8b
DTSTART:20260812T170000
DTEND:20260812T180000
DESCRIPTION:
LOCATION:8213 High St\, Garrettsville\, OH 44231\, USA
SUMMARY:Board of Public Affair Meeting
END:VEVENT
BEGIN:VEVENT
DTSTAMP:20260421T033457Z
UID:4c8ab886-53dc-4bc7-a30a-620f7dda6674
DTSTART:20260812T190000
DTEND:20260812T210000
DESCRIPTION:
LOCATION:8213 High Street\, Council Chambers
SUMMARY:Village Council Meeting
END:VEVENT
BEGIN:VEVENT
DTSTAMP:20260421T033457Z
UID:b2a702db-09d1-497d-b84a-d04fa7f9fde6
DTSTART:20260903T190000
DTEND:20260903T200000
DESCRIPTION:<p></p>
LOCATION:Council Chambers 8213 High Street\, Garrettsville
SUMMARY:Planning Commission Meeting
END:VEVENT
BEGIN:VEVENT
DTSTAMP:20260421T033457Z
UID:a2a4d212-439b-4db4-8e39-9d65f512fcc8
DTSTART:20260909T170000
DTEND:20260909T180000
DESCRIPTION:
LOCATION:8213 High St\, Garrettsville\, OH 44231\, USA
SUMMARY:Board of Public Affair Meeting
END:VEVENT
BEGIN:VEVENT
DTSTAMP:20260421T033457Z
UID:ff062f23-bf75-4702-8b5b-a9a51043aec5
DTSTART:20260909T190000
DTEND:20260909T210000
DESCRIPTION:
LOCATION:8213 High Street\, Council Chambers
SUMMARY:Village Council Meeting
END:VEVENT
BEGIN:VEVENT
DTSTAMP:20260421T033457Z
UID:65c0e01f-de4d-42d6-aba6-a3c47f0da05f
DTSTART:20261001T190000
DTEND:20261001T200000
DESCRIPTION:<p></p>
LOCATION:Council Chambers 8213 High Street\, Garrettsville
SUMMARY:Planning Commission Meeting
END:VEVENT
BEGIN:VEVENT
DTSTAMP:20260421T033457Z
UID:65b50e53-2007-4fb4-9da0-25d5ee962b35
DTSTART:20261014T170000
DTEND:20261014T180000
DESCRIPTION:
LOCATION:8213 High St\, Garrettsville\, OH 44231\, USA
SUMMARY:Board of Public Affair Meeting
END:VEVENT
BEGIN:VEVENT
DTSTAMP:20260421T033457Z
UID:c5a324bc-a786-471d-880f-6b5235dfbb53
DTSTART:20261014T190000
DTEND:20261014T210000
DESCRIPTION:
LOCATION:8213 High Street\, Council Chambers
SUMMARY:Village Council Meeting
END:VEVENT
BEGIN:VEVENT
DTSTAMP:20260421T033457Z
UID:62926041-355a-4549-8137-edc4ee944e8b
DTSTART:20261105T190000
DTEND:20261105T200000
DESCRIPTION:<p></p>
LOCATION:Council Chambers 8213 High Street\, Garrettsville
SUMMARY:Planning Commission Meeting
END:VEVENT
BEGIN:VEVENT
DTSTAMP:20260421T033457Z
UID:e0a7147b-8a3c-453f-95c1-30183b75d5e6
DTSTART:20261111T190000
DTEND:20261111T210000
DESCRIPTION:
LOCATION:8213 High Street\, Council Chambers
SUMMARY:Village Council Meeting
END:VEVENT
BEGIN:VEVENT
DTSTAMP:20260421T033457Z
UID:c5f34bed-8698-4e9a-a0f2-7b5b8dcdde17
DTSTART:20261203T190000
DTEND:20261203T200000
DESCRIPTION:<p></p>
LOCATION:Council Chambers 8213 High Street\, Garrettsville
SUMMARY:Planning Commission Meeting
END:VEVENT
BEGIN:VEVENT
DTSTAMP:20260421T033457Z
UID:2cea8810-3584-4380-a0ca-893da3b47316
DTSTART:20261209T190000
DTEND:20261209T210000
DESCRIPTION:
LOCATION:8213 High Street\, Council Chambers
SUMMARY:Village Council Meeting
END:VEVENT
BEGIN:VEVENT
DTSTAMP:20260421T033457Z
UID:640c17f7-6971-41ee-bfda-ce3952533da5
DTSTART:20270107T190000
DTEND:20270107T200000
DESCRIPTION:<p></p>
LOCATION:Council Chambers 8213 High Street\, Garrettsville
SUMMARY:Planning Commission Meeting
END:VEVENT
BEGIN:VEVENT
DTSTAMP:20260421T033457Z
UID:adda0289-dd24-4148-9349-0f0a396b1612
DTSTART:20270113T190000
DTEND:20270113T210000
DESCRIPTION:
LOCATION:8213 High Street\, Council Chambers
SUMMARY:Village Council Meeting
END:VEVENT
BEGIN:VEVENT
DTSTAMP:20260421T033457Z
UID:7f64e577-4392-43ec-b44a-9e5c308c3f7c
DTSTART:20270204T190000
DTEND:20270204T200000
DESCRIPTION:<p></p>
LOCATION:Council Chambers 8213 High Street\, Garrettsville
SUMMARY:Planning Commission Meeting
END:VEVENT
BEGIN:VEVENT
DTSTAMP:20260421T033457Z
UID:f9695051-da19-4968-83a1-ce0af6acbdec
DTSTART:20270210T190000
DTEND:20270210T210000
DESCRIPTION:
LOCATION:8213 High Street\, Council Chambers
SUMMARY:Village Council Meeting
END:VEVENT
BEGIN:VEVENT
DTSTAMP:20260421T033457Z
UID:8ff1e95d-7347-4e2f-97c4-ac8673e04f84
DTSTART:20270304T190000
DTEND:20270304T200000
DESCRIPTION:<p></p>
LOCATION:Council Chambers 8213 High Street\, Garrettsville
SUMMARY:Planning Commission Meeting
END:VEVENT
BEGIN:VEVENT
DTSTAMP:20260421T033457Z
UID:c3314ef5-7e26-4452-9a91-79d8d4410ce1
DTSTART:20270310T190000
DTEND:20270310T210000
DESCRIPTION:
LOCATION:8213 High Street\, Council Chambers
SUMMARY:Village Council Meeting
END:VEVENT
BEGIN:VEVENT
DTSTAMP:20260421T033457Z
UID:41ad7418-af09-400f-a0b5-b19bc3929913
DTSTART:20270401T190000
DTEND:20270401T200000
DESCRIPTION:<p></p>
LOCATION:Council Chambers 8213 High Street\, Garrettsville
SUMMARY:Planning Commission Meeting
END:VEVENT
BEGIN:VEVENT
DTSTAMP:20260421T033457Z
UID:faf31d41-aa0f-4d51-a978-7a8e48fd1b4b
DTSTART:20270414T190000
DTEND:20270414T210000
DESCRIPTION:
LOCATION:8213 High Street\, Council Chambers
SUMMARY:Village Council Meeting
END:VEVENT
BEGIN:VEVENT
DTSTAMP:20260421T033457Z
UID:3dd8b267-eedb-4dbb-a090-b0ca2fe8c189
DTSTART:20270506T190000
DTEND:20270506T200000
DESCRIPTION:<p></p>
LOCATION:Council Chambers 8213 High Street\, Garrettsville
SUMMARY:Planning Commission Meeting
END:VEVENT
BEGIN:VEVENT
DTSTAMP:20260421T033457Z
UID:a22bfd5b-cd24-4ba1-a59d-60c00300d897
DTSTART:20270512T190000
DTEND:20270512T210000
DESCRIPTION:
LOCATION:8213 High Street\, Council Chambers
SUMMARY:Village Council Meeting
END:VEVENT
BEGIN:VEVENT
DTSTAMP:20260421T033457Z
UID:86037ddc-72d7-4ddf-8298-6a48976922fe
DTSTART:20270603T190000
DTEND:20270603T200000
DESCRIPTION:<p></p>
LOCATION:Council Chambers 8213 High Street\, Garrettsville
SUMMARY:Planning Commission Meeting
END:VEVENT
BEGIN:VEVENT
DTSTAMP:20260421T033457Z
UID:4cab74c7-89c3-4d7b-b363-83991af9b93f
DTSTART:20270609T190000
DTEND:20270609T210000
DESCRIPTION:
LOCATION:8213 High Street\, Council Chambers
SUMMARY:Village Council Meeting
END:VEVENT
BEGIN:VEVENT
DTSTAMP:20260421T033457Z
UID:82116fa1-e902-49ce-8cb8-ce026e45d9be
DTSTART:20270701T190000
DTEND:20270701T200000
DESCRIPTION:<p></p>
LOCATION:Council Chambers 8213 High Street\, Garrettsville
SUMMARY:Planning Commission Meeting
END:VEVENT
BEGIN:VEVENT
DTSTAMP:20260421T033457Z
UID:22c32237-ff22-4a59-b50f-ed28830d9403
DTSTART:20270714T190000
DTEND:20270714T210000
DESCRIPTION:
LOCATION:8213 High Street\, Council Chambers
SUMMARY:Village Council Meeting
END:VEVENT
BEGIN:VEVENT
DTSTAMP:20260421T033457Z
UID:5070bc5d-142f-46cb-8bdd-4537042bd859
DTSTART:20270805T190000
DTEND:20270805T200000
DESCRIPTION:<p></p>
LOCATION:Council Chambers 8213 High Street\, Garrettsville
SUMMARY:Planning Commission Meeting
END:VEVENT
BEGIN:VEVENT
DTSTAMP:20260421T033457Z
UID:c2301db1-ae2b-45a9-9499-165771d30f64
DTSTART:20270902T190000
DTEND:20270902T200000
DESCRIPTION:<p></p>
LOCATION:Council Chambers 8213 High Street\, Garrettsville
SUMMARY:Planning Commission Meeting
END:VEVENT
BEGIN:VEVENT
DTSTAMP:20260421T033457Z
UID:74abf53f-dfd4-4cb6-8da7-b5557c55678b
DTSTART:20271007T190000
DTEND:20271007T200000
DESCRIPTION:<p></p>
LOCATION:Council Chambers 8213 High Street\, Garrettsville
SUMMARY:Planning Commission Meeting
END:VEVENT
BEGIN:VEVENT
DTSTAMP:20260421T033457Z
UID:1ab1e12f-f816-4cc1-a06f-b27db7700534
DTSTART:20271104T190000
DTEND:20271104T200000
DESCRIPTION:<p></p>
LOCATION:Council Chambers 8213 High Street\, Garrettsville
SUMMARY:Planning Commission Meeting
END:VEVENT
BEGIN:VEVENT
DTSTAMP:20260421T033457Z
UID:025b82e3-c803-4097-8047-db83e42191ce
DTSTART:20271202T190000
DTEND:20271202T200000
DESCRIPTION:<p></p>
LOCATION:Council Chambers 8213 High Street\, Garrettsville
SUMMARY:Planning Commission Meeting
END:VEVENT
BEGIN:VEVENT
DTSTAMP:20260421T033457Z
UID:153a8221-c9b4-4f45-afda-2dcb17c34e33
DTSTART:20280106T190000
DTEND:20280106T200000
DESCRIPTION:<p></p>
LOCATION:Council Chambers 8213 High Street\, Garrettsville
SUMMARY:Planning Commission Meeting
END:VEVENT
BEGIN:VEVENT
DTSTAMP:20260421T033457Z
UID:2f0b02ac-2c9f-45c8-9ba5-707cbfe94da4
DTSTART:20280203T190000
DTEND:20280203T200000
DESCRIPTION:<p></p>
LOCATION:Council Chambers 8213 High Street\, Garrettsville
SUMMARY:Planning Commission Meeting
END:VEVENT
BEGIN:VEVENT
DTSTAMP:20260421T033457Z
UID:a0aae6d0-602c-4773-9950-588d48ed5812
DTSTART:20280302T190000
DTEND:20280302T200000
DESCRIPTION:<p></p>
LOCATION:Council Chambers 8213 High Street\, Garrettsville
SUMMARY:Planning Commission Meeting
END:VEVENT
BEGIN:VEVENT
DTSTAMP:20260421T033457Z
UID:7a6d5b6b-2351-416b-ab2a-00394d53661c
DTSTART:20280406T190000
DTEND:20280406T200000
DESCRIPTION:<p></p>
LOCATION:Council Chambers 8213 High Street\, Garrettsville
SUMMARY:Planning Commission Meeting
END:VEVENT
BEGIN:VEVENT
DTSTAMP:20260421T033457Z
UID:8d2a092b-6b32-419c-bb6a-e2821af0d933
DTSTART:20280504T190000
DTEND:20280504T200000
DESCRIPTION:<p></p>
LOCATION:Council Chambers 8213 High Street\, Garrettsville
SUMMARY:Planning Commission Meeting
END:VEVENT
BEGIN:VEVENT
DTSTAMP:20260421T033457Z
UID:dab6b267-efdf-4a30-8232-8bee599227f0
DTSTART:20280601T190000
DTEND:20280601T200000
DESCRIPTION:<p></p>
LOCATION:Council Chambers 8213 High Street\, Garrettsville
SUMMARY:Planning Commission Meeting
END:VEVENT
BEGIN:VEVENT
DTSTAMP:20260421T033457Z
UID:5425ab21-f969-45b4-adbf-7e24e0172f96
DTSTART:20280706T190000
DTEND:20280706T200000
DESCRIPTION:<p></p>
LOCATION:Council Chambers 8213 High Street\, Garrettsville
SUMMARY:Planning Commission Meeting
END:VEVENT
BEGIN:VEVENT
DTSTAMP:20260421T033457Z
UID:5bc63161-8b7d-46ba-8c30-4bede93ffc0a
DTSTART:20280803T190000
DTEND:20280803T200000
DESCRIPTION:<p></p>
LOCATION:Council Chambers 8213 High Street\, Garrettsville
SUMMARY:Planning Commission Meeting
END:VEVENT
BEGIN:VEVENT
DTSTAMP:20260421T033457Z
UID:a190ffb6-f18a-4120-9f9f-bc39e2286917
DTSTART:20280907T190000
DTEND:20280907T200000
DESCRIPTION:<p></p>
LOCATION:Council Chambers 8213 High Street\, Garrettsville
SUMMARY:Planning Commission Meeting
END:VEVENT
BEGIN:VEVENT
DTSTAMP:20260421T033457Z
UID:231d1470-3706-4379-89b3-f5f3dd3b819d
DTSTART:20281005T190000
DTEND:20281005T200000
DESCRIPTION:<p></p>
LOCATION:Council Chambers 8213 High Street\, Garrettsville
SUMMARY:Planning Commission Meeting
END:VEVENT
BEGIN:VEVENT
DTSTAMP:20260421T033457Z
UID:db9785c2-4455-4405-ad1b-d7a29d14c270
DTSTART:20281102T190000
DTEND:20281102T200000
DESCRIPTION:<p></p>
LOCATION:Council Chambers 8213 High Street\, Garrettsville
SUMMARY:Planning Commission Meeting
END:VEVENT
BEGIN:VEVENT
DTSTAMP:20260421T033457Z
UID:f6d95152-d579-4eae-8471-39a06fd0eefb
DTSTART:20281207T190000
DTEND:20281207T200000
DESCRIPTION:<p></p>
LOCATION:Council Chambers 8213 High Street\, Garrettsville
SUMMARY:Planning Commission Meeting
END:VEVENT
BEGIN:VEVENT
DTSTAMP:20260421T033457Z
UID:e615d233-1325-439a-b3bd-278f2e90711c
DTSTART:20290104T190000
DTEND:20290104T200000
DESCRIPTION:<p></p>
LOCATION:Council Chambers 8213 High Street\, Garrettsville
SUMMARY:Planning Commission Meeting
END:VEVENT
BEGIN:VEVENT
DTSTAMP:20260421T033457Z
UID:8bef6c42-4564-4cd5-b947-2559f262d10f
DTSTART:20290201T190000
DTEND:20290201T200000
DESCRIPTION:<p></p>
LOCATION:Council Chambers 8213 High Street\, Garrettsville
SUMMARY:Planning Commission Meeting
END:VEVENT
BEGIN:VEVENT
DTSTAMP:20260421T033457Z
UID:f7a79333-7762-4676-9b8e-f6662e9f992c
DTSTART:20290301T190000
DTEND:20290301T200000
DESCRIPTION:<p></p>
LOCATION:Council Chambers 8213 High Street\, Garrettsville
SUMMARY:Planning Commission Meeting
END:VEVENT
BEGIN:VEVENT
DTSTAMP:20260421T033457Z
UID:77a80c45-5771-4f43-9a0d-1b4125590466
DTSTART:20290405T190000
DTEND:20290405T200000
DESCRIPTION:<p></p>
LOCATION:Council Chambers 8213 High Street\, Garrettsville
SUMMARY:Planning Commission Meeting
END:VEVENT
BEGIN:VEVENT
DTSTAMP:20260421T033457Z
UID:ec541d0f-d614-47fe-914b-4f751c64b370
DTSTART:20290503T190000
DTEND:20290503T200000
DESCRIPTION:<p></p>
LOCATION:Council Chambers 8213 High Street\, Garrettsville
SUMMARY:Planning Commission Meeting
END:VEVENT
BEGIN:VEVENT
DTSTAMP:20260421T033457Z
UID:9b42c292-f903-4b85-a560-c857b4761d17
DTSTART:20290607T190000
DTEND:20290607T200000
DESCRIPTION:<p></p>
LOCATION:Council Chambers 8213 High Street\, Garrettsville
SUMMARY:Planning Commission Meeting
END:VEVENT
BEGIN:VEVENT
DTSTAMP:20260421T033457Z
UID:c8a3c900-901b-4981-aec5-7eb0436c2d5f
DTSTART:20290705T190000
DTEND:20290705T200000
DESCRIPTION:<p></p>
LOCATION:Council Chambers 8213 High Street\, Garrettsville
SUMMARY:Planning Commission Meeting
END:VEVENT
BEGIN:VEVENT
DTSTAMP:20260421T033457Z
UID:4b7a4401-2df7-4173-85cf-f89182b57654
DTSTART:20290802T190000
DTEND:20290802T200000
DESCRIPTION:<p></p>
LOCATION:Council Chambers 8213 High Street\, Garrettsville
SUMMARY:Planning Commission Meeting
END:VEVENT
BEGIN:VEVENT
DTSTAMP:20260421T033457Z
UID:aca1fa95-a828-4291-bd01-e9b27b8e3c22
DTSTART:20290906T190000
DTEND:20290906T200000
DESCRIPTION:<p></p>
LOCATION:Council Chambers 8213 High Street\, Garrettsville
SUMMARY:Planning Commission Meeting
END:VEVENT
BEGIN:VEVENT
DTSTAMP:20260421T033457Z
UID:d90187bd-f99a-4e91-8e44-64ce30be0ade
DTSTART:20291004T190000
DTEND:20291004T200000
DESCRIPTION:<p></p>
LOCATION:Council Chambers 8213 High Street\, Garrettsville
SUMMARY:Planning Commission Meeting
END:VEVENT
BEGIN:VEVENT
DTSTAMP:20260421T033457Z
UID:08976adf-8677-49a9-abcd-ad4193cdafa3
DTSTART:20291101T190000
DTEND:20291101T200000
DESCRIPTION:<p></p>
LOCATION:Council Chambers 8213 High Street\, Garrettsville
SUMMARY:Planning Commission Meeting
END:VEVENT
BEGIN:VEVENT
DTSTAMP:20260421T033457Z
UID:0f8f786a-06e8-4063-ac3c-889acb18f39a
DTSTART:20291206T190000
DTEND:20291206T200000
DESCRIPTION:<p></p>
LOCATION:Council Chambers 8213 High Street\, Garrettsville
SUMMARY:Planning Commission Meeting
END:VEVENT
BEGIN:VEVENT
DTSTAMP:20260421T033457Z
UID:be18c0ce-0964-4f8b-9bd8-90f0f0cca602
DTSTART:20300103T190000
DTEND:20300103T200000
DESCRIPTION:<p></p>
LOCATION:Council Chambers 8213 High Street\, Garrettsville
SUMMARY:Planning Commission Meeting
END:VEVENT
END:VCALENDAR
