BEGIN:VCALENDAR
VERSION:2.0
PRODID:icalendar-ruby
CALSCALE:GREGORIAN
BEGIN:VTIMEZONE
TZID:America/Phoenix
BEGIN:STANDARD
DTSTART:19671029T010000
TZOFFSETFROM:-0600
TZOFFSETTO:-0700
TZNAME:MST
END:STANDARD
END:VTIMEZONE
BEGIN:VEVENT
DTSTAMP:20260425T034316Z
UID:571cd47c-56ba-4e9c-8a85-3a007438bceb
DTSTART;VALUE=DATE:20260420
DTEND;VALUE=DATE:20260501
DESCRIPTION:
LOCATION:2601 Detroit Ave\, Kingman\, AZ 86401\, USA
SUMMARY:K-2 iReady Dyslexia Screener
END:VEVENT
BEGIN:VEVENT
DTSTAMP:20260425T034316Z
UID:0614d8d6-be5a-49bc-a16a-abb3ab6ac3cb
DTSTART;VALUE=DATE:20260427
DTEND;VALUE=DATE:20260501
DESCRIPTION:
LOCATION:2601 Detroit Ave\, Kingman\, AZ 86401\, USA
SUMMARY: iReady Diagnostic #4 Reading\, Math & 3rd Grade Dyslexia Screener
END:VEVENT
BEGIN:VEVENT
DTSTAMP:20260425T034316Z
UID:56299105-4e20-4d95-87d4-f6724b01898c
DTSTART:20260429T183000
DTEND:20260429T200000
DESCRIPTION:<p>This performance is free and open to the public. For further
  information\, please phone the school at (928)753-6197 or contact Mrs. Na
 ncy (Disney in Schools Director) at <a href="mailto:ndiaz@kusd.org" target
 ="_blank" rel="noopener noreferrer nofollow" path-prefix="">ndiaz@kusd.org
 </a>.</p>
LOCATION:2601 Detroit Ave\, Kingman\, AZ 86401\, USA
SUMMARY:Manzanita Winnie the Pooh Musical
END:VEVENT
BEGIN:VEVENT
DTSTAMP:20260425T034316Z
UID:2ed9d3af-af7b-41ab-a4e1-ff1501cbee1f
DTSTART;VALUE=DATE:20260430
DTEND;VALUE=DATE:20260501
DESCRIPTION:
LOCATION:2601 Detroit Ave\, Kingman\, AZ 86401\, USA
SUMMARY:Tie Dye Day
END:VEVENT
BEGIN:VEVENT
DTSTAMP:20260425T034316Z
UID:aa1e7ce8-d1c1-433b-bff5-6768d82bda1e
DTSTART;VALUE=DATE:20260501
DTEND;VALUE=DATE:20260502
DESCRIPTION:
LOCATION:
SUMMARY:School Principal Appreciation Day!
END:VEVENT
BEGIN:VEVENT
DTSTAMP:20260425T034316Z
UID:10d33e5d-70da-4d73-9cd3-2532d7d4b247
DTSTART;VALUE=DATE:20260504
DTEND;VALUE=DATE:20260509
DESCRIPTION:
LOCATION:
SUMMARY:Staff/Teacher Appreciation Week 
END:VEVENT
BEGIN:VEVENT
DTSTAMP:20260425T034316Z
UID:c31a4d2c-b521-4387-9a72-16c5f31f41d7
DTSTART:20260505T170000
DTEND:20260505T190000
DESCRIPTION:
LOCATION:2601 Detroit Ave\, Kingman\, AZ 86401\, USA
SUMMARY:Kindergarten Round Up and Open House
END:VEVENT
BEGIN:VEVENT
DTSTAMP:20260425T034316Z
UID:2b398504-5f7f-44de-9834-dd213a8781ef
DTSTART;VALUE=DATE:20260507
DTEND;VALUE=DATE:20260508
DESCRIPTION:
LOCATION:2601 Detroit Ave\, Kingman\, AZ 86401\, USA
SUMMARY:Spirit Day - Global / Multicultural Day
END:VEVENT
BEGIN:VEVENT
DTSTAMP:20260425T034316Z
UID:d265cb70-6f35-44d8-9140-310f83c479ac
DTSTART:20260507T124500
DTEND:20260507T141500
DESCRIPTION:
LOCATION:2601 Detroit Ave\, Kingman\, AZ 86401\, USA
SUMMARY:Manzanita Marketplace
END:VEVENT
BEGIN:VEVENT
DTSTAMP:20260425T034316Z
UID:0e050b52-661a-4f7f-8b7f-e1c40579c874
DTSTART;VALUE=DATE:20260518
DTEND;VALUE=DATE:20260521
DESCRIPTION:
LOCATION:2601 Detroit Ave\, Kingman\, AZ 86401\, USA
SUMMARY:Minimum Attendance Days - School is out at 11:35am
END:VEVENT
BEGIN:VEVENT
DTSTAMP:20260425T034316Z
UID:2b54d5c2-ae81-4a2c-9485-b4dde749f02c
DTSTART;VALUE=DATE:20260520
DTEND;VALUE=DATE:20260521
DESCRIPTION:<p>Have a wonderful Summer vacation! </p>
LOCATION:2601 Detroit Ave\, Kingman\, AZ 86401\, USA
SUMMARY:Last Day of School! 
END:VEVENT
END:VCALENDAR
