BEGIN:VCALENDAR
VERSION:2.0
PRODID:icalendar-ruby
CALSCALE:GREGORIAN
BEGIN:VTIMEZONE
TZID:America/Phoenix
BEGIN:STANDARD
DTSTART:19671029T010000
TZOFFSETFROM:-0600
TZOFFSETTO:-0700
TZNAME:MST
END:STANDARD
END:VTIMEZONE
BEGIN:VEVENT
DTSTAMP:20260421T205558Z
UID:ed56263e-cb7d-41bf-b432-78f995492554
DTSTART;VALUE=DATE:20260407
DTEND;VALUE=DATE:20260423
DESCRIPTION:
LOCATION:16500 Pierce Ferry Rd\, Dolan Springs\, AZ 86441\, USA
SUMMARY: Spring Grams on Sale! 💌
END:VEVENT
BEGIN:VEVENT
DTSTAMP:20260421T205558Z
UID:3d389047-67dd-439a-8a16-a3572c8c7a6b
DTSTART;VALUE=DATE:20260420
DTEND;VALUE=DATE:20260423
DESCRIPTION:
LOCATION:16500 Pierce Ferry Rd\, Dolan Springs\, AZ 86441\, USA
SUMMARY:Scholastics Book Fair! 📚✨
END:VEVENT
BEGIN:VEVENT
DTSTAMP:20260421T205558Z
UID:bbe206b0-f69b-4e71-9b71-afb6ab66ca20
DTSTART;VALUE=DATE:20260422
DTEND;VALUE=DATE:20260423
DESCRIPTION:
LOCATION:16500 Pierce Ferry Rd\, Dolan Springs\, AZ 86441\, USA
SUMMARY:🖥️ Administrative Professionals' Day
END:VEVENT
BEGIN:VEVENT
DTSTAMP:20260421T205558Z
UID:fcba2fce-5090-4d74-9982-b771eead98de
DTSTART;VALUE=DATE:20260423
DTEND;VALUE=DATE:20260424
DESCRIPTION:
LOCATION:16500 Pierce Ferry Rd\, Dolan Springs\, AZ 86441\, USA
SUMMARY: 🧹Custodian Appreciation Day
END:VEVENT
BEGIN:VEVENT
DTSTAMP:20260421T205558Z
UID:e58c02af-c873-4f02-ae3e-5b7e87291aad
DTSTART:20260423T160000
DTEND:20260423T180000
DESCRIPTION:<p>FREE Spring Festival on<strong> Thursday\, April 23rd (4pm -
  6pm)</strong></p><p>We will have Teal Taco\, Book Fair\, Activities\, Cra
 fts\, and more. Bring your family and enjoy! </p><p>See you there!</p>
LOCATION:16500 Pierce Ferry Rd\, Dolan Springs\, AZ 86441\, USA
SUMMARY: Spring Festival!  🌺🐝
END:VEVENT
BEGIN:VEVENT
DTSTAMP:20260421T205558Z
UID:ef7e207d-b7ac-4932-8d28-e45fdc4e5056
DTSTART;VALUE=DATE:20260428
DTEND;VALUE=DATE:20260429
DESCRIPTION:
LOCATION:16500 Pierce Ferry Rd\, Dolan Springs\, AZ 86441\, USA
SUMMARY: 🚌 Bus Driver Appreciation Day
END:VEVENT
BEGIN:VEVENT
DTSTAMP:20260421T205558Z
UID:2fd0d3a9-32c4-4396-b8b9-5d33635712a9
DTSTART;VALUE=DATE:20260430
DTEND;VALUE=DATE:20260501
DESCRIPTION:
LOCATION:16500 Pierce Ferry Rd\, Dolan Springs\, AZ 86441\, USA
SUMMARY: 🍔 School Lunch Hero Day (Cafeteria Staff)
END:VEVENT
BEGIN:VEVENT
DTSTAMP:20260421T205558Z
UID:24d66b6d-44bb-49b2-a716-23ed7e7c5c42
DTSTART;VALUE=DATE:20260504
DTEND;VALUE=DATE:20260505
DESCRIPTION:<p><span>⭐&nbsp\;Wear Star Wars themed clothes!&nbsp\;⭐</sp
 an></p>
LOCATION:16500 Pierce Ferry Rd\, Dolan Springs\, AZ 86441\, USA
SUMMARY: Spirit Day: May the 4th be with you! ⭐🪐🚀
END:VEVENT
BEGIN:VEVENT
DTSTAMP:20260421T205558Z
UID:414d6ebc-fc00-4b20-94b9-b12500dd2e6f
DTSTART;VALUE=DATE:20260504
DTEND;VALUE=DATE:20260507
DESCRIPTION:
LOCATION:16500 Pierce Ferry Rd\, Dolan Springs\, AZ 86441\, USA
SUMMARY: 🍎 Teacher Appreciation
END:VEVENT
BEGIN:VEVENT
DTSTAMP:20260421T205558Z
UID:3f32318b-8075-4db3-bc78-1991a1e9f8cd
DTSTART;VALUE=DATE:20260505
DTEND;VALUE=DATE:20260506
DESCRIPTION:<p><span>Wear Red\, White\, &amp\; Green!</span></p>
LOCATION:16500 Pierce Ferry Rd\, Dolan Springs\, AZ 86441\, USA
SUMMARY: Spirit Day: Cinco De Mayo ❤️🤍💚
END:VEVENT
BEGIN:VEVENT
DTSTAMP:20260421T205558Z
UID:cfc12ec7-1ffb-4ddd-89c0-cb4a8f6a0235
DTSTART:20260505T110000
DTEND:20260505T113000
DESCRIPTION:<p><span>Popcorn sales during lunch (11am-11:30am)</span></p>
LOCATION:16500 Pierce Ferry Rd\, Dolan Springs\, AZ 86441\, USA
SUMMARY: 🍿 Popcorn sales begin!
END:VEVENT
BEGIN:VEVENT
DTSTAMP:20260421T205558Z
UID:4e999061-aa83-4d20-a4c3-23035b086f06
DTSTART:20260507T160000
DTEND:20260507T180000
DESCRIPTION:
LOCATION:16500 Pierce Ferry Rd\, Dolan Springs\, AZ 86441\, USA
SUMMARY: 🖍️ PS and KG Round Up
END:VEVENT
BEGIN:VEVENT
DTSTAMP:20260421T205558Z
UID:222a6695-7bdc-4e20-ad42-8bf32d33ce38
DTSTART:20260512T163000
DTEND:20260512T180000
DESCRIPTION:
LOCATION:3033 McDonald Ave\, Kingman\, AZ 86401\, USA
SUMMARY:Governing Board Meeting 
END:VEVENT
BEGIN:VEVENT
DTSTAMP:20260421T205558Z
UID:4488bc60-46ff-4118-b046-42f3b5086bb0
DTSTART:20260514T123000
DTEND:20260514T143000
DESCRIPTION:
LOCATION:16500 Pierce Ferry Rd\, Dolan Springs\, AZ 86441\, USA
SUMMARY: Field Day
END:VEVENT
BEGIN:VEVENT
DTSTAMP:20260421T205558Z
UID:93e73930-92ee-4584-99c5-8201344aac24
DTSTART:20260518T130000
DTEND:20260518T144500
DESCRIPTION:<p><strong>1:00pm - 1:45pm</strong></p><ul><li><p>ASP</p></li><
 li><p>Preschool</p></li><li><p>Kindergarten</p></li><li><p>1st Grade</p></
 li><li><p>2nd Grade</p></li></ul><p><strong>2:00pm - 2:45pm</strong></p><u
 l><li><p>3rd Grade</p></li><li><p>4th Grade</p></li><li><p>5th Grade</p></
 li></ul>
LOCATION:16500 Pierce Ferry Rd\, Dolan Springs\, AZ 86441\, USA
SUMMARY: 🏅 Q4 Awards Ceremony 🏅
END:VEVENT
BEGIN:VEVENT
DTSTAMP:20260421T205558Z
UID:3e44d544-31e7-412c-9fd1-76fb481f49a7
DTSTART:20260519T080000
DTEND:20260520T121000
DESCRIPTION:
LOCATION:16500 Pierce Ferry Rd\, Dolan Springs\, AZ 86441\, USA
SUMMARY:Half-Day - 👋😊 Dismissal @ 12:10pm 
END:VEVENT
BEGIN:VEVENT
DTSTAMP:20260421T205558Z
UID:9ef66521-4264-4626-8ff8-2a42cb86d64c
DTSTART:20260519T080000
DTEND:20260519T121000
DESCRIPTION:
LOCATION:16500 Pierce Ferry Rd\, Dolan Springs\, AZ 86441\, USA
SUMMARY:Half-Day - 👋😊 Dismissal @ 12:10pm 
END:VEVENT
BEGIN:VEVENT
DTSTAMP:20260421T205558Z
UID:cc259073-122d-4998-bf32-642d1ba97e88
DTSTART:20260519T080000
DTEND:20260519T090000
DESCRIPTION:
LOCATION:16500 Pierce Ferry Rd\, Dolan Springs\, AZ 86441\, USA
SUMMARY: 🎓 Promotion: PS\, KG\, & 5th
END:VEVENT
BEGIN:VEVENT
DTSTAMP:20260421T205558Z
UID:4a9629f2-9d26-46bd-bfaf-abdf75ed04ec
DTSTART;VALUE=DATE:20260520
DTEND;VALUE=DATE:20260521
DESCRIPTION:<p>Have a great summer vacation! </p>
LOCATION:16500 Pierce Ferry Rd\, Dolan Springs\, AZ 86441\, USA
SUMMARY:🥳 Last Day of School! 
END:VEVENT
BEGIN:VEVENT
DTSTAMP:20260421T205558Z
UID:30a60fad-e72b-4fb8-a03b-197ddd8f5b75
DTSTART;VALUE=DATE:20260520
DTEND;VALUE=DATE:20260521
DESCRIPTION:
LOCATION:16500 Pierce Ferry Rd\, Dolan Springs\, AZ 86441\, USA
SUMMARY: 💦 Water Day!
END:VEVENT
BEGIN:VEVENT
DTSTAMP:20260421T205558Z
UID:86d6374c-967f-48c3-8917-e6b6f8cc953b
DTSTART;VALUE=DATE:20260525
DTEND;VALUE=DATE:20260526
DESCRIPTION:
LOCATION:16500 Pierce Ferry Rd\, Dolan Springs\, AZ 86441\, USA
SUMMARY:Memorial Day - No School!
END:VEVENT
BEGIN:VEVENT
DTSTAMP:20260421T205558Z
UID:ea9c9b95-1cba-4f50-980f-c4cf38a0335f
DTSTART:20260526T073000
DTEND:20260611T123000
DESCRIPTION:
LOCATION:16500 Pierce Ferry Rd\, Dolan Springs\, AZ 86441\, USA
SUMMARY: 🏫 Summer School
END:VEVENT
BEGIN:VEVENT
DTSTAMP:20260421T205558Z
UID:47b7f2a1-3352-41eb-9a93-50fbec800f67
DTSTART;VALUE=DATE:20260715
DTEND;VALUE=DATE:20260716
DESCRIPTION:
LOCATION:16500 Pierce Ferry Rd\, Dolan Springs\, AZ 86441\, USA
SUMMARY: 🏫  First Day of School!!
END:VEVENT
BEGIN:VEVENT
DTSTAMP:20260421T205558Z
UID:c63562f9-209f-4d95-936a-9be1c7914ff4
DTSTART;VALUE=DATE:20260824
DTEND;VALUE=DATE:20260825
DESCRIPTION:
LOCATION:16500 Pierce Ferry Rd\, Dolan Springs\, AZ 86441\, USA
SUMMARY:Q1 Progress Reports Go Home
END:VEVENT
BEGIN:VEVENT
DTSTAMP:20260421T205558Z
UID:9eb98d5b-a7c2-4015-84cf-50f6302e9f53
DTSTART:20260826T080000
DTEND:20260826T120000
DESCRIPTION:
LOCATION:16500 Pierce Ferry Rd\, Dolan Springs\, AZ 86441\, USA
SUMMARY: Minimum Attendance - Dismissal @ 12:00pm
END:VEVENT
BEGIN:VEVENT
DTSTAMP:20260421T205558Z
UID:0c2e8f4d-0d18-4623-9e53-32c0b31cb29f
DTSTART:20260827T080000
DTEND:20260827T090000
DESCRIPTION:
LOCATION:16500 Pierce Ferry Rd\, Dolan Springs\, AZ 86441\, USA
SUMMARY:Minimum Attendance - Dismissal @ 12:00pm
END:VEVENT
BEGIN:VEVENT
DTSTAMP:20260421T205558Z
UID:ee9557c0-4a35-4121-87b2-59a2d74efdc4
DTSTART;VALUE=DATE:20260907
DTEND;VALUE=DATE:20260908
DESCRIPTION:
LOCATION:16500 Pierce Ferry Rd\, Dolan Springs\, AZ 86441\, USA
SUMMARY:Labor Day - No School!
END:VEVENT
BEGIN:VEVENT
DTSTAMP:20260421T205558Z
UID:88a7050c-d4ca-4543-9d74-3409b17c174a
DTSTART;VALUE=DATE:20260928
DTEND;VALUE=DATE:20261009
DESCRIPTION:
LOCATION:16500 Pierce Ferry Rd\, Dolan Springs\, AZ 86441\, USA
SUMMARY:😊  Intersession Break
END:VEVENT
BEGIN:VEVENT
DTSTAMP:20260421T205558Z
UID:d3af1d5f-0cba-44f0-85c9-9dc30788ee01
DTSTART;VALUE=DATE:20261019
DTEND;VALUE=DATE:20261020
DESCRIPTION:
LOCATION:16500 Pierce Ferry Rd\, Dolan Springs\, AZ 86441\, USA
SUMMARY:Q1 Report Cards Go Home
END:VEVENT
BEGIN:VEVENT
DTSTAMP:20260421T205558Z
UID:341d379b-af97-4c84-9057-a400579fd360
DTSTART;VALUE=DATE:20261109
DTEND;VALUE=DATE:20261110
DESCRIPTION:
LOCATION:16500 Pierce Ferry Rd\, Dolan Springs\, AZ 86441\, USA
SUMMARY:Q2 Progress Reports 
END:VEVENT
BEGIN:VEVENT
DTSTAMP:20260421T205558Z
UID:2cfd5cb8-942b-4e7a-8ded-ad438ec8daad
DTSTART;VALUE=DATE:20261111
DTEND;VALUE=DATE:20261112
DESCRIPTION:
LOCATION:16500 Pierce Ferry Rd\, Dolan Springs\, AZ 86441\, USA
SUMMARY:Veteran's Day  - No School!
END:VEVENT
BEGIN:VEVENT
DTSTAMP:20260421T205558Z
UID:8eb2b047-0d5a-496b-aaf3-f9e755f9cbc3
DTSTART;VALUE=DATE:20261123
DTEND;VALUE=DATE:20261127
DESCRIPTION:
LOCATION:16500 Pierce Ferry Rd\, Dolan Springs\, AZ 86441\, USA
SUMMARY:🦃 Thanksgiving Break 🍂
END:VEVENT
BEGIN:VEVENT
DTSTAMP:20260421T205558Z
UID:9780496f-0b8c-4b25-8b19-6b79561352dc
DTSTART:20261216T080000
DTEND:20261216T120000
DESCRIPTION:
LOCATION:16500 Pierce Ferry Rd\, Dolan Springs\, AZ 86441\, USA
SUMMARY: Minimum Attendance - Dismissal @ 12:00pm
END:VEVENT
BEGIN:VEVENT
DTSTAMP:20260421T205558Z
UID:13ffa689-2b6d-45fa-9531-89ac38f68108
DTSTART:20261217T080000
DTEND:20261217T120000
DESCRIPTION:
LOCATION:16500 Pierce Ferry Rd\, Dolan Springs\, AZ 86441\, USA
SUMMARY: Minimum Attendance - Dismissal @ 12:00pm
END:VEVENT
BEGIN:VEVENT
DTSTAMP:20260421T205558Z
UID:988750cd-658f-4845-9b88-7dc1c711a798
DTSTART;VALUE=DATE:20261221
DTEND;VALUE=DATE:20270101
DESCRIPTION:
LOCATION:16500 Pierce Ferry Rd\, Dolan Springs\, AZ 86441\, USA
SUMMARY: ❄️ Winter Break
END:VEVENT
BEGIN:VEVENT
DTSTAMP:20260421T205558Z
UID:d1ee33e6-95f5-431f-a7dd-dac7fbfd77be
DTSTART;VALUE=DATE:20270111
DTEND;VALUE=DATE:20270112
DESCRIPTION:
LOCATION:16500 Pierce Ferry Rd\, Dolan Springs\, AZ 86441\, USA
SUMMARY: Q2 Report Cards Go Home
END:VEVENT
BEGIN:VEVENT
DTSTAMP:20260421T205558Z
UID:6eb46bca-24a9-4114-ab4a-c6676393324d
DTSTART;VALUE=DATE:20270118
DTEND;VALUE=DATE:20270119
DESCRIPTION:
LOCATION:16500 Pierce Ferry Rd\, Dolan Springs\, AZ 86441\, USA
SUMMARY:MLK Day - No School!
END:VEVENT
BEGIN:VEVENT
DTSTAMP:20260421T205558Z
UID:dc0d97c4-ea07-478f-80be-74ecaf9c0cf4
DTSTART:20270203T080000
DTEND:20270203T120000
DESCRIPTION:
LOCATION:16500 Pierce Ferry Rd\, Dolan Springs\, AZ 86441\, USA
SUMMARY: Minimum Attendance - Dismissal @ 12:00pm
END:VEVENT
BEGIN:VEVENT
DTSTAMP:20260421T205558Z
UID:d07e212d-0607-4488-9fe6-77867af8d8c2
DTSTART:20270204T080000
DTEND:20270204T120000
DESCRIPTION:
LOCATION:16500 Pierce Ferry Rd\, Dolan Springs\, AZ 86441\, USA
SUMMARY: Minimum Attendance - Dismissal @ 12:00pm
END:VEVENT
BEGIN:VEVENT
DTSTAMP:20260421T205558Z
UID:c6c12f48-42d9-4669-86be-547956191509
DTSTART;VALUE=DATE:20270215
DTEND;VALUE=DATE:20270216
DESCRIPTION:
LOCATION:16500 Pierce Ferry Rd\, Dolan Springs\, AZ 86441\, USA
SUMMARY:President's Day - No School!
END:VEVENT
BEGIN:VEVENT
DTSTAMP:20260421T205558Z
UID:2890698e-74e3-48b6-9d21-e77624abb1f8
DTSTART;VALUE=DATE:20270301
DTEND;VALUE=DATE:20270302
DESCRIPTION:
LOCATION:16500 Pierce Ferry Rd\, Dolan Springs\, AZ 86441\, USA
SUMMARY:☘️ Happy St. Patrick's Day! ☘️
END:VEVENT
BEGIN:VEVENT
DTSTAMP:20260421T205558Z
UID:5e25d7c7-a780-4eb5-8f2d-1effde9a9418
DTSTART;VALUE=DATE:20270308
DTEND;VALUE=DATE:20270319
DESCRIPTION:
LOCATION:16500 Pierce Ferry Rd\, Dolan Springs\, AZ 86441\, USA
SUMMARY: 🌼🌷 Spring Break
END:VEVENT
BEGIN:VEVENT
DTSTAMP:20260421T205558Z
UID:e2ab3857-100d-42ad-8af5-3bb9956ae661
DTSTART;VALUE=DATE:20270329
DTEND;VALUE=DATE:20270330
DESCRIPTION:
LOCATION:16500 Pierce Ferry Rd\, Dolan Springs\, AZ 86441\, USA
SUMMARY:Spring Holiday - No School!
END:VEVENT
END:VCALENDAR
