BEGIN:VCALENDAR
VERSION:2.0
PRODID:icalendar-ruby
CALSCALE:GREGORIAN
BEGIN:VTIMEZONE
TZID:America/Denver
BEGIN:DAYLIGHT
DTSTART:20260308T030000
TZOFFSETFROM:-0700
TZOFFSETTO:-0600
RRULE:FREQ=YEARLY;BYDAY=2SU;BYMONTH=3
TZNAME:MDT
END:DAYLIGHT
BEGIN:STANDARD
DTSTART:20261101T010000
TZOFFSETFROM:-0600
TZOFFSETTO:-0700
RRULE:FREQ=YEARLY;BYDAY=1SU;BYMONTH=11
TZNAME:MST
END:STANDARD
END:VTIMEZONE
BEGIN:VEVENT
DTSTAMP:20260422T084607Z
UID:c40faa99-5d63-4131-bf71-1e6a8d540104
DTSTART:20260422T080000
DTEND:20260422T090000
DESCRIPTION:
LOCATION:
SUMMARY:April 22\, 2026 Regular School Board Meeting
END:VEVENT
BEGIN:VEVENT
DTSTAMP:20260422T084607Z
UID:0afa21de-b071-4e5e-bfa0-858c024491f5
DTSTART:20260506T180000
DTEND:20260506T220000
DESCRIPTION:
LOCATION:
SUMMARY:May 6\, 2026 Regular School Board Meeting
END:VEVENT
BEGIN:VEVENT
DTSTAMP:20260422T084607Z
UID:58ae4e00-c274-4e41-8f84-644d2c045efc
DTSTART:20260520T180000
DTEND:20260520T220000
DESCRIPTION:
LOCATION:
SUMMARY:May 20\, 2026 Regular School Board Meeting
END:VEVENT
BEGIN:VEVENT
DTSTAMP:20260422T084607Z
UID:0013045d-4498-4ef4-bf83-6f95584ba97b
DTSTART:20260610T180000
DTEND:20260610T220000
DESCRIPTION:
LOCATION:
SUMMARY:June 10\, 2026 Regular School Board Meeting
END:VEVENT
BEGIN:VEVENT
DTSTAMP:20260422T084607Z
UID:dbbdefd2-a220-4fd4-b6de-c644fc5baaad
DTSTART:20260624T180000
DTEND:20260624T220000
DESCRIPTION:
LOCATION:
SUMMARY:June 24\, 2026 Regular School Board Meeting
END:VEVENT
END:VCALENDAR
