BEGIN:VCALENDAR
VERSION:2.0
PRODID:icalendar-ruby
CALSCALE:GREGORIAN
BEGIN:VTIMEZONE
TZID:America/New_York
BEGIN:DAYLIGHT
DTSTART:20260308T030000
TZOFFSETFROM:-0500
TZOFFSETTO:-0400
RRULE:FREQ=YEARLY;BYDAY=2SU;BYMONTH=3
TZNAME:EDT
END:DAYLIGHT
BEGIN:STANDARD
DTSTART:20261101T010000
TZOFFSETFROM:-0400
TZOFFSETTO:-0500
RRULE:FREQ=YEARLY;BYDAY=1SU;BYMONTH=11
TZNAME:EST
END:STANDARD
END:VTIMEZONE
BEGIN:VEVENT
DTSTAMP:20260423T103541Z
UID:59d92997-0912-4f60-baaa-a5ca98db77e7
DTSTART:20260428T183000
DTEND:20260428T200000
DESCRIPTION:
LOCATION:509 Davisville Rd\, Willow Grove\, PA 19090\, USA
SUMMARY:Legislative Meeting
END:VEVENT
BEGIN:VEVENT
DTSTAMP:20260423T103541Z
UID:39e84f6c-176d-40f2-a6bf-6524348f5ade
DTSTART;VALUE=DATE:20260501
DTEND;VALUE=DATE:20260502
DESCRIPTION:
LOCATION:
SUMMARY:School Lunch Hero Day
END:VEVENT
BEGIN:VEVENT
DTSTAMP:20260423T103541Z
UID:1988cc7a-c92a-4822-ab1d-568e2ffee872
DTSTART;VALUE=DATE:20260504
DTEND;VALUE=DATE:20260509
DESCRIPTION:
LOCATION:
SUMMARY:Teacher Appreciation Week
END:VEVENT
BEGIN:VEVENT
DTSTAMP:20260423T103541Z
UID:4d584273-5684-4632-ab63-df71378038b2
DTSTART;VALUE=DATE:20260506
DTEND;VALUE=DATE:20260507
DESCRIPTION:
LOCATION:
SUMMARY:School Nurse Day
END:VEVENT
BEGIN:VEVENT
DTSTAMP:20260423T103541Z
UID:ca76a1f5-2ae2-4bc2-b64f-68c87c61ce64
DTSTART;VALUE=DATE:20260510
DTEND;VALUE=DATE:20260511
DESCRIPTION:
LOCATION:
SUMMARY:Mother's Day
END:VEVENT
BEGIN:VEVENT
DTSTAMP:20260423T103541Z
UID:5a168669-107d-462e-932b-31e0531c0413
DTSTART:20260512T183000
DTEND:20260512T200000
DESCRIPTION:
LOCATION:509 Davisville Rd\, Willow Grove\, PA 19090\, USA
SUMMARY:Committee of the Whole Meeting
END:VEVENT
BEGIN:VEVENT
DTSTAMP:20260423T103541Z
UID:068bf5f6-838d-4d39-b80c-15355ac97f1e
DTSTART;VALUE=DATE:20260519
DTEND;VALUE=DATE:20260520
DESCRIPTION:
LOCATION:
SUMMARY:Election Day
END:VEVENT
BEGIN:VEVENT
DTSTAMP:20260423T103541Z
UID:3b690ea9-a208-40a6-adf0-d2236fc3ae27
DTSTART;VALUE=DATE:20260519
DTEND;VALUE=DATE:20260520
DESCRIPTION:
LOCATION:
SUMMARY:No School: Students/Teachers
END:VEVENT
BEGIN:VEVENT
DTSTAMP:20260423T103541Z
UID:a5afabf9-48e5-431c-90b8-cebb59086a39
DTSTART;VALUE=DATE:20260520
DTEND;VALUE=DATE:20260521
DESCRIPTION:
LOCATION:
SUMMARY:Special Olympics @ Hatboro-Horsham High School
END:VEVENT
BEGIN:VEVENT
DTSTAMP:20260423T103541Z
UID:ed0f26bf-a88e-4056-a95b-7e5e8772fea6
DTSTART;VALUE=DATE:20260522
DTEND;VALUE=DATE:20260523
DESCRIPTION:
LOCATION:
SUMMARY:UMPS: Field Day
END:VEVENT
BEGIN:VEVENT
DTSTAMP:20260423T103541Z
UID:afddee83-be9e-45c0-b942-09fa246bb8a5
DTSTART;VALUE=DATE:20260525
DTEND;VALUE=DATE:20260526
DESCRIPTION:
LOCATION:
SUMMARY:District Closed
END:VEVENT
BEGIN:VEVENT
DTSTAMP:20260423T103541Z
UID:eb9ea055-ff27-4959-9e6d-28f634023d6b
DTSTART;VALUE=DATE:20260525
DTEND;VALUE=DATE:20260526
DESCRIPTION:
LOCATION:
SUMMARY:Memorial Day
END:VEVENT
BEGIN:VEVENT
DTSTAMP:20260423T103541Z
UID:1d5ee494-882e-492a-acbe-49a4a9309d94
DTSTART:20260526T183000
DTEND:20260526T200000
DESCRIPTION:
LOCATION:509 Davisville Rd\, Willow Grove\, PA 19090\, USA
SUMMARY:Legislative Meeting
END:VEVENT
BEGIN:VEVENT
DTSTAMP:20260423T103541Z
UID:3738ba5e-bb0a-49fc-b747-7ae54f11c901
DTSTART;VALUE=DATE:20260609
DTEND;VALUE=DATE:20260610
DESCRIPTION:
LOCATION:
SUMMARY:Commencement
END:VEVENT
BEGIN:VEVENT
DTSTAMP:20260423T103541Z
UID:2543543a-ace2-4414-a143-cfdbdef45a7a
DTSTART;VALUE=DATE:20260609
DTEND;VALUE=DATE:20260610
DESCRIPTION:
LOCATION:
SUMMARY:Last Student Day (Tentative)
END:VEVENT
BEGIN:VEVENT
DTSTAMP:20260423T103541Z
UID:c77d2f29-9f42-4953-bab7-c7f97fb4209f
DTSTART;VALUE=DATE:20260614
DTEND;VALUE=DATE:20260615
DESCRIPTION:
LOCATION:
SUMMARY:Flag Day
END:VEVENT
BEGIN:VEVENT
DTSTAMP:20260423T103541Z
UID:8c5c69dd-5f12-497c-ad2e-04d6ed4141c6
DTSTART:20260616T183000
DTEND:20260616T200000
DESCRIPTION:
LOCATION:509 Davisville Rd\, Willow Grove\, PA 19090\, USA
SUMMARY:Committee of the Whole Meeting
END:VEVENT
BEGIN:VEVENT
DTSTAMP:20260423T103541Z
UID:df161f25-0c35-4baf-a39f-5dad3e47dcba
DTSTART:20260616T183000
DTEND:20260616T200000
DESCRIPTION:
LOCATION:509 Davisville Rd\, Willow Grove\, PA 19090\, USA
SUMMARY:Committee of the Whole Meeting
END:VEVENT
BEGIN:VEVENT
DTSTAMP:20260423T103541Z
UID:328e430d-d7c6-4cef-98e9-05ccda2451e4
DTSTART;VALUE=DATE:20260619
DTEND;VALUE=DATE:20260620
DESCRIPTION:
LOCATION:
SUMMARY:District Closed
END:VEVENT
BEGIN:VEVENT
DTSTAMP:20260423T103541Z
UID:c36c0bce-51a3-4255-a0f2-6ec5f6134f19
DTSTART;VALUE=DATE:20260619
DTEND;VALUE=DATE:20260620
DESCRIPTION:
LOCATION:
SUMMARY:Juneteenth
END:VEVENT
BEGIN:VEVENT
DTSTAMP:20260423T103541Z
UID:fbc2eb7d-6d8b-4d26-9120-3f3462ed1241
DTSTART;VALUE=DATE:20260621
DTEND;VALUE=DATE:20260622
DESCRIPTION:
LOCATION:
SUMMARY:Father's Day
END:VEVENT
BEGIN:VEVENT
DTSTAMP:20260423T103541Z
UID:dc9da4a3-46e0-46d7-9334-9bbc8aa6dfd1
DTSTART;VALUE=DATE:20260621
DTEND;VALUE=DATE:20260622
DESCRIPTION:
LOCATION:
SUMMARY:First Day of Summer
END:VEVENT
BEGIN:VEVENT
DTSTAMP:20260423T103541Z
UID:7f079551-743b-4133-a087-3758b5bcca0c
DTSTART:20260623T183000
DTEND:20260623T200000
DESCRIPTION:
LOCATION:509 Davisville Rd\, Willow Grove\, PA 19090\, USA
SUMMARY:Legislative Meeting
END:VEVENT
BEGIN:VEVENT
DTSTAMP:20260423T103541Z
UID:61748ab6-486a-4133-a455-96719a2bae34
DTSTART;VALUE=DATE:20260703
DTEND;VALUE=DATE:20260704
DESCRIPTION:
LOCATION:
SUMMARY:District Closed
END:VEVENT
BEGIN:VEVENT
DTSTAMP:20260423T103541Z
UID:be4fa95b-fa8a-4c1e-8126-547ec7612e79
DTSTART;VALUE=DATE:20260704
DTEND;VALUE=DATE:20260705
DESCRIPTION:
LOCATION:
SUMMARY:Independence Day
END:VEVENT
BEGIN:VEVENT
DTSTAMP:20260423T103541Z
UID:035d5d7c-455e-402e-9fa5-78ae0e4574a4
DTSTART:20260728T183000
DTEND:20260728T200000
DESCRIPTION:
LOCATION:509 Davisville Rd\, Willow Grove\, PA 19090\, USA
SUMMARY:Legislative Meeting (Hold)
END:VEVENT
BEGIN:VEVENT
DTSTAMP:20260423T103541Z
UID:1e79bc10-1f1c-49af-b89d-3715117bb8d6
DTSTART:20260811T183000
DTEND:20260811T200000
DESCRIPTION:
LOCATION:509 Davisville Rd\, Willow Grove\, PA 19090\, USA
SUMMARY:Committee of the Whole Meeting
END:VEVENT
BEGIN:VEVENT
DTSTAMP:20260423T103541Z
UID:e7d12022-1aa0-414e-89ba-a4007ea0d03f
DTSTART:20260818T183000
DTEND:20260818T200000
DESCRIPTION:
LOCATION:509 Davisville Rd\, Willow Grove\, PA 19090\, USA
SUMMARY:Policy Committee Meeting
END:VEVENT
BEGIN:VEVENT
DTSTAMP:20260423T103541Z
UID:39fbc725-ce62-4700-a8bb-379223d872ac
DTSTART;VALUE=DATE:20260819
DTEND;VALUE=DATE:20260821
DESCRIPTION:
LOCATION:
SUMMARY:New Teacher Induction
END:VEVENT
BEGIN:VEVENT
DTSTAMP:20260423T103541Z
UID:e1d4d51a-2ede-403b-bea5-252ebdb7d47b
DTSTART;VALUE=DATE:20260824
DTEND;VALUE=DATE:20260827
DESCRIPTION:
LOCATION:
SUMMARY:Staff Development (Act 80)
END:VEVENT
BEGIN:VEVENT
DTSTAMP:20260423T103541Z
UID:8f56c64b-b821-421d-b31f-685cdde39257
DTSTART:20260825T183000
DTEND:20260825T200000
DESCRIPTION:
LOCATION:509 Davisville Rd\, Willow Grove\, PA 19090\, USA
SUMMARY:Legislative Meeting
END:VEVENT
BEGIN:VEVENT
DTSTAMP:20260423T103541Z
UID:f0f35c30-1f53-4ea4-a19d-5f9e1acdb58d
DTSTART;VALUE=DATE:20260831
DTEND;VALUE=DATE:20260901
DESCRIPTION:
LOCATION:
SUMMARY:Student First Day (Grades 1-12)
END:VEVENT
BEGIN:VEVENT
DTSTAMP:20260423T103541Z
UID:00f6c3dc-6d6a-43fa-a91a-6b2b0c1f05f8
DTSTART;VALUE=DATE:20260901
DTEND;VALUE=DATE:20260902
DESCRIPTION:
LOCATION:
SUMMARY:Student First Day (Kindergarten)
END:VEVENT
BEGIN:VEVENT
DTSTAMP:20260423T103541Z
UID:2e2df268-4693-4f56-8080-bdcbdde5d03e
DTSTART;VALUE=DATE:20260904
DTEND;VALUE=DATE:20260905
DESCRIPTION:
LOCATION:
SUMMARY:No School: Students/Teachers
END:VEVENT
BEGIN:VEVENT
DTSTAMP:20260423T103541Z
UID:b07b6f30-8e05-4dfc-976f-fb1c7a34fd29
DTSTART;VALUE=DATE:20260907
DTEND;VALUE=DATE:20260908
DESCRIPTION:
LOCATION:
SUMMARY:District Closed
END:VEVENT
BEGIN:VEVENT
DTSTAMP:20260423T103541Z
UID:3e321b69-883f-468f-b172-c8cb190b24c9
DTSTART;VALUE=DATE:20260907
DTEND;VALUE=DATE:20260908
DESCRIPTION:
LOCATION:
SUMMARY:Labor Day
END:VEVENT
BEGIN:VEVENT
DTSTAMP:20260423T103541Z
UID:24eb2711-e0ed-4f24-82af-0ac81f2e7986
DTSTART:20260908T183000
DTEND:20260908T200000
DESCRIPTION:
LOCATION:509 Davisville Rd\, Willow Grove\, PA 19090\, USA
SUMMARY:Committee of the Whole Meeting
END:VEVENT
BEGIN:VEVENT
DTSTAMP:20260423T103541Z
UID:5828de72-603b-4cbc-9c1c-7b4c0fdecc51
DTSTART;VALUE=DATE:20260911
DTEND;VALUE=DATE:20260912
DESCRIPTION:
LOCATION:
SUMMARY:No School: Students/Teachers
END:VEVENT
BEGIN:VEVENT
DTSTAMP:20260423T103541Z
UID:69732a31-b120-4012-9d6e-f37a6f39e405
DTSTART:20260915T183000
DTEND:20260915T200000
DESCRIPTION:
LOCATION:509 Davisville Rd\, Willow Grove\, PA 19090\, USA
SUMMARY:Policy Committee Meeting
END:VEVENT
BEGIN:VEVENT
DTSTAMP:20260423T103541Z
UID:cb9d6fae-bc31-4b84-9f5c-c01a809f310a
DTSTART;VALUE=DATE:20260921
DTEND;VALUE=DATE:20260922
DESCRIPTION:
LOCATION:
SUMMARY:No School: Students/Teachers
END:VEVENT
BEGIN:VEVENT
DTSTAMP:20260423T103541Z
UID:3146abd5-0fb3-4dcf-b834-177db8de7afe
DTSTART:20260922T183000
DTEND:20260922T200000
DESCRIPTION:
LOCATION:509 Davisville Rd\, Willow Grove\, PA 19090\, USA
SUMMARY:Legislative Meeting
END:VEVENT
BEGIN:VEVENT
DTSTAMP:20260423T103541Z
UID:5237e451-4807-49c5-ab01-c1c32f450a8b
DTSTART:20261013T183000
DTEND:20261013T200000
DESCRIPTION:
LOCATION:509 Davisville Rd\, Willow Grove\, PA 19090\, USA
SUMMARY:Committee of the Whole Meeting
END:VEVENT
BEGIN:VEVENT
DTSTAMP:20260423T103541Z
UID:7991c9b3-a601-4e2c-9f0c-388318c0ed29
DTSTART;VALUE=DATE:20261016
DTEND;VALUE=DATE:20261017
DESCRIPTION:
LOCATION:
SUMMARY:Early Dismissal (Grades K-12)
END:VEVENT
BEGIN:VEVENT
DTSTAMP:20260423T103541Z
UID:44aa4762-8123-4616-80c2-44dd4ae97a10
DTSTART:20261020T183000
DTEND:20261020T200000
DESCRIPTION:
LOCATION:509 Davisville Rd\, Willow Grove\, PA 19090\, USA
SUMMARY:Policy Committee Meeting
END:VEVENT
BEGIN:VEVENT
DTSTAMP:20260423T103541Z
UID:3951e189-02d8-4fd6-91b0-dd43260f583d
DTSTART:20261027T183000
DTEND:20261027T200000
DESCRIPTION:
LOCATION:509 Davisville Rd\, Willow Grove\, PA 19090\, USA
SUMMARY:Legislative Meeting
END:VEVENT
BEGIN:VEVENT
DTSTAMP:20260423T103541Z
UID:a29e38fb-1095-495e-b1ed-8aa6aa243710
DTSTART;VALUE=DATE:20261103
DTEND;VALUE=DATE:20261104
DESCRIPTION:
LOCATION:
SUMMARY:Election Day
END:VEVENT
BEGIN:VEVENT
DTSTAMP:20260423T103541Z
UID:1f5aa486-dd85-4f76-9798-ffd0f4e7e70e
DTSTART;VALUE=DATE:20261103
DTEND;VALUE=DATE:20261104
DESCRIPTION:
LOCATION:
SUMMARY:No School: Students
END:VEVENT
BEGIN:VEVENT
DTSTAMP:20260423T103541Z
UID:f1663d2e-8cd3-43db-adbc-21120227f25c
DTSTART;VALUE=DATE:20261103
DTEND;VALUE=DATE:20261104
DESCRIPTION:
LOCATION:
SUMMARY:Staff Development (Act 80)
END:VEVENT
BEGIN:VEVENT
DTSTAMP:20260423T103541Z
UID:0322a97e-b45e-45c7-a6e1-ac80ef84fa14
DTSTART;VALUE=DATE:20261109
DTEND;VALUE=DATE:20261110
DESCRIPTION:
LOCATION:
SUMMARY:No School: Students/Teachers
END:VEVENT
BEGIN:VEVENT
DTSTAMP:20260423T103541Z
UID:cee24729-9248-4ef0-bc11-290ff9db06a1
DTSTART:20261110T183000
DTEND:20261110T200000
DESCRIPTION:
LOCATION:509 Davisville Rd\, Willow Grove\, PA 19090\, USA
SUMMARY:Committee of the Whole Meeting
END:VEVENT
BEGIN:VEVENT
DTSTAMP:20260423T103541Z
UID:3ac2ae9b-89ec-47cc-ae1e-8f2703c55874
DTSTART;VALUE=DATE:20261111
DTEND;VALUE=DATE:20261112
DESCRIPTION:
LOCATION:
SUMMARY:Veterans Day
END:VEVENT
BEGIN:VEVENT
DTSTAMP:20260423T103541Z
UID:47b15edc-41b2-4b9d-af7f-68001a41c74b
DTSTART:20261117T183000
DTEND:20261117T200000
DESCRIPTION:
LOCATION:509 Davisville Rd\, Willow Grove\, PA 19090\, USA
SUMMARY:Policy Committee Meeting
END:VEVENT
BEGIN:VEVENT
DTSTAMP:20260423T103541Z
UID:625eb386-2b7d-4d30-ac42-61f50a04bc60
DTSTART;VALUE=DATE:20261123
DTEND;VALUE=DATE:20261126
DESCRIPTION:
LOCATION:
SUMMARY:Early Dismissal (Grades K-12)
END:VEVENT
BEGIN:VEVENT
DTSTAMP:20260423T103541Z
UID:394f376b-6045-4b8c-89c2-62af5cf44a6c
DTSTART:20261124T183000
DTEND:20261124T200000
DESCRIPTION:
LOCATION:509 Davisville Rd\, Willow Grove\, PA 19090\, USA
SUMMARY:Legislative Meeting
END:VEVENT
BEGIN:VEVENT
DTSTAMP:20260423T103541Z
UID:a5e7da84-dce5-42fe-ae69-b6cc4758aa81
DTSTART;VALUE=DATE:20261126
DTEND;VALUE=DATE:20261128
DESCRIPTION:
LOCATION:
SUMMARY:District Closed
END:VEVENT
BEGIN:VEVENT
DTSTAMP:20260423T103541Z
UID:52b32c8c-a39c-4694-afc2-d613fe8e2daf
DTSTART;VALUE=DATE:20261126
DTEND;VALUE=DATE:20261127
DESCRIPTION:
LOCATION:
SUMMARY:Thanksgiving Day
END:VEVENT
BEGIN:VEVENT
DTSTAMP:20260423T103541Z
UID:504dff13-d3d5-4e3b-8525-a7dee70c6604
DTSTART:20261201T183000
DTEND:20261201T200000
DESCRIPTION:
LOCATION:509 Davisville Rd\, Willow Grove\, PA 19090\, USA
SUMMARY:Board of Directors Reorganization Meeting
END:VEVENT
BEGIN:VEVENT
DTSTAMP:20260423T103541Z
UID:6934925d-e534-4023-929a-325e955e643f
DTSTART;VALUE=DATE:20261224
DTEND;VALUE=DATE:20261225
DESCRIPTION:
LOCATION:
SUMMARY:Christmas Eve
END:VEVENT
BEGIN:VEVENT
DTSTAMP:20260423T103541Z
UID:fa001276-47bb-4225-a461-2eb6659d8c1e
DTSTART;VALUE=DATE:20261224
DTEND;VALUE=DATE:20261226
DESCRIPTION:
LOCATION:
SUMMARY:District Closed
END:VEVENT
BEGIN:VEVENT
DTSTAMP:20260423T103541Z
UID:c9f34b16-f42b-4fd9-8768-632982fb21a8
DTSTART;VALUE=DATE:20261225
DTEND;VALUE=DATE:20261226
DESCRIPTION:
LOCATION:
SUMMARY:Christmas Day
END:VEVENT
BEGIN:VEVENT
DTSTAMP:20260423T103541Z
UID:5d9950be-c3c7-475f-b624-6e18b8fdcd85
DTSTART;VALUE=DATE:20261228
DTEND;VALUE=DATE:20270101
DESCRIPTION:
LOCATION:
SUMMARY:No School: Students/Teachers
END:VEVENT
BEGIN:VEVENT
DTSTAMP:20260423T103541Z
UID:8eebe3dd-2ae6-49c8-ac8a-164e59b0e81f
DTSTART;VALUE=DATE:20261231
DTEND;VALUE=DATE:20270101
DESCRIPTION:
LOCATION:
SUMMARY:New Year's Eve
END:VEVENT
BEGIN:VEVENT
DTSTAMP:20260423T103541Z
UID:01614f1d-aa2a-4675-8951-3cc2d828b5e1
DTSTART;VALUE=DATE:20270101
DTEND;VALUE=DATE:20270102
DESCRIPTION:
LOCATION:
SUMMARY:District Closed
END:VEVENT
BEGIN:VEVENT
DTSTAMP:20260423T103541Z
UID:75e31c5c-93b1-4372-af0d-0a76fb3d076b
DTSTART;VALUE=DATE:20270101
DTEND;VALUE=DATE:20270102
DESCRIPTION:
LOCATION:
SUMMARY:New Year's Day
END:VEVENT
BEGIN:VEVENT
DTSTAMP:20260423T103541Z
UID:243218bd-d2ac-45f4-a703-6588ee643585
DTSTART;VALUE=DATE:20270115
DTEND;VALUE=DATE:20270116
DESCRIPTION:
LOCATION:
SUMMARY:Early Dismissal (Grades K-12)
END:VEVENT
BEGIN:VEVENT
DTSTAMP:20260423T103541Z
UID:d76aff3a-8ec4-42c0-9684-b628c912ca6f
DTSTART;VALUE=DATE:20270118
DTEND;VALUE=DATE:20270119
DESCRIPTION:
LOCATION:
SUMMARY:District Closed
END:VEVENT
BEGIN:VEVENT
DTSTAMP:20260423T103541Z
UID:df84c223-66f8-482f-bc5f-70c58a4db2b2
DTSTART;VALUE=DATE:20270118
DTEND;VALUE=DATE:20270119
DESCRIPTION:
LOCATION:
SUMMARY:Martin Luther King Jr. Day
END:VEVENT
BEGIN:VEVENT
DTSTAMP:20260423T103541Z
UID:8180ac75-48ff-4b77-81db-c6731a93e0fc
DTSTART;VALUE=DATE:20270212
DTEND;VALUE=DATE:20270213
DESCRIPTION:
LOCATION:
SUMMARY:No School: Students
END:VEVENT
BEGIN:VEVENT
DTSTAMP:20260423T103541Z
UID:fd18b58f-c3f0-448f-bcb4-303f2787000a
DTSTART;VALUE=DATE:20270212
DTEND;VALUE=DATE:20270213
DESCRIPTION:
LOCATION:
SUMMARY:Staff Development (Act 80)
END:VEVENT
BEGIN:VEVENT
DTSTAMP:20260423T103541Z
UID:847f4f0d-1aca-4713-9700-47c9730d809d
DTSTART;VALUE=DATE:20270215
DTEND;VALUE=DATE:20270216
DESCRIPTION:
LOCATION:
SUMMARY:District Closed
END:VEVENT
BEGIN:VEVENT
DTSTAMP:20260423T103541Z
UID:b3ceb353-bb67-4c0b-8738-367cc1da7f92
DTSTART;VALUE=DATE:20270215
DTEND;VALUE=DATE:20270216
DESCRIPTION:
LOCATION:
SUMMARY:Presidents' Day
END:VEVENT
BEGIN:VEVENT
DTSTAMP:20260423T103541Z
UID:513b92a1-b640-4d1b-8bcf-14bbdb0c889f
DTSTART;VALUE=DATE:20270310
DTEND;VALUE=DATE:20270311
DESCRIPTION:
LOCATION:
SUMMARY:No School: Students/Teachers
END:VEVENT
BEGIN:VEVENT
DTSTAMP:20260423T103541Z
UID:471523a2-66b0-4299-a817-ef1833282e75
DTSTART;VALUE=DATE:20270322
DTEND;VALUE=DATE:20270325
DESCRIPTION:
LOCATION:
SUMMARY:Early Dismissal (Grades K-12)
END:VEVENT
BEGIN:VEVENT
DTSTAMP:20260423T103541Z
UID:d77c3dfa-4c2c-4f73-b56d-115c5f44e8e1
DTSTART;VALUE=DATE:20270325
DTEND;VALUE=DATE:20270326
DESCRIPTION:
LOCATION:
SUMMARY:No School: Students/Teachers
END:VEVENT
BEGIN:VEVENT
DTSTAMP:20260423T103541Z
UID:42d13e67-05c4-4c5f-8f81-1aa515a6d65e
DTSTART;VALUE=DATE:20270326
DTEND;VALUE=DATE:20270327
DESCRIPTION:
LOCATION:
SUMMARY:District Closed
END:VEVENT
BEGIN:VEVENT
DTSTAMP:20260423T103541Z
UID:c908765d-cfaa-4554-bd7f-b06bc912ca87
DTSTART;VALUE=DATE:20270329
DTEND;VALUE=DATE:20270330
DESCRIPTION:
LOCATION:
SUMMARY:No School: Students/Teachers
END:VEVENT
BEGIN:VEVENT
DTSTAMP:20260423T103541Z
UID:4dc506a5-bab5-4eea-93f8-ae95dcb1a8c0
DTSTART;VALUE=DATE:20270518
DTEND;VALUE=DATE:20270519
DESCRIPTION:
LOCATION:
SUMMARY:No School: Students
END:VEVENT
BEGIN:VEVENT
DTSTAMP:20260423T103541Z
UID:df4cc004-6f3c-4907-8e82-c70f612ac41c
DTSTART;VALUE=DATE:20270518
DTEND;VALUE=DATE:20270519
DESCRIPTION:
LOCATION:
SUMMARY:Staff Development (Act 80)
END:VEVENT
BEGIN:VEVENT
DTSTAMP:20260423T103541Z
UID:8f4e740c-03f0-4920-a46c-51dbb9e125bb
DTSTART;VALUE=DATE:20270531
DTEND;VALUE=DATE:20270601
DESCRIPTION:
LOCATION:
SUMMARY:District Closed
END:VEVENT
BEGIN:VEVENT
DTSTAMP:20260423T103541Z
UID:dda4259d-d779-407d-945e-4a7a9fb59e7c
DTSTART;VALUE=DATE:20270531
DTEND;VALUE=DATE:20270601
DESCRIPTION:
LOCATION:
SUMMARY:Memorial Day
END:VEVENT
BEGIN:VEVENT
DTSTAMP:20260423T103541Z
UID:7ea86f3d-7e95-492b-bd6c-178bf6b02074
DTSTART;VALUE=DATE:20270608
DTEND;VALUE=DATE:20270609
DESCRIPTION:
LOCATION:
SUMMARY:Commencement
END:VEVENT
BEGIN:VEVENT
DTSTAMP:20260423T103541Z
UID:de5aee0e-4194-4384-a3a4-5b1a385054a9
DTSTART;VALUE=DATE:20270611
DTEND;VALUE=DATE:20270612
DESCRIPTION:
LOCATION:
SUMMARY:Last Student Day (Tentative)
END:VEVENT
BEGIN:VEVENT
DTSTAMP:20260423T103541Z
UID:f59b5e98-cd6c-4cda-a135-0dafc3d2e188
DTSTART;VALUE=DATE:20270618
DTEND;VALUE=DATE:20270619
DESCRIPTION:
LOCATION:
SUMMARY:District Closed
END:VEVENT
BEGIN:VEVENT
DTSTAMP:20260423T103541Z
UID:17ddda0c-59bc-4cae-bbbd-52cf8cccc9fe
DTSTART;VALUE=DATE:20270618
DTEND;VALUE=DATE:20270619
DESCRIPTION:
LOCATION:
SUMMARY:Juneteenth (19th)
END:VEVENT
END:VCALENDAR
