BEGIN:VCALENDAR
VERSION:2.0
PRODID:icalendar-ruby
CALSCALE:GREGORIAN
BEGIN:VTIMEZONE
TZID:America/New_York
BEGIN:DAYLIGHT
DTSTART:20260308T030000
TZOFFSETFROM:-0500
TZOFFSETTO:-0400
RRULE:FREQ=YEARLY;BYDAY=2SU;BYMONTH=3
TZNAME:EDT
END:DAYLIGHT
BEGIN:STANDARD
DTSTART:20261101T010000
TZOFFSETFROM:-0400
TZOFFSETTO:-0500
RRULE:FREQ=YEARLY;BYDAY=1SU;BYMONTH=11
TZNAME:EST
END:STANDARD
END:VTIMEZONE
BEGIN:VEVENT
DTSTAMP:20260425T175024Z
UID:a9931865-fb65-4bf9-a187-ff2179753d19
DTSTART:20260430T190000
DTEND:20260430T210000
DESCRIPTION:
LOCATION:Vasher Theatre
SUMMARY:Choir Concert
END:VEVENT
BEGIN:VEVENT
DTSTAMP:20260425T175024Z
UID:35c0ab55-87cc-4812-a635-2f2a524ebffa
DTSTART:20260501T080000
DTEND:20260501T230000
DESCRIPTION:
LOCATION:6200 State St\, Saginaw\, MI 48603\, USA
SUMMARY:Junior/Senior Prom
END:VEVENT
BEGIN:VEVENT
DTSTAMP:20260425T175024Z
UID:02e4210d-b954-480f-800e-d6d47fa50d29
DTSTART:20260505T190000
DTEND:20260505T210000
DESCRIPTION:
LOCATION:Vasher Theatre
SUMMARY:Orchestra Concert
END:VEVENT
BEGIN:VEVENT
DTSTAMP:20260425T175024Z
UID:b214c61c-87f3-46d2-bd91-e6bc09db07b8
DTSTART:20260507T190000
DTEND:20260507T210000
DESCRIPTION:
LOCATION:Vasher Theatre
SUMMARY:Band Concert
END:VEVENT
BEGIN:VEVENT
DTSTAMP:20260425T175024Z
UID:1c29161c-6a28-46d0-a793-dd1700c0c9d3
DTSTART:20260519T180000
DTEND:20260519T210000
DESCRIPTION:
LOCATION:303 Johnson St\, Saginaw\, MI 48607\, USA
SUMMARY:Graduation
END:VEVENT
END:VCALENDAR
