BEGIN:VCALENDAR
VERSION:2.0
PRODID:icalendar-ruby
CALSCALE:GREGORIAN
BEGIN:VTIMEZONE
TZID:America/New_York
BEGIN:DAYLIGHT
DTSTART:20260308T030000
TZOFFSETFROM:-0500
TZOFFSETTO:-0400
RRULE:FREQ=YEARLY;BYDAY=2SU;BYMONTH=3
TZNAME:EDT
END:DAYLIGHT
BEGIN:STANDARD
DTSTART:20261101T010000
TZOFFSETFROM:-0400
TZOFFSETTO:-0500
RRULE:FREQ=YEARLY;BYDAY=1SU;BYMONTH=11
TZNAME:EST
END:STANDARD
END:VTIMEZONE
BEGIN:VEVENT
DTSTAMP:20260421T161445Z
UID:439c8473-2025-44fe-bdd4-ce4e18d88b2a
DTSTART;VALUE=DATE:20260525
DTEND;VALUE=DATE:20260526
DESCRIPTION:
LOCATION:
SUMMARY:Holiday No School
END:VEVENT
BEGIN:VEVENT
DTSTAMP:20260421T161445Z
UID:245e0658-16f8-41ac-88f5-860744410926
DTSTART;VALUE=DATE:20260610
DTEND;VALUE=DATE:20260611
DESCRIPTION:
LOCATION:
SUMMARY:Last Day of School
END:VEVENT
BEGIN:VEVENT
DTSTAMP:20260421T161445Z
UID:ed0172fa-9752-4a76-816e-0222ec8cf609
DTSTART;VALUE=DATE:20270225
DTEND;VALUE=DATE:20270226
DESCRIPTION:
LOCATION:
SUMMARY:George Moses Horton Day
END:VEVENT
BEGIN:VEVENT
DTSTAMP:20260421T161445Z
UID:11f82b98-e7b2-4a94-a9ba-19971f4877e8
DTSTART;VALUE=DATE:20280225
DTEND;VALUE=DATE:20280226
DESCRIPTION:
LOCATION:
SUMMARY:George Moses Horton Day
END:VEVENT
BEGIN:VEVENT
DTSTAMP:20260421T161445Z
UID:05041468-ca59-4bba-8402-3faba5a2db97
DTSTART;VALUE=DATE:20290225
DTEND;VALUE=DATE:20290226
DESCRIPTION:
LOCATION:
SUMMARY:George Moses Horton Day
END:VEVENT
BEGIN:VEVENT
DTSTAMP:20260421T161445Z
UID:6b1cdd00-2e9d-42a1-99c5-2721a94cb226
DTSTART;VALUE=DATE:20300225
DTEND;VALUE=DATE:20300226
DESCRIPTION:
LOCATION:
SUMMARY:George Moses Horton Day
END:VEVENT
BEGIN:VEVENT
DTSTAMP:20260421T161445Z
UID:919e716f-bb15-45f3-b889-5e9f38cb766b
DTSTART;VALUE=DATE:20310225
DTEND;VALUE=DATE:20310226
DESCRIPTION:
LOCATION:
SUMMARY:George Moses Horton Day
END:VEVENT
BEGIN:VEVENT
DTSTAMP:20260421T161445Z
UID:a000bdc5-aed7-4465-8f80-7249bbf280fc
DTSTART;VALUE=DATE:20320225
DTEND;VALUE=DATE:20320226
DESCRIPTION:
LOCATION:
SUMMARY:George Moses Horton Day
END:VEVENT
BEGIN:VEVENT
DTSTAMP:20260421T161445Z
UID:c894262f-6d3d-4caf-95bb-e4784a71088b
DTSTART;VALUE=DATE:20330225
DTEND;VALUE=DATE:20330226
DESCRIPTION:
LOCATION:
SUMMARY:George Moses Horton Day
END:VEVENT
BEGIN:VEVENT
DTSTAMP:20260421T161445Z
UID:9b5b7d24-256e-4963-b9b8-51be760f1d30
DTSTART;VALUE=DATE:20340225
DTEND;VALUE=DATE:20340226
DESCRIPTION:
LOCATION:
SUMMARY:George Moses Horton Day
END:VEVENT
BEGIN:VEVENT
DTSTAMP:20260421T161445Z
UID:acd10bca-ba89-4a44-87c7-da5953cb4cb8
DTSTART;VALUE=DATE:20350225
DTEND;VALUE=DATE:20350226
DESCRIPTION:
LOCATION:
SUMMARY:George Moses Horton Day
END:VEVENT
BEGIN:VEVENT
DTSTAMP:20260421T161445Z
UID:7d6662fd-1a5e-4bbc-82a7-278d8feb36af
DTSTART;VALUE=DATE:20360225
DTEND;VALUE=DATE:20360226
DESCRIPTION:
LOCATION:
SUMMARY:George Moses Horton Day
END:VEVENT
BEGIN:VEVENT
DTSTAMP:20260421T161445Z
UID:0332a437-a8dc-4069-96bb-a794fe874ffb
DTSTART;VALUE=DATE:20370225
DTEND;VALUE=DATE:20370226
DESCRIPTION:
LOCATION:
SUMMARY:George Moses Horton Day
END:VEVENT
BEGIN:VEVENT
DTSTAMP:20260421T161445Z
UID:b0a51f20-1560-41b9-969c-20f75ccff749
DTSTART;VALUE=DATE:20380225
DTEND;VALUE=DATE:20380226
DESCRIPTION:
LOCATION:
SUMMARY:George Moses Horton Day
END:VEVENT
BEGIN:VEVENT
DTSTAMP:20260421T161445Z
UID:d65183a2-0938-46d2-a861-ea6687772d9a
DTSTART;VALUE=DATE:20390225
DTEND;VALUE=DATE:20390226
DESCRIPTION:
LOCATION:
SUMMARY:George Moses Horton Day
END:VEVENT
BEGIN:VEVENT
DTSTAMP:20260421T161445Z
UID:589b67fb-cb4c-4fd2-afb0-769adc9d4b91
DTSTART;VALUE=DATE:20400225
DTEND;VALUE=DATE:20400226
DESCRIPTION:
LOCATION:
SUMMARY:George Moses Horton Day
END:VEVENT
BEGIN:VEVENT
DTSTAMP:20260421T161445Z
UID:a4b500c3-932c-43f8-bc95-93731ffd5b95
DTSTART;VALUE=DATE:20410225
DTEND;VALUE=DATE:20410226
DESCRIPTION:
LOCATION:
SUMMARY:George Moses Horton Day
END:VEVENT
BEGIN:VEVENT
DTSTAMP:20260421T161445Z
UID:7a45943f-7e91-4596-bfd3-97be8955dfad
DTSTART;VALUE=DATE:20420225
DTEND;VALUE=DATE:20420226
DESCRIPTION:
LOCATION:
SUMMARY:George Moses Horton Day
END:VEVENT
BEGIN:VEVENT
DTSTAMP:20260421T161445Z
UID:2d63f8a0-ff89-480f-a9f7-643e867cfbb0
DTSTART;VALUE=DATE:20430225
DTEND;VALUE=DATE:20430226
DESCRIPTION:
LOCATION:
SUMMARY:George Moses Horton Day
END:VEVENT
BEGIN:VEVENT
DTSTAMP:20260421T161445Z
UID:70cd4014-c6a1-4461-a373-6a83afad8f72
DTSTART;VALUE=DATE:20440225
DTEND;VALUE=DATE:20440226
DESCRIPTION:
LOCATION:
SUMMARY:George Moses Horton Day
END:VEVENT
BEGIN:VEVENT
DTSTAMP:20260421T161445Z
UID:0923e863-cb18-4aba-aaec-f487c6554cc6
DTSTART;VALUE=DATE:20450225
DTEND;VALUE=DATE:20450226
DESCRIPTION:
LOCATION:
SUMMARY:George Moses Horton Day
END:VEVENT
BEGIN:VEVENT
DTSTAMP:20260421T161445Z
UID:4905ab06-07e7-41b9-9a6f-105aba725c2e
DTSTART;VALUE=DATE:20460225
DTEND;VALUE=DATE:20460226
DESCRIPTION:
LOCATION:
SUMMARY:George Moses Horton Day
END:VEVENT
BEGIN:VEVENT
DTSTAMP:20260421T161445Z
UID:fabdb998-f19b-4931-8a6e-4e52abe52fca
DTSTART;VALUE=DATE:20470225
DTEND;VALUE=DATE:20470226
DESCRIPTION:
LOCATION:
SUMMARY:George Moses Horton Day
END:VEVENT
BEGIN:VEVENT
DTSTAMP:20260421T161445Z
UID:ba6ea303-feb4-4b2b-b830-8da601725737
DTSTART;VALUE=DATE:20480225
DTEND;VALUE=DATE:20480226
DESCRIPTION:
LOCATION:
SUMMARY:George Moses Horton Day
END:VEVENT
BEGIN:VEVENT
DTSTAMP:20260421T161445Z
UID:4551fbfa-d8a0-4673-8517-8c4a4bfb9273
DTSTART;VALUE=DATE:20490225
DTEND;VALUE=DATE:20490226
DESCRIPTION:
LOCATION:
SUMMARY:George Moses Horton Day
END:VEVENT
BEGIN:VEVENT
DTSTAMP:20260421T161445Z
UID:224e507d-bb1e-46f7-9cc5-a65859fac7cb
DTSTART;VALUE=DATE:20500225
DTEND;VALUE=DATE:20500226
DESCRIPTION:
LOCATION:
SUMMARY:George Moses Horton Day
END:VEVENT
BEGIN:VEVENT
DTSTAMP:20260421T161445Z
UID:60ed3f13-fb76-4127-b5a8-92bf57c216d3
DTSTART;VALUE=DATE:20510225
DTEND;VALUE=DATE:20510226
DESCRIPTION:
LOCATION:
SUMMARY:George Moses Horton Day
END:VEVENT
BEGIN:VEVENT
DTSTAMP:20260421T161445Z
UID:44c0ef61-f1c8-4e03-9d7d-6fb3bd2fc550
DTSTART;VALUE=DATE:20520225
DTEND;VALUE=DATE:20520226
DESCRIPTION:
LOCATION:
SUMMARY:George Moses Horton Day
END:VEVENT
BEGIN:VEVENT
DTSTAMP:20260421T161445Z
UID:8e035230-df7f-4b78-b478-ff77f48ada6f
DTSTART;VALUE=DATE:20530225
DTEND;VALUE=DATE:20530226
DESCRIPTION:
LOCATION:
SUMMARY:George Moses Horton Day
END:VEVENT
BEGIN:VEVENT
DTSTAMP:20260421T161445Z
UID:9bcfbe05-cfcb-47e7-8d45-78e825ed6dcd
DTSTART;VALUE=DATE:20540225
DTEND;VALUE=DATE:20540226
DESCRIPTION:
LOCATION:
SUMMARY:George Moses Horton Day
END:VEVENT
BEGIN:VEVENT
DTSTAMP:20260421T161445Z
UID:4aaba8e1-c0db-4880-9f9a-02bdc59918aa
DTSTART;VALUE=DATE:20550225
DTEND;VALUE=DATE:20550226
DESCRIPTION:
LOCATION:
SUMMARY:George Moses Horton Day
END:VEVENT
BEGIN:VEVENT
DTSTAMP:20260421T161445Z
UID:b30a63cd-1af0-4a0b-9261-cd18e8c1a4e4
DTSTART;VALUE=DATE:20560225
DTEND;VALUE=DATE:20560226
DESCRIPTION:
LOCATION:
SUMMARY:George Moses Horton Day
END:VEVENT
BEGIN:VEVENT
DTSTAMP:20260421T161445Z
UID:8f8f7e95-a35a-4c6c-ac46-af54919bd6c7
DTSTART;VALUE=DATE:20570225
DTEND;VALUE=DATE:20570226
DESCRIPTION:
LOCATION:
SUMMARY:George Moses Horton Day
END:VEVENT
BEGIN:VEVENT
DTSTAMP:20260421T161445Z
UID:021d9a07-9400-4d7f-8ed5-368330fcadeb
DTSTART;VALUE=DATE:20580225
DTEND;VALUE=DATE:20580226
DESCRIPTION:
LOCATION:
SUMMARY:George Moses Horton Day
END:VEVENT
BEGIN:VEVENT
DTSTAMP:20260421T161445Z
UID:b02ce8c6-425c-4f2f-9915-1a9c15b0527f
DTSTART;VALUE=DATE:20590225
DTEND;VALUE=DATE:20590226
DESCRIPTION:
LOCATION:
SUMMARY:George Moses Horton Day
END:VEVENT
BEGIN:VEVENT
DTSTAMP:20260421T161445Z
UID:2387f193-88ca-4972-8a1f-63b4a6f6f95a
DTSTART;VALUE=DATE:20600225
DTEND;VALUE=DATE:20600226
DESCRIPTION:
LOCATION:
SUMMARY:George Moses Horton Day
END:VEVENT
BEGIN:VEVENT
DTSTAMP:20260421T161445Z
UID:630ddce5-80fe-4207-9c88-9085d175486c
DTSTART;VALUE=DATE:20610225
DTEND;VALUE=DATE:20610226
DESCRIPTION:
LOCATION:
SUMMARY:George Moses Horton Day
END:VEVENT
BEGIN:VEVENT
DTSTAMP:20260421T161445Z
UID:84440c6c-2469-45c0-8aa5-5262d4b0edec
DTSTART;VALUE=DATE:20620225
DTEND;VALUE=DATE:20620226
DESCRIPTION:
LOCATION:
SUMMARY:George Moses Horton Day
END:VEVENT
BEGIN:VEVENT
DTSTAMP:20260421T161445Z
UID:25ddc22e-6138-4e44-ad80-b3b959531ae2
DTSTART;VALUE=DATE:20630225
DTEND;VALUE=DATE:20630226
DESCRIPTION:
LOCATION:
SUMMARY:George Moses Horton Day
END:VEVENT
BEGIN:VEVENT
DTSTAMP:20260421T161445Z
UID:bc3a6741-a6ff-4fd4-bd18-ff415919f302
DTSTART;VALUE=DATE:20640225
DTEND;VALUE=DATE:20640226
DESCRIPTION:
LOCATION:
SUMMARY:George Moses Horton Day
END:VEVENT
BEGIN:VEVENT
DTSTAMP:20260421T161445Z
UID:e3bf197f-0234-4f46-9918-61d3fa2d9957
DTSTART;VALUE=DATE:20650225
DTEND;VALUE=DATE:20650226
DESCRIPTION:
LOCATION:
SUMMARY:George Moses Horton Day
END:VEVENT
BEGIN:VEVENT
DTSTAMP:20260421T161445Z
UID:1dcc6b6d-34d4-4f36-ab3f-f3e620ad7aa0
DTSTART;VALUE=DATE:20660225
DTEND;VALUE=DATE:20660226
DESCRIPTION:
LOCATION:
SUMMARY:George Moses Horton Day
END:VEVENT
BEGIN:VEVENT
DTSTAMP:20260421T161445Z
UID:54990cbb-0a04-4b6e-a0a5-affdca49b3bd
DTSTART;VALUE=DATE:20670225
DTEND;VALUE=DATE:20670226
DESCRIPTION:
LOCATION:
SUMMARY:George Moses Horton Day
END:VEVENT
BEGIN:VEVENT
DTSTAMP:20260421T161445Z
UID:b01be273-96e5-4896-bf66-9ed82371c39b
DTSTART;VALUE=DATE:20680225
DTEND;VALUE=DATE:20680226
DESCRIPTION:
LOCATION:
SUMMARY:George Moses Horton Day
END:VEVENT
BEGIN:VEVENT
DTSTAMP:20260421T161445Z
UID:3f74423e-b4ea-4540-b73e-31d040a3c2ee
DTSTART;VALUE=DATE:20690225
DTEND;VALUE=DATE:20690226
DESCRIPTION:
LOCATION:
SUMMARY:George Moses Horton Day
END:VEVENT
BEGIN:VEVENT
DTSTAMP:20260421T161445Z
UID:47ed33fb-d95f-4138-8be9-d3909609d5d5
DTSTART;VALUE=DATE:20700225
DTEND;VALUE=DATE:20700226
DESCRIPTION:
LOCATION:
SUMMARY:George Moses Horton Day
END:VEVENT
BEGIN:VEVENT
DTSTAMP:20260421T161445Z
UID:f01e78a1-a98e-45ba-b833-2ac992823fb8
DTSTART;VALUE=DATE:20710225
DTEND;VALUE=DATE:20710226
DESCRIPTION:
LOCATION:
SUMMARY:George Moses Horton Day
END:VEVENT
BEGIN:VEVENT
DTSTAMP:20260421T161445Z
UID:6c95f581-796a-44e9-9a23-10bbfc0c2acd
DTSTART;VALUE=DATE:20720225
DTEND;VALUE=DATE:20720226
DESCRIPTION:
LOCATION:
SUMMARY:George Moses Horton Day
END:VEVENT
BEGIN:VEVENT
DTSTAMP:20260421T161445Z
UID:f0b5293f-03c6-4740-a1a0-dcb9eef8b540
DTSTART;VALUE=DATE:20730225
DTEND;VALUE=DATE:20730226
DESCRIPTION:
LOCATION:
SUMMARY:George Moses Horton Day
END:VEVENT
BEGIN:VEVENT
DTSTAMP:20260421T161445Z
UID:02d797b2-ac5f-4d88-b428-2265a64ed6f3
DTSTART;VALUE=DATE:20740225
DTEND;VALUE=DATE:20740226
DESCRIPTION:
LOCATION:
SUMMARY:George Moses Horton Day
END:VEVENT
BEGIN:VEVENT
DTSTAMP:20260421T161445Z
UID:fb291060-202d-4c41-bcc5-1c8effd03a4f
DTSTART;VALUE=DATE:20750225
DTEND;VALUE=DATE:20750226
DESCRIPTION:
LOCATION:
SUMMARY:George Moses Horton Day
END:VEVENT
BEGIN:VEVENT
DTSTAMP:20260421T161445Z
UID:18fc53f1-617a-4eb3-9c63-39376e6f9d1e
DTSTART;VALUE=DATE:20760225
DTEND;VALUE=DATE:20760226
DESCRIPTION:
LOCATION:
SUMMARY:George Moses Horton Day
END:VEVENT
BEGIN:VEVENT
DTSTAMP:20260421T161445Z
UID:8572f8e0-7dea-4e4d-a1eb-8119ad8051cc
DTSTART;VALUE=DATE:20770225
DTEND;VALUE=DATE:20770226
DESCRIPTION:
LOCATION:
SUMMARY:George Moses Horton Day
END:VEVENT
BEGIN:VEVENT
DTSTAMP:20260421T161445Z
UID:a1fbd01a-fcf9-499e-9529-95d4313bb89f
DTSTART;VALUE=DATE:20780225
DTEND;VALUE=DATE:20780226
DESCRIPTION:
LOCATION:
SUMMARY:George Moses Horton Day
END:VEVENT
BEGIN:VEVENT
DTSTAMP:20260421T161445Z
UID:0a43baf3-bc4c-4ef5-99dd-1d7413496140
DTSTART;VALUE=DATE:20790225
DTEND;VALUE=DATE:20790226
DESCRIPTION:
LOCATION:
SUMMARY:George Moses Horton Day
END:VEVENT
BEGIN:VEVENT
DTSTAMP:20260421T161445Z
UID:176f5e04-3169-46c9-9e89-d3a49e42bd62
DTSTART;VALUE=DATE:20800225
DTEND;VALUE=DATE:20800226
DESCRIPTION:
LOCATION:
SUMMARY:George Moses Horton Day
END:VEVENT
BEGIN:VEVENT
DTSTAMP:20260421T161445Z
UID:4049e97d-4392-4813-abce-caee35ce9d86
DTSTART;VALUE=DATE:20810225
DTEND;VALUE=DATE:20810226
DESCRIPTION:
LOCATION:
SUMMARY:George Moses Horton Day
END:VEVENT
BEGIN:VEVENT
DTSTAMP:20260421T161445Z
UID:d162144a-ce82-47e5-bf15-92d4efba9794
DTSTART;VALUE=DATE:20820225
DTEND;VALUE=DATE:20820226
DESCRIPTION:
LOCATION:
SUMMARY:George Moses Horton Day
END:VEVENT
BEGIN:VEVENT
DTSTAMP:20260421T161445Z
UID:b5a767f8-43a4-498e-9a50-c73cb1726347
DTSTART;VALUE=DATE:20830225
DTEND;VALUE=DATE:20830226
DESCRIPTION:
LOCATION:
SUMMARY:George Moses Horton Day
END:VEVENT
BEGIN:VEVENT
DTSTAMP:20260421T161445Z
UID:c3d3cb60-a624-45e9-b0be-be60fab493f0
DTSTART;VALUE=DATE:20840225
DTEND;VALUE=DATE:20840226
DESCRIPTION:
LOCATION:
SUMMARY:George Moses Horton Day
END:VEVENT
BEGIN:VEVENT
DTSTAMP:20260421T161445Z
UID:4a7acfe1-44dc-477e-be0c-010baa95f358
DTSTART;VALUE=DATE:20850225
DTEND;VALUE=DATE:20850226
DESCRIPTION:
LOCATION:
SUMMARY:George Moses Horton Day
END:VEVENT
BEGIN:VEVENT
DTSTAMP:20260421T161445Z
UID:4294f195-f8cf-4120-b1d9-8068891e3d81
DTSTART;VALUE=DATE:20860225
DTEND;VALUE=DATE:20860226
DESCRIPTION:
LOCATION:
SUMMARY:George Moses Horton Day
END:VEVENT
BEGIN:VEVENT
DTSTAMP:20260421T161445Z
UID:41b0fc76-a771-47f2-91eb-9f55040c7ef0
DTSTART;VALUE=DATE:20870225
DTEND;VALUE=DATE:20870226
DESCRIPTION:
LOCATION:
SUMMARY:George Moses Horton Day
END:VEVENT
BEGIN:VEVENT
DTSTAMP:20260421T161445Z
UID:c22c3dee-a772-4524-aeeb-128393797ddb
DTSTART;VALUE=DATE:20880225
DTEND;VALUE=DATE:20880226
DESCRIPTION:
LOCATION:
SUMMARY:George Moses Horton Day
END:VEVENT
BEGIN:VEVENT
DTSTAMP:20260421T161445Z
UID:250df424-5926-4e55-8b02-f9865b076c34
DTSTART;VALUE=DATE:20890225
DTEND;VALUE=DATE:20890226
DESCRIPTION:
LOCATION:
SUMMARY:George Moses Horton Day
END:VEVENT
BEGIN:VEVENT
DTSTAMP:20260421T161445Z
UID:f53505b5-7792-4c14-ad00-b43401e31f47
DTSTART;VALUE=DATE:20900225
DTEND;VALUE=DATE:20900226
DESCRIPTION:
LOCATION:
SUMMARY:George Moses Horton Day
END:VEVENT
BEGIN:VEVENT
DTSTAMP:20260421T161445Z
UID:6d60640c-5db0-422b-8a9a-76708f5938f3
DTSTART;VALUE=DATE:20910225
DTEND;VALUE=DATE:20910226
DESCRIPTION:
LOCATION:
SUMMARY:George Moses Horton Day
END:VEVENT
BEGIN:VEVENT
DTSTAMP:20260421T161445Z
UID:d18c1728-5238-4a52-aff5-fa6d214d79f0
DTSTART;VALUE=DATE:20920225
DTEND;VALUE=DATE:20920226
DESCRIPTION:
LOCATION:
SUMMARY:George Moses Horton Day
END:VEVENT
BEGIN:VEVENT
DTSTAMP:20260421T161445Z
UID:a258d7de-daea-4ec8-949a-6e55a4d6cec9
DTSTART;VALUE=DATE:20930225
DTEND;VALUE=DATE:20930226
DESCRIPTION:
LOCATION:
SUMMARY:George Moses Horton Day
END:VEVENT
BEGIN:VEVENT
DTSTAMP:20260421T161445Z
UID:aa65914e-8b08-4f97-84eb-18dde1bc061c
DTSTART;VALUE=DATE:20940225
DTEND;VALUE=DATE:20940226
DESCRIPTION:
LOCATION:
SUMMARY:George Moses Horton Day
END:VEVENT
BEGIN:VEVENT
DTSTAMP:20260421T161445Z
UID:fa1c4d88-ee4b-42fb-bda1-18161ebbe679
DTSTART;VALUE=DATE:20950225
DTEND;VALUE=DATE:20950226
DESCRIPTION:
LOCATION:
SUMMARY:George Moses Horton Day
END:VEVENT
BEGIN:VEVENT
DTSTAMP:20260421T161445Z
UID:d916de59-9865-4467-a1dc-d8c4815f09d6
DTSTART;VALUE=DATE:20960225
DTEND;VALUE=DATE:20960226
DESCRIPTION:
LOCATION:
SUMMARY:George Moses Horton Day
END:VEVENT
BEGIN:VEVENT
DTSTAMP:20260421T161445Z
UID:6b3c973f-d082-4744-9814-f83fcab59f28
DTSTART;VALUE=DATE:20970225
DTEND;VALUE=DATE:20970226
DESCRIPTION:
LOCATION:
SUMMARY:George Moses Horton Day
END:VEVENT
BEGIN:VEVENT
DTSTAMP:20260421T161445Z
UID:12931d41-aaa7-474e-8fb3-9c429691bd46
DTSTART;VALUE=DATE:20980225
DTEND;VALUE=DATE:20980226
DESCRIPTION:
LOCATION:
SUMMARY:George Moses Horton Day
END:VEVENT
BEGIN:VEVENT
DTSTAMP:20260421T161445Z
UID:e6cb40b9-f5c0-4e10-a83d-f38f8910c2a3
DTSTART;VALUE=DATE:20990225
DTEND;VALUE=DATE:20990226
DESCRIPTION:
LOCATION:
SUMMARY:George Moses Horton Day
END:VEVENT
END:VCALENDAR
