BEGIN:VCALENDAR
VERSION:2.0
PRODID:icalendar-ruby
CALSCALE:GREGORIAN
BEGIN:VTIMEZONE
TZID:America/New_York
BEGIN:DAYLIGHT
DTSTART:20260308T030000
TZOFFSETFROM:-0500
TZOFFSETTO:-0400
RRULE:FREQ=YEARLY;BYDAY=2SU;BYMONTH=3
TZNAME:EDT
END:DAYLIGHT
BEGIN:STANDARD
DTSTART:20261101T010000
TZOFFSETFROM:-0400
TZOFFSETTO:-0500
RRULE:FREQ=YEARLY;BYDAY=1SU;BYMONTH=11
TZNAME:EST
END:STANDARD
END:VTIMEZONE
BEGIN:VEVENT
DTSTAMP:20260425T184907Z
UID:cc73ba78-592d-44ed-aec8-25a34d97c1a2
DTSTART:20260429T180000
DTEND:20260429T190000
DESCRIPTION:
LOCATION:CHS Media Center
SUMMARY:Incoming Freshman Parent Meeting
END:VEVENT
BEGIN:VEVENT
DTSTAMP:20260425T184907Z
UID:e32ee2ad-8a35-4abe-8c5f-cefb5a0dc9dc
DTSTART;VALUE=DATE:20260430
DTEND;VALUE=DATE:20260501
DESCRIPTION:
LOCATION:
SUMMARY:Decision Day
END:VEVENT
BEGIN:VEVENT
DTSTAMP:20260425T184907Z
UID:0029f40c-03b3-4097-9e30-43af6fef146f
DTSTART;VALUE=DATE:20260502
DTEND;VALUE=DATE:20260503
DESCRIPTION:
LOCATION:
SUMMARY:Prom
END:VEVENT
BEGIN:VEVENT
DTSTAMP:20260425T184907Z
UID:c0568ddb-992d-45eb-8ec1-0684c8c9221d
DTSTART:20260507T180000
DTEND:20260507T190000
DESCRIPTION:
LOCATION:
SUMMARY:Senior Honors Night
END:VEVENT
BEGIN:VEVENT
DTSTAMP:20260425T184907Z
UID:4c20bb17-a73a-415b-bc15-9abf3109a75b
DTSTART;VALUE=DATE:20260513
DTEND;VALUE=DATE:20260514
DESCRIPTION:
LOCATION:
SUMMARY:Senior Exams – 5th & 6th Hours
END:VEVENT
BEGIN:VEVENT
DTSTAMP:20260425T184907Z
UID:0395f310-c848-4c8b-b006-b56a15a267ba
DTSTART;VALUE=DATE:20260514
DTEND;VALUE=DATE:20260515
DESCRIPTION:
LOCATION:
SUMMARY:Senior Exams – 3rd & 4th Hours
END:VEVENT
BEGIN:VEVENT
DTSTAMP:20260425T184907Z
UID:226ea79c-6171-4df4-a8b5-0d1c0d0615a3
DTSTART;VALUE=DATE:20260515
DTEND;VALUE=DATE:20260516
DESCRIPTION:
LOCATION:
SUMMARY:Senior Exams – 1st & 2nd Hours
END:VEVENT
BEGIN:VEVENT
DTSTAMP:20260425T184907Z
UID:eea827af-27be-4e7d-90e9-2f6857ece048
DTSTART:20260516T130000
DTEND:20260516T140000
DESCRIPTION:Middle School Combined Choirs - 11:00-11:20\n5th Grade Band - 1
 1:30-11:50\n6th Grade Band - 11:50-12:10\n7th Grade Band - 12:10-12:30\n8t
 h Grade Band - 12:30-12:50\nBrief Intermision\nJazz Band - 1:00-1:20\nSymp
 hony Band - 1:20-1:40\nWind Ensemble - 1:40-2:00\nSenior Send-off - 2:00\n
 Encore with all HS Band Members - 2:15
LOCATION:
SUMMARY:Celebration of the Arts
END:VEVENT
BEGIN:VEVENT
DTSTAMP:20260425T184907Z
UID:376e08d0-2293-4031-a933-2d52122f097b
DTSTART;VALUE=DATE:20260518
DTEND;VALUE=DATE:20260519
DESCRIPTION:
LOCATION:Cedar Point\, Sandusky\, OH 44870\, USA
SUMMARY:Senior Trip
END:VEVENT
BEGIN:VEVENT
DTSTAMP:20260425T184907Z
UID:411865e5-2fc3-4b5c-9467-e091061b848f
DTSTART:20260519T122000
DTEND:20260519T142000
DESCRIPTION:
LOCATION:1 Mustang Dr\, Clio\, MI 48420\, USA
SUMMARY:Early Dimissal
END:VEVENT
BEGIN:VEVENT
DTSTAMP:20260425T184907Z
UID:1b90b495-555c-4045-aee0-a65bfc685c77
DTSTART:20260522T090000
DTEND:20260522T133000
DESCRIPTION:
LOCATION:
SUMMARY:Cap & Gown Pickup
END:VEVENT
BEGIN:VEVENT
DTSTAMP:20260425T184907Z
UID:59058b4d-a7e1-4e48-83db-02cb5a49f53b
DTSTART;VALUE=DATE:20260525
DTEND;VALUE=DATE:20260526
DESCRIPTION:
LOCATION:
SUMMARY:Memorial Day – No School 
END:VEVENT
BEGIN:VEVENT
DTSTAMP:20260425T184907Z
UID:f6d25892-560b-4d3f-bc07-b6e56364c395
DTSTART:20260527T091500
DTEND:20260527T111500
DESCRIPTION:
LOCATION:
SUMMARY:Clap Out
END:VEVENT
BEGIN:VEVENT
DTSTAMP:20260425T184907Z
UID:cb3c17af-0b97-4ead-ba6f-3b1ca86d5af8
DTSTART:20260527T110000
DTEND:20260527T120000
DESCRIPTION:Pride Stadium
LOCATION:
SUMMARY:Graduation Rehearsal
END:VEVENT
BEGIN:VEVENT
DTSTAMP:20260425T184907Z
UID:0dd7ff36-2746-4ea6-9024-f2f8a1b3dd09
DTSTART:20260528T190000
DTEND:20260528T213000
DESCRIPTION:
LOCATION:
SUMMARY:Graduation
END:VEVENT
BEGIN:VEVENT
DTSTAMP:20260425T184907Z
UID:32563f07-5a67-4950-984b-a1af3df7f639
DTSTART;VALUE=DATE:20260603
DTEND;VALUE=DATE:20260604
DESCRIPTION:
LOCATION:
SUMMARY:Exams  – 5th & 6th Hours
END:VEVENT
BEGIN:VEVENT
DTSTAMP:20260425T184907Z
UID:9ac023d7-049e-49c4-8249-db5755c22b06
DTSTART;VALUE=DATE:20260604
DTEND;VALUE=DATE:20260605
DESCRIPTION:
LOCATION:
SUMMARY:Exams – 3rd & 4th Hours
END:VEVENT
BEGIN:VEVENT
DTSTAMP:20260425T184907Z
UID:d73d7077-f962-47c2-aa9e-334654b47fcb
DTSTART:20260604T072000
DTEND:20260604T102000
DESCRIPTION:
LOCATION:1 Mustang Dr\, Clio\, MI 48420\, USA
SUMMARY:Half Day of School 
END:VEVENT
BEGIN:VEVENT
DTSTAMP:20260425T184907Z
UID:428352f1-08db-4731-96b9-0bfdd3ef3ce6
DTSTART;VALUE=DATE:20260605
DTEND;VALUE=DATE:20260606
DESCRIPTION:
LOCATION:
SUMMARY:Exams  – 1st & 2nd Hours
END:VEVENT
BEGIN:VEVENT
DTSTAMP:20260425T184907Z
UID:4599f1ef-ed51-42b3-8d81-433b5900ec07
DTSTART:20260605T072000
DTEND:20260605T102000
DESCRIPTION:
LOCATION:1 Mustang Dr\, Clio\, MI 48420\, USA
SUMMARY:Last Day of School – Half Day
END:VEVENT
BEGIN:VEVENT
DTSTAMP:20260425T184907Z
UID:7e6c3908-c03f-4800-83b7-7d9ae2bb192f
DTSTART:20260811T180000
DTEND:20260811T200000
DESCRIPTION:
LOCATION:
SUMMARY:Back to School Kickoff
END:VEVENT
BEGIN:VEVENT
DTSTAMP:20260425T184907Z
UID:3e959c5d-dffd-426c-afac-f0a8aea287fa
DTSTART:20260813T080000
DTEND:20260813T133000
DESCRIPTION:
LOCATION:
SUMMARY:Picture Day / Freshman Orientation
END:VEVENT
BEGIN:VEVENT
DTSTAMP:20260425T184907Z
UID:f5c7a706-b844-41e4-92fd-d90a7af5455d
DTSTART:20260916T070000
DTEND:20260916T103000
DESCRIPTION:
LOCATION:
SUMMARY:Makeup Pictures
END:VEVENT
END:VCALENDAR
