BEGIN:VCALENDAR
VERSION:2.0
PRODID:icalendar-ruby
CALSCALE:GREGORIAN
BEGIN:VTIMEZONE
TZID:America/New_York
BEGIN:DAYLIGHT
DTSTART:20260308T030000
TZOFFSETFROM:-0500
TZOFFSETTO:-0400
RRULE:FREQ=YEARLY;BYDAY=2SU;BYMONTH=3
TZNAME:EDT
END:DAYLIGHT
BEGIN:STANDARD
DTSTART:20261101T010000
TZOFFSETFROM:-0400
TZOFFSETTO:-0500
RRULE:FREQ=YEARLY;BYDAY=1SU;BYMONTH=11
TZNAME:EST
END:STANDARD
END:VTIMEZONE
BEGIN:VEVENT
DTSTAMP:20260421T163104Z
UID:bc7ed044-3650-4b16-af4e-3b8a5605cd22
DTSTART:20260423T190000
DTEND:20260423T200000
DESCRIPTION:
LOCATION:
SUMMARY:Superintendent Coffee
END:VEVENT
BEGIN:VEVENT
DTSTAMP:20260421T163104Z
UID:c8656031-0824-4f11-b545-5f2afb55a272
DTSTART:20260504T190000
DTEND:20260504T200000
DESCRIPTION:
LOCATION:
SUMMARY:Board of Education - Special Meeting Final Budget Adoption
END:VEVENT
BEGIN:VEVENT
DTSTAMP:20260421T163104Z
UID:7876fff1-eb9d-4804-bac2-61d96517ca48
DTSTART:20260506T190000
DTEND:20260506T203000
DESCRIPTION:
LOCATION:
SUMMARY:RHS - College Essay/Princeton Review 
END:VEVENT
BEGIN:VEVENT
DTSTAMP:20260421T163104Z
UID:38063eac-8e06-4063-8fa4-4213a856e06e
DTSTART:20260511T190000
DTEND:20260511T200000
DESCRIPTION:
LOCATION:
SUMMARY:Elementary & Middle School Virtual Guidance Event
END:VEVENT
BEGIN:VEVENT
DTSTAMP:20260421T163104Z
UID:512241ce-d2ab-4ff8-89e8-e926a17008ea
DTSTART:20260514T190000
DTEND:20260514T200000
DESCRIPTION:
LOCATION:
SUMMARY:Superintendent Coffee
END:VEVENT
BEGIN:VEVENT
DTSTAMP:20260421T163104Z
UID:66e98821-e42e-4cee-af8e-4b1fdd51803a
DTSTART:20260518T190000
DTEND:20260518T200000
DESCRIPTION:
LOCATION:
SUMMARY:Board of Education Meeting
END:VEVENT
BEGIN:VEVENT
DTSTAMP:20260421T163104Z
UID:bc2f8776-4ed2-46f6-bc00-0bf27ac30fe2
DTSTART:20260520T190000
DTEND:20260520T200000
DESCRIPTION:
LOCATION:
SUMMARY:BFMS: 7/8 Band & Chorus Concert @ Wed May 20\, 2026 7pm (EDT) (Dist
 rict Calendar)
END:VEVENT
BEGIN:VEVENT
DTSTAMP:20260421T163104Z
UID:135873fd-8ccb-43b9-837a-0b6f4e136040
DTSTART;VALUE=DATE:20260525
DTEND;VALUE=DATE:20260526
DESCRIPTION:
LOCATION:
SUMMARY:District Closed: Memorial Day
END:VEVENT
BEGIN:VEVENT
DTSTAMP:20260421T163104Z
UID:0d1b8f44-7d01-421f-bf96-72010da28eeb
DTSTART:20260605T090000
DTEND:20260605T150000
DESCRIPTION:
LOCATION:
SUMMARY:RHS Celebration of the Arts 
END:VEVENT
BEGIN:VEVENT
DTSTAMP:20260421T163104Z
UID:640061d0-0ad0-447d-8567-7b7493cbdc68
DTSTART:20260609T093000
DTEND:20260609T103000
DESCRIPTION:
LOCATION:
SUMMARY:SEPAG Meeting
END:VEVENT
BEGIN:VEVENT
DTSTAMP:20260421T163104Z
UID:c72e37d2-0c37-4ff2-8a74-8fa2be3ead2d
DTSTART:20260611T190000
DTEND:20260611T200000
DESCRIPTION:
LOCATION:
SUMMARY:Superintendent Coffee
END:VEVENT
BEGIN:VEVENT
DTSTAMP:20260421T163104Z
UID:9969b49e-2460-45b6-b2d9-20f935a48154
DTSTART:20260615T190000
DTEND:20260615T200000
DESCRIPTION:
LOCATION:
SUMMARY:Board of Education Meeting
END:VEVENT
BEGIN:VEVENT
DTSTAMP:20260421T163104Z
UID:17277557-f575-4e4e-bb6a-6fc6fce0ef6f
DTSTART:20260616T190000
DTEND:20260616T200000
DESCRIPTION:
LOCATION:
SUMMARY:Teacher Recognition 
END:VEVENT
BEGIN:VEVENT
DTSTAMP:20260421T163104Z
UID:b7d87389-1bc1-4edc-b651-584ebde87a44
DTSTART;VALUE=DATE:20260619
DTEND;VALUE=DATE:20260620
DESCRIPTION:
LOCATION:
SUMMARY:District Closed: Juneteenth
END:VEVENT
BEGIN:VEVENT
DTSTAMP:20260421T163104Z
UID:75a717d2-880c-44d0-bd64-5b77eeef0464
DTSTART;VALUE=DATE:20260624
DTEND;VALUE=DATE:20260625
DESCRIPTION:
LOCATION:
SUMMARY:Last Day of School for Students
END:VEVENT
BEGIN:VEVENT
DTSTAMP:20260421T163104Z
UID:b83ea977-55b0-4077-8f5b-57c45932f76b
DTSTART;VALUE=DATE:20260624
DTEND;VALUE=DATE:20260625
DESCRIPTION:
LOCATION:
SUMMARY:Minimum Day
END:VEVENT
BEGIN:VEVENT
DTSTAMP:20260421T163104Z
UID:0b73e135-e59c-4173-9a00-045ef737996d
DTSTART;VALUE=DATE:20260625
DTEND;VALUE=DATE:20260626
DESCRIPTION:
LOCATION:
SUMMARY:Closing Day for Teachers
END:VEVENT
BEGIN:VEVENT
DTSTAMP:20260421T163104Z
UID:4ceaad3f-759d-4c5f-b8e6-56720520fddc
DTSTART;VALUE=DATE:20260625
DTEND;VALUE=DATE:20260626
DESCRIPTION:
LOCATION:
SUMMARY:Last Day for Teachers
END:VEVENT
BEGIN:VEVENT
DTSTAMP:20260421T163104Z
UID:eccf3960-f1a5-4c7a-a9ec-8e3310bcfb3e
DTSTART:20260703T090000
DTEND:20260703T100000
DESCRIPTION:
LOCATION:
SUMMARY:District Closed: Independence Day Observed
END:VEVENT
BEGIN:VEVENT
DTSTAMP:20260421T163104Z
UID:925c99f9-8c77-4b35-b3df-8581794c6542
DTSTART:20260716T190000
DTEND:20260716T200000
DESCRIPTION:
LOCATION:
SUMMARY:Superintendent Coffee
END:VEVENT
BEGIN:VEVENT
DTSTAMP:20260421T163104Z
UID:bfb87fa8-d157-4e15-ad96-902a22aeef21
DTSTART:20260720T180000
DTEND:20260720T190000
DESCRIPTION:
LOCATION:
SUMMARY:Board of Education Meeting
END:VEVENT
BEGIN:VEVENT
DTSTAMP:20260421T163104Z
UID:d224fb94-d555-4ad7-bd68-f7195e693b68
DTSTART;VALUE=DATE:20260725
DTEND;VALUE=DATE:20260803
DESCRIPTION:
LOCATION:
SUMMARY:Athletic Black Out Week - No Athletics
END:VEVENT
BEGIN:VEVENT
DTSTAMP:20260421T163104Z
UID:aa84d95e-f9eb-48df-a63b-0f8048817a6c
DTSTART:20260818T080000
DTEND:20260818T150000
DESCRIPTION:
LOCATION:
SUMMARY:New Teacher Orientation
END:VEVENT
BEGIN:VEVENT
DTSTAMP:20260421T163104Z
UID:703e44de-0013-47e6-afe9-8df387b1f307
DTSTART:20260819T080000
DTEND:20260819T150000
DESCRIPTION:
LOCATION:
SUMMARY:New Teacher Orientation
END:VEVENT
BEGIN:VEVENT
DTSTAMP:20260421T163104Z
UID:ef99294c-f5ed-465c-b572-7710c42a7a19
DTSTART:20260820T080000
DTEND:20260820T150000
DESCRIPTION:
LOCATION:
SUMMARY:New Teacher Orientation 
END:VEVENT
BEGIN:VEVENT
DTSTAMP:20260421T163104Z
UID:d4bec590-b997-4d2e-b5db-83b04ccaccff
DTSTART:20260820T190000
DTEND:20260820T200000
DESCRIPTION:
LOCATION:
SUMMARY:Superintendent Coffee 
END:VEVENT
BEGIN:VEVENT
DTSTAMP:20260421T163104Z
UID:6174d19c-b400-4e77-85ed-8756837922c7
DTSTART;VALUE=DATE:20260826
DTEND;VALUE=DATE:20260827
DESCRIPTION:
LOCATION:
SUMMARY:Convocation/Professional Development Day for Staff
END:VEVENT
BEGIN:VEVENT
DTSTAMP:20260421T163104Z
UID:57fad0f6-6724-45a8-849a-04c69e1309ca
DTSTART;VALUE=DATE:20260827
DTEND;VALUE=DATE:20260828
DESCRIPTION:
LOCATION:
SUMMARY:Professional Development Day Staff
END:VEVENT
BEGIN:VEVENT
DTSTAMP:20260421T163104Z
UID:ba381b80-1749-4217-bb7e-762e41c6dcb2
DTSTART;VALUE=DATE:20260828
DTEND;VALUE=DATE:20260829
DESCRIPTION:
LOCATION:
SUMMARY:Professional Development Day for Staff
END:VEVENT
BEGIN:VEVENT
DTSTAMP:20260421T163104Z
UID:22f4a9df-fc0d-4c9c-a026-5fb35d58ed5c
DTSTART;VALUE=DATE:20260901
DTEND;VALUE=DATE:20260902
DESCRIPTION:
LOCATION:
SUMMARY:First Day of School - Minimum Day
END:VEVENT
BEGIN:VEVENT
DTSTAMP:20260421T163104Z
UID:c927ed23-70bd-45f9-8456-3d81b267e261
DTSTART;VALUE=DATE:20260907
DTEND;VALUE=DATE:20260908
DESCRIPTION:
LOCATION:
SUMMARY:District Closed - Labor Day
END:VEVENT
BEGIN:VEVENT
DTSTAMP:20260421T163104Z
UID:8f69f5fc-7aaf-4512-b2cc-a27691f8e2b0
DTSTART;VALUE=DATE:20260921
DTEND;VALUE=DATE:20260922
DESCRIPTION:
LOCATION:
SUMMARY:District Closed - Rosh Hashanah
END:VEVENT
BEGIN:VEVENT
DTSTAMP:20260421T163104Z
UID:c8544bed-e502-4ce8-81dc-633939c1fc4a
DTSTART:20260924T190000
DTEND:20260924T200000
DESCRIPTION:
LOCATION:
SUMMARY:Superintendent Coffee
END:VEVENT
BEGIN:VEVENT
DTSTAMP:20260421T163104Z
UID:79efee35-1277-476a-bf22-6efbb433c2a3
DTSTART;VALUE=DATE:20261012
DTEND;VALUE=DATE:20261013
DESCRIPTION:
LOCATION:
SUMMARY:No School for Students
END:VEVENT
BEGIN:VEVENT
DTSTAMP:20260421T163104Z
UID:6a012158-9b13-47d1-9543-41439d543d20
DTSTART;VALUE=DATE:20261012
DTEND;VALUE=DATE:20261013
DESCRIPTION:
LOCATION:
SUMMARY:Professional Development Day for Staff
END:VEVENT
BEGIN:VEVENT
DTSTAMP:20260421T163104Z
UID:aafb01a4-19de-4323-b081-b5c1d40f91f8
DTSTART:20261022T190000
DTEND:20261022T200000
DESCRIPTION:
LOCATION:
SUMMARY:Superintendent Coffee
END:VEVENT
BEGIN:VEVENT
DTSTAMP:20260421T163104Z
UID:9f99e124-4f74-4c4c-88bf-c3a92f43fdbf
DTSTART;VALUE=DATE:20261105
DTEND;VALUE=DATE:20261106
DESCRIPTION:
LOCATION:
SUMMARY:District Closed - NJEA Convention
END:VEVENT
BEGIN:VEVENT
DTSTAMP:20260421T163104Z
UID:1fc8676d-34a5-4a60-8262-f43a87cd3824
DTSTART;VALUE=DATE:20261106
DTEND;VALUE=DATE:20261107
DESCRIPTION:
LOCATION:
SUMMARY:District Closed - NJEA Convention
END:VEVENT
BEGIN:VEVENT
DTSTAMP:20260421T163104Z
UID:fca1e9d5-10c2-4d90-872d-e844956da941
DTSTART:20261112T190000
DTEND:20261112T200000
DESCRIPTION:
LOCATION:
SUMMARY:Superintendent Coffee
END:VEVENT
BEGIN:VEVENT
DTSTAMP:20260421T163104Z
UID:816002b4-d990-4b02-8d65-d3029cf3a57e
DTSTART:20261125T050000
DTEND:20261125T060000
DESCRIPTION:
LOCATION:
SUMMARY:Minimum Day: Have a Happy Thanksgiving
END:VEVENT
BEGIN:VEVENT
DTSTAMP:20260421T163104Z
UID:db580af6-a512-4df2-abf6-2204b96018c3
DTSTART;VALUE=DATE:20261126
DTEND;VALUE=DATE:20261127
DESCRIPTION:
LOCATION:
SUMMARY:District Closed - Happy Thanksgiving
END:VEVENT
BEGIN:VEVENT
DTSTAMP:20260421T163104Z
UID:6f73c064-1ece-49b4-89b5-03fde1f66c24
DTSTART;VALUE=DATE:20261127
DTEND;VALUE=DATE:20261128
DESCRIPTION:
LOCATION:
SUMMARY:District Closed
END:VEVENT
BEGIN:VEVENT
DTSTAMP:20260421T163104Z
UID:9e83462e-69e1-4fb5-8790-22014030f966
DTSTART:20261210T190000
DTEND:20261210T200000
DESCRIPTION:
LOCATION:
SUMMARY:Superintendent Coffee
END:VEVENT
BEGIN:VEVENT
DTSTAMP:20260421T163104Z
UID:660f67a2-d889-43f7-b98a-7403f5137588
DTSTART:20261214T190000
DTEND:20261214T200000
DESCRIPTION:
LOCATION:
SUMMARY:Board of Education Meeting
END:VEVENT
BEGIN:VEVENT
DTSTAMP:20260421T163104Z
UID:57b67a9a-c1d4-47a0-a8f9-4d325df46dd8
DTSTART;VALUE=DATE:20261223
DTEND;VALUE=DATE:20261224
DESCRIPTION:
LOCATION:
SUMMARY:Minimum Day
END:VEVENT
BEGIN:VEVENT
DTSTAMP:20260421T163104Z
UID:ee65d862-3fe3-4960-9abb-10672b03e1ff
DTSTART;VALUE=DATE:20261224
DTEND;VALUE=DATE:20261225
DESCRIPTION:
LOCATION:
SUMMARY:District Closed
END:VEVENT
BEGIN:VEVENT
DTSTAMP:20260421T163104Z
UID:0eca1589-ccbe-4712-acb8-ddc614630dea
DTSTART;VALUE=DATE:20261225
DTEND;VALUE=DATE:20261226
DESCRIPTION:
LOCATION:
SUMMARY:District Closed: Christmas Day
END:VEVENT
BEGIN:VEVENT
DTSTAMP:20260421T163104Z
UID:2c86c951-b31a-4f07-b5ef-e27e004c6602
DTSTART;VALUE=DATE:20261228
DTEND;VALUE=DATE:20261231
DESCRIPTION:
LOCATION:
SUMMARY:Schools Closed: December Recess
END:VEVENT
BEGIN:VEVENT
DTSTAMP:20260421T163104Z
UID:27364db1-5d67-4228-83bc-55a47078a061
DTSTART;VALUE=DATE:20261231
DTEND;VALUE=DATE:20270101
DESCRIPTION:
LOCATION:
SUMMARY:District Closed: Happy New Year
END:VEVENT
BEGIN:VEVENT
DTSTAMP:20260421T163104Z
UID:1a365e12-15ee-47bc-b673-55f15e9f3f30
DTSTART;VALUE=DATE:20270101
DTEND;VALUE=DATE:20270102
DESCRIPTION:
LOCATION:
SUMMARY:District Closed - Happy New Year
END:VEVENT
BEGIN:VEVENT
DTSTAMP:20260421T163104Z
UID:3c9888d9-6dbd-4690-b51c-3e42e6b6be9f
DTSTART:20270104T190000
DTEND:20270104T200000
DESCRIPTION:
LOCATION:
SUMMARY:Board of Education Reorganization Meeting
END:VEVENT
BEGIN:VEVENT
DTSTAMP:20260421T163104Z
UID:fc683c4e-f1a3-4415-99fc-629909449a7e
DTSTART;VALUE=DATE:20270118
DTEND;VALUE=DATE:20270119
DESCRIPTION:
LOCATION:
SUMMARY:District Closed: Martin Luther King\, Jr. Day
END:VEVENT
BEGIN:VEVENT
DTSTAMP:20260421T163104Z
UID:c64c9fa1-724b-46ec-9b46-8ed96e9f302a
DTSTART:20270518T190000
DTEND:20270518T200000
DESCRIPTION:
LOCATION:
SUMMARY:Teacher Recognition Program
END:VEVENT
END:VCALENDAR
