BEGIN:VCALENDAR
VERSION:2.0
PRODID:icalendar-ruby
CALSCALE:GREGORIAN
BEGIN:VTIMEZONE
TZID:America/Chicago
BEGIN:DAYLIGHT
DTSTART:20260308T030000
TZOFFSETFROM:-0600
TZOFFSETTO:-0500
RRULE:FREQ=YEARLY;BYDAY=2SU;BYMONTH=3
TZNAME:CDT
END:DAYLIGHT
BEGIN:STANDARD
DTSTART:20261101T010000
TZOFFSETFROM:-0500
TZOFFSETTO:-0600
RRULE:FREQ=YEARLY;BYDAY=1SU;BYMONTH=11
TZNAME:CST
END:STANDARD
END:VTIMEZONE
BEGIN:VEVENT
DTSTAMP:20260422T125545Z
UID:d6dd2802-7a40-4bcd-8b0c-102b75b5e659
DTSTART:20260422T174500
DTEND:20260422T190000
DESCRIPTION:
LOCATION:Lake Bluff Elementary School\, 350 W Washington Ave\, Lake Bluff\,
  IL 60044\, USA
SUMMARY:2nd Grade Concert
END:VEVENT
BEGIN:VEVENT
DTSTAMP:20260422T125545Z
UID:ed37f00a-e910-432c-a871-8015e8e782dd
DTSTART:20260428T190000
DTEND:20260428T203000
DESCRIPTION:
LOCATION:Lake Bluff School District\, 121 E Sheridan Pl\, Lake Bluff\, IL 6
 0044\, USA\, Lake Bluff District Office-G-10B Conference Room (10)\, Lake 
 Bluff District Office-G-10C Conference Room (20) [Projector]\, Lake Bluff 
 District Office-G-10A Conference Room (5)
SUMMARY:Regular Board of Education Meeting
END:VEVENT
BEGIN:VEVENT
DTSTAMP:20260422T125545Z
UID:585db393-0f52-4114-a709-1c8735af1633
DTSTART:20260429T180000
DTEND:20260429T190000
DESCRIPTION:
LOCATION:Lake Bluff Elementary School\, 350 W Washington Ave\, Lake Bluff\,
  IL 60044\, USA
SUMMARY:5th Grade Concert
END:VEVENT
BEGIN:VEVENT
DTSTAMP:20260422T125545Z
UID:47cff916-bcb4-498b-9229-dbd29b723dd0
DTSTART:20260430T180000
DTEND:20260430T190000
DESCRIPTION:
LOCATION:Lake Bluff Elementary School\, 350 W Washington Ave\, Lake Bluff\,
  IL 60044\, USA
SUMMARY:PreK Art Show
END:VEVENT
BEGIN:VEVENT
DTSTAMP:20260422T125545Z
UID:63d7c2e3-5219-4adf-b425-fa4ee80f2d8f
DTSTART:20260505T193000
DTEND:20260505T203000
DESCRIPTION:
LOCATION:Lake Bluff District Office-G-10C Conference Room (20) [Projector]\
 , Lake Bluff District Office-G-10B Conference Room (10)\, Lake Bluff Distr
 ict Office-G-10A Conference Room (5)
SUMMARY:Alliance Meeting 
END:VEVENT
BEGIN:VEVENT
DTSTAMP:20260422T125545Z
UID:addcebe1-9fbc-4bba-8c42-a5d81c6609e1
DTSTART;VALUE=DATE:20260506
DTEND;VALUE=DATE:20260507
DESCRIPTION:
LOCATION:
SUMMARY:No PreK
END:VEVENT
BEGIN:VEVENT
DTSTAMP:20260422T125545Z
UID:aff58d56-6663-44a3-88f0-74682660261b
DTSTART:20260506T090000
DTEND:20260506T100000
DESCRIPTION:
LOCATION:Lake Bluff District Office-G-10B Conference Room (10)\, Lake Bluff
  District Office-G-10C Conference Room (20) [Projector]\, Lake Bluff Distr
 ict Office-G-10A Conference Room (5)
SUMMARY:District PTO Meeting
END:VEVENT
BEGIN:VEVENT
DTSTAMP:20260422T125545Z
UID:cf934c3a-d734-4796-b3d5-c7347df24d93
DTSTART:20260506T091000
DTEND:20260506T104000
DESCRIPTION:
LOCATION:
SUMMARY:5th Graders Visit/Tour LBMS
END:VEVENT
BEGIN:VEVENT
DTSTAMP:20260422T125545Z
UID:193f5667-4882-40f7-93a3-f1f3bdf8a287
DTSTART:20260506T173000
DTEND:20260506T183000
DESCRIPTION:
LOCATION:
SUMMARY:BPAC Meeting
END:VEVENT
BEGIN:VEVENT
DTSTAMP:20260422T125545Z
UID:4b854c4c-6663-4986-aa59-a64f77d7e16d
DTSTART:20260506T183000
DTEND:20260506T193000
DESCRIPTION:
LOCATION:
SUMMARY:Incoming 6th Grade Parent Night
END:VEVENT
BEGIN:VEVENT
DTSTAMP:20260422T125545Z
UID:39ed5117-6eac-4cfb-b835-7c5bf17a7cd3
DTSTART;VALUE=DATE:20260511
DTEND;VALUE=DATE:20260516
DESCRIPTION:
LOCATION:
SUMMARY:LBES & LBMS MAP Testing
END:VEVENT
BEGIN:VEVENT
DTSTAMP:20260422T125545Z
UID:0f1a5a33-b5ea-4dd1-887c-6227e8c5ee67
DTSTART:20260511T180000
DTEND:20260511T190000
DESCRIPTION:
LOCATION:Lake Bluff Elementary School\, 350 W Washington Ave\, Lake Bluff\,
  IL 60044\, USA
SUMMARY:LBES Band Concert
END:VEVENT
BEGIN:VEVENT
DTSTAMP:20260422T125545Z
UID:eae4910a-c9b1-44c0-a21f-fa65e7978cfb
DTSTART:20260513T190000
DTEND:20260513T203000
DESCRIPTION:
LOCATION:
SUMMARY:LBMS Spring Chorus Concert
END:VEVENT
BEGIN:VEVENT
DTSTAMP:20260422T125545Z
UID:303f6ea3-dac7-4819-b6c1-47ae801bd150
DTSTART:20260519T174500
DTEND:20260519T184500
DESCRIPTION:
LOCATION:Lake Bluff Elementary School\, 350 W Washington Ave\, Lake Bluff\,
  IL 60044\, USA
SUMMARY:4th/5th Choir Concert
END:VEVENT
BEGIN:VEVENT
DTSTAMP:20260422T125545Z
UID:fd0dbb22-0158-4d23-9884-7842f988288e
DTSTART:20260519T190000
DTEND:20260519T203000
DESCRIPTION:
LOCATION:Lake Bluff School District\, 121 E Sheridan Pl\, Lake Bluff\, IL 6
 0044\, USA\, Lake Bluff District Office-G-10B Conference Room (10)\, Lake 
 Bluff District Office-G-10C Conference Room (20) [Projector]\, Lake Bluff 
 District Office-G-10A Conference Room (5)
SUMMARY:Regular Board of Education Meeting
END:VEVENT
BEGIN:VEVENT
DTSTAMP:20260422T125545Z
UID:80cf5828-2e4c-4901-b667-94873df2326f
DTSTART:20260520T090000
DTEND:20260520T100000
DESCRIPTION:
LOCATION:Lake Bluff District Office-G-10B Conference Room (10)\, Lake Bluff
  District Office-G-10C Conference Room (20) [Projector]\, Lake Bluff Distr
 ict Office-G-10A Conference Room (5)
SUMMARY:LBMS PTO Meeting
END:VEVENT
BEGIN:VEVENT
DTSTAMP:20260422T125545Z
UID:97841d32-09ea-4e17-8a26-a9086e103f2e
DTSTART:20260521T180000
DTEND:20260521T193000
DESCRIPTION:
LOCATION:
SUMMARY:LBMS Art Show
END:VEVENT
BEGIN:VEVENT
DTSTAMP:20260422T125545Z
UID:521ed13f-660e-411f-8f5e-f2d86f6553d0
DTSTART;VALUE=DATE:20260525
DTEND;VALUE=DATE:20260526
DESCRIPTION:
LOCATION:
SUMMARY:Memorial Day - No School
END:VEVENT
BEGIN:VEVENT
DTSTAMP:20260422T125545Z
UID:5f2e7017-6e71-4d13-9146-c628fc407291
DTSTART:20260602T193000
DTEND:20260602T203000
DESCRIPTION:
LOCATION:Lake Bluff District Office-G-10C Conference Room (20) [Projector]\
 , Lake Bluff District Office-G-10B Conference Room (10)\, Lake Bluff Distr
 ict Office-G-10A Conference Room (5)
SUMMARY:Alliance Meeting 
END:VEVENT
BEGIN:VEVENT
DTSTAMP:20260422T125545Z
UID:729bcd91-6aac-437a-ac50-896695081922
DTSTART:20260603T190000
DTEND:20260603T203000
DESCRIPTION:
LOCATION:
SUMMARY:8th Grade Promotion
END:VEVENT
BEGIN:VEVENT
DTSTAMP:20260422T125545Z
UID:d9c29e55-e2d0-4675-996f-622264959cd2
DTSTART;VALUE=DATE:20260605
DTEND;VALUE=DATE:20260606
DESCRIPTION:
LOCATION:
SUMMARY:PreK Last Day
END:VEVENT
BEGIN:VEVENT
DTSTAMP:20260422T125545Z
UID:1f02a6ad-2883-4e74-8c15-8c61771c59a6
DTSTART;VALUE=DATE:20260608
DTEND;VALUE=DATE:20260609
DESCRIPTION:
LOCATION:
SUMMARY:End of Trimester 3 - Report Cards Sent Home
END:VEVENT
BEGIN:VEVENT
DTSTAMP:20260422T125545Z
UID:86899ce4-1cb3-421e-88d5-72a95c015be0
DTSTART;VALUE=DATE:20260608
DTEND;VALUE=DATE:20260609
DESCRIPTION:
LOCATION:
SUMMARY:Last Day of School - Early Release
END:VEVENT
BEGIN:VEVENT
DTSTAMP:20260422T125545Z
UID:6ab52ca7-fdb2-4687-a392-c88ebc7a4874
DTSTART;VALUE=DATE:20260609
DTEND;VALUE=DATE:20260614
DESCRIPTION:
LOCATION:
SUMMARY:Emergency Days
END:VEVENT
BEGIN:VEVENT
DTSTAMP:20260422T125545Z
UID:da6e5fa7-7db8-487f-aeb2-4b3a3417b57e
DTSTART;VALUE=DATE:20260609
DTEND;VALUE=DATE:20260614
DESCRIPTION:
LOCATION:
SUMMARY:Emergency Days
END:VEVENT
BEGIN:VEVENT
DTSTAMP:20260422T125545Z
UID:596a317d-4ff1-4ffa-b788-28e56714de31
DTSTART;VALUE=DATE:20260610
DTEND;VALUE=DATE:20260611
DESCRIPTION:
LOCATION:
SUMMARY:FIRST DAY Summer School/ESY
END:VEVENT
BEGIN:VEVENT
DTSTAMP:20260422T125545Z
UID:6d25bca1-7baa-4467-9b1d-b087aeafd7d5
DTSTART;VALUE=DATE:20260618
DTEND;VALUE=DATE:20260619
DESCRIPTION:
LOCATION:
SUMMARY:District Office Closed
END:VEVENT
BEGIN:VEVENT
DTSTAMP:20260422T125545Z
UID:0d69c3cb-e82c-47c3-a40c-1fd9e4532fcc
DTSTART;VALUE=DATE:20260619
DTEND;VALUE=DATE:20260620
DESCRIPTION:
LOCATION:
SUMMARY:District Office Closed
END:VEVENT
BEGIN:VEVENT
DTSTAMP:20260422T125545Z
UID:7f8624a9-0194-452d-8703-38e5964b10db
DTSTART;VALUE=DATE:20260619
DTEND;VALUE=DATE:20260620
DESCRIPTION:
LOCATION:
SUMMARY:Juneteenth - No School for ESY/Summer School
END:VEVENT
BEGIN:VEVENT
DTSTAMP:20260422T125545Z
UID:19d4bce6-5662-4c69-8de2-847abbaa7834
DTSTART:20260623T190000
DTEND:20260623T203000
DESCRIPTION:
LOCATION:Lake Bluff School District\, 121 E Sheridan Pl\, Lake Bluff\, IL 6
 0044\, USA\, Lake Bluff District Office-G-10B Conference Room (10)\, Lake 
 Bluff District Office-G-10C Conference Room (20) [Projector]\, Lake Bluff 
 District Office-G-10A Conference Room (5)
SUMMARY:Regular Board of Education Meeting
END:VEVENT
BEGIN:VEVENT
DTSTAMP:20260422T125545Z
UID:3d951441-7ff8-4fa4-8d0e-6a218a0d4d2b
DTSTART;VALUE=DATE:20260626
DTEND;VALUE=DATE:20260627
DESCRIPTION:
LOCATION:
SUMMARY:District Office Closed
END:VEVENT
BEGIN:VEVENT
DTSTAMP:20260422T125545Z
UID:e7e0ae90-78fc-4c76-8a19-46e66f3eca41
DTSTART;VALUE=DATE:20260703
DTEND;VALUE=DATE:20260704
DESCRIPTION:
LOCATION:
SUMMARY:District Office Closed
END:VEVENT
BEGIN:VEVENT
DTSTAMP:20260422T125545Z
UID:60e50081-15ee-49ec-a862-865f1ccdde4e
DTSTART;VALUE=DATE:20260710
DTEND;VALUE=DATE:20260711
DESCRIPTION:
LOCATION:
SUMMARY:District Office Closed
END:VEVENT
BEGIN:VEVENT
DTSTAMP:20260422T125545Z
UID:2f7a25c7-ae75-4510-8e1e-65a08d994d86
DTSTART;VALUE=DATE:20260717
DTEND;VALUE=DATE:20260718
DESCRIPTION:
LOCATION:
SUMMARY:District Office Closed
END:VEVENT
BEGIN:VEVENT
DTSTAMP:20260422T125545Z
UID:bf552e82-7037-4377-b971-d586ec289427
DTSTART;VALUE=DATE:20260724
DTEND;VALUE=DATE:20260725
DESCRIPTION:
LOCATION:
SUMMARY:District Office Closed
END:VEVENT
BEGIN:VEVENT
DTSTAMP:20260422T125545Z
UID:7ab3dcb5-2d2f-47bc-afcd-50de9e1ef6b1
DTSTART;VALUE=DATE:20260731
DTEND;VALUE=DATE:20260801
DESCRIPTION:
LOCATION:
SUMMARY:District Office Closed
END:VEVENT
BEGIN:VEVENT
DTSTAMP:20260422T125545Z
UID:1729b2e6-3bcc-4c4f-991c-53767d65c753
DTSTART;VALUE=DATE:20260807
DTEND;VALUE=DATE:20260808
DESCRIPTION:
LOCATION:
SUMMARY:District Office Closed
END:VEVENT
BEGIN:VEVENT
DTSTAMP:20260422T125545Z
UID:a88855ab-36e7-4bcb-a15b-f8385ce3bf6c
DTSTART;VALUE=DATE:20260814
DTEND;VALUE=DATE:20260815
DESCRIPTION:
LOCATION:
SUMMARY:District Office Closed
END:VEVENT
BEGIN:VEVENT
DTSTAMP:20260422T125545Z
UID:a6d9c7e3-66b5-41ff-b4b1-7e0267aa57b5
DTSTART:20260818T190000
DTEND:20260818T210000
DESCRIPTION:
LOCATION:121 E Sheridan Pl\, Lake Bluff\, IL 60044\, USA\, Lake Bluff Distr
 ict Office-G-10C Conference Room (20) [Projector]\, Lake Bluff District Of
 fice-G-10B Conference Room (10)\, Lake Bluff District Office-G-10A Confere
 nce Room (5)
SUMMARY:BOE Meeting
END:VEVENT
BEGIN:VEVENT
DTSTAMP:20260422T125545Z
UID:3d139650-b379-4cfa-8224-37e77bd7c581
DTSTART;VALUE=DATE:20260824
DTEND;VALUE=DATE:20260825
DESCRIPTION:
LOCATION:
SUMMARY:Teacher In Service Day
END:VEVENT
BEGIN:VEVENT
DTSTAMP:20260422T125545Z
UID:947ce725-9ce6-4d0b-b4e4-05239f370fa4
DTSTART;VALUE=DATE:20260825
DTEND;VALUE=DATE:20260826
DESCRIPTION:
LOCATION:
SUMMARY:Teacher Institute Day
END:VEVENT
BEGIN:VEVENT
DTSTAMP:20260422T125545Z
UID:5b49fc64-94b5-430e-8828-22593fe8e886
DTSTART;VALUE=DATE:20260826
DTEND;VALUE=DATE:20260827
DESCRIPTION:
LOCATION:
SUMMARY:Teacher Institute Day
END:VEVENT
BEGIN:VEVENT
DTSTAMP:20260422T125545Z
UID:6ceb3b45-1d5a-47f1-87a2-328eca3f61ca
DTSTART;VALUE=DATE:20260827
DTEND;VALUE=DATE:20260828
DESCRIPTION:
LOCATION:
SUMMARY:First Day of School - Early Dismissal
END:VEVENT
BEGIN:VEVENT
DTSTAMP:20260422T125545Z
UID:8feced5b-695f-4af4-a832-9365588500e2
DTSTART;VALUE=DATE:20260828
DTEND;VALUE=DATE:20260829
DESCRIPTION:
LOCATION:
SUMMARY:First Day Kindergarten
END:VEVENT
BEGIN:VEVENT
DTSTAMP:20260422T125545Z
UID:e1a8e138-3bdf-46ef-a883-66efe3aa0ae2
DTSTART;VALUE=DATE:20260831
DTEND;VALUE=DATE:20260901
DESCRIPTION:
LOCATION:
SUMMARY:First Day PreK
END:VEVENT
BEGIN:VEVENT
DTSTAMP:20260422T125545Z
UID:b4fa4eee-66de-4a3a-bf78-d64757326e79
DTSTART;VALUE=DATE:20260907
DTEND;VALUE=DATE:20260908
DESCRIPTION:
LOCATION:
SUMMARY:Labor Day - No School
END:VEVENT
BEGIN:VEVENT
DTSTAMP:20260422T125545Z
UID:d095372a-2d11-4d9e-93b9-b1a91d6c4a22
DTSTART:20260915T190000
DTEND:20260915T210000
DESCRIPTION:
LOCATION:121 E Sheridan Pl\, Lake Bluff\, IL 60044\, USA\, Lake Bluff Distr
 ict Office-G-10B Conference Room (10)\, Lake Bluff District Office-G-10C C
 onference Room (20) [Projector]\, Lake Bluff District Office-G-10A Confere
 nce Room (5)
SUMMARY:Committee of the Whole
END:VEVENT
BEGIN:VEVENT
DTSTAMP:20260422T125545Z
UID:c5fac672-f615-4f61-842b-f18f194a90ac
DTSTART:20260929T190000
DTEND:20260929T210000
DESCRIPTION:
LOCATION:121 E Sheridan Pl\, Lake Bluff\, IL 60044\, USA\, Lake Bluff Distr
 ict Office-G-10B Conference Room (10)\, Lake Bluff District Office-G-10C C
 onference Room (20) [Projector]\, Lake Bluff District Office-G-10A Confere
 nce Room (5)
SUMMARY:BOE Meeting
END:VEVENT
BEGIN:VEVENT
DTSTAMP:20260422T125545Z
UID:96bd90e5-a2db-4014-84d5-62f18672eaff
DTSTART;VALUE=DATE:20261007
DTEND;VALUE=DATE:20261008
DESCRIPTION:
LOCATION:
SUMMARY:Parent Teacher Conferences
END:VEVENT
BEGIN:VEVENT
DTSTAMP:20260422T125545Z
UID:d689ed3a-c94c-4286-abe3-73d69d1a9b08
DTSTART;VALUE=DATE:20261008
DTEND;VALUE=DATE:20261009
DESCRIPTION:
LOCATION:
SUMMARY:Parent/Teacher Conferences - HALF Day for Students 
END:VEVENT
BEGIN:VEVENT
DTSTAMP:20260422T125545Z
UID:f6a1590b-d610-4fc4-8b97-3cb91fca54ab
DTSTART;VALUE=DATE:20261009
DTEND;VALUE=DATE:20261010
DESCRIPTION:
LOCATION:
SUMMARY:Non Attendance Day - Students and Staff
END:VEVENT
BEGIN:VEVENT
DTSTAMP:20260422T125545Z
UID:76278843-b0f2-48b0-ada8-596e012600e4
DTSTART;VALUE=DATE:20261012
DTEND;VALUE=DATE:20261013
DESCRIPTION:
LOCATION:
SUMMARY:Indigenous Peoples' Day - No School
END:VEVENT
BEGIN:VEVENT
DTSTAMP:20260422T125545Z
UID:997d708f-6632-4acf-ac03-17acd363d58d
DTSTART:20261020T190000
DTEND:20261020T210000
DESCRIPTION:
LOCATION:121 E Sheridan Pl\, Lake Bluff\, IL 60044\, USA\, Lake Bluff Distr
 ict Office-G-10B Conference Room (10)\, Lake Bluff District Office-G-10C C
 onference Room (20) [Projector]\, Lake Bluff District Office-G-10A Confere
 nce Room (5)
SUMMARY:BOE Meeting
END:VEVENT
BEGIN:VEVENT
DTSTAMP:20260422T125545Z
UID:891f69bc-c859-40eb-a846-8bdb8259f715
DTSTART:20261027T180000
DTEND:20261027T190000
DESCRIPTION:
LOCATION:Lake Bluff Elementary School\, 350 W Washington Ave\, Lake Bluff\,
  IL 60044\, USA\, Lake Bluff Elementary School-1-111-Multipurpose Room (20
 0) [Sound System]
SUMMARY:BOE Town Hall Meeting at LBES
END:VEVENT
BEGIN:VEVENT
DTSTAMP:20260422T125545Z
UID:6df9fe96-dc89-4ac9-9c22-a9032ac653a2
DTSTART;VALUE=DATE:20261103
DTEND;VALUE=DATE:20261104
DESCRIPTION:
LOCATION:
SUMMARY:Election Day - No School
END:VEVENT
BEGIN:VEVENT
DTSTAMP:20260422T125545Z
UID:477dce2d-5906-4e44-932f-1d3f217c7217
DTSTART:20261110T190000
DTEND:20261110T210000
DESCRIPTION:
LOCATION:121 E Sheridan Pl\, Lake Bluff\, IL 60044\, USA\, Lake Bluff Distr
 ict Office-G-10B Conference Room (10)\, Lake Bluff District Office-G-10C C
 onference Room (20) [Projector]\, Lake Bluff District Office-G-10A Confere
 nce Room (5)
SUMMARY:BOE Meeting
END:VEVENT
BEGIN:VEVENT
DTSTAMP:20260422T125545Z
UID:55a51a75-7d99-4c30-b866-0be8c47c14d5
DTSTART;VALUE=DATE:20261125
DTEND;VALUE=DATE:20261128
DESCRIPTION:
LOCATION:
SUMMARY:Thanksgiving Break
END:VEVENT
BEGIN:VEVENT
DTSTAMP:20260422T125545Z
UID:acffe86b-88fb-4acc-b53c-14574975a9d9
DTSTART:20261215T190000
DTEND:20261215T210000
DESCRIPTION:
LOCATION:121 E Sheridan Pl\, Lake Bluff\, IL 60044\, USA\, Lake Bluff Distr
 ict Office-G-10B Conference Room (10)\, Lake Bluff District Office-G-10C C
 onference Room (20) [Projector]\, Lake Bluff District Office-G-10A Confere
 nce Room (5)
SUMMARY:BOE Meeting
END:VEVENT
BEGIN:VEVENT
DTSTAMP:20260422T125545Z
UID:53065014-c21a-4770-88f5-f3e175148ec5
DTSTART;VALUE=DATE:20261221
DTEND;VALUE=DATE:20270105
DESCRIPTION:
LOCATION:
SUMMARY:Winter Break
END:VEVENT
BEGIN:VEVENT
DTSTAMP:20260422T125545Z
UID:fde85ec8-c458-4ae2-add9-8916a3d77929
DTSTART;VALUE=DATE:20270104
DTEND;VALUE=DATE:20270105
DESCRIPTION:
LOCATION:
SUMMARY:Teacher Institute Day
END:VEVENT
BEGIN:VEVENT
DTSTAMP:20260422T125545Z
UID:7a507788-3d4d-4e86-bf02-4c13813bb9f3
DTSTART;VALUE=DATE:20270105
DTEND;VALUE=DATE:20270106
DESCRIPTION:
LOCATION:
SUMMARY:Classes Resume for Students
END:VEVENT
BEGIN:VEVENT
DTSTAMP:20260422T125545Z
UID:3c7f729d-2fca-4585-a588-27415672cf9a
DTSTART;VALUE=DATE:20270118
DTEND;VALUE=DATE:20270119
DESCRIPTION:
LOCATION:
SUMMARY:Martin Luther King Day - No School
END:VEVENT
BEGIN:VEVENT
DTSTAMP:20260422T125545Z
UID:31bf8fa2-6aa6-41ed-bceb-075c24ae7e3a
DTSTART:20270119T190000
DTEND:20270119T210000
DESCRIPTION:
LOCATION:121 E Sheridan Pl\, Lake Bluff\, IL 60044\, USA\, Lake Bluff Distr
 ict Office-G-10B Conference Room (10)\, Lake Bluff District Office-G-10C C
 onference Room (20) [Projector]\, Lake Bluff District Office-G-10A Confere
 nce Room (5)
SUMMARY:BOE Meeting
END:VEVENT
BEGIN:VEVENT
DTSTAMP:20260422T125545Z
UID:29f742a9-db4e-40ec-9bd8-05a2d8f113e9
DTSTART;VALUE=DATE:20270210
DTEND;VALUE=DATE:20270211
DESCRIPTION:
LOCATION:
SUMMARY:Parent Teacher Conferences
END:VEVENT
BEGIN:VEVENT
DTSTAMP:20260422T125545Z
UID:cfaaa81d-9743-4c6e-8868-6df00fa066c4
DTSTART;VALUE=DATE:20270211
DTEND;VALUE=DATE:20270212
DESCRIPTION:
LOCATION:
SUMMARY:Parent/Teacher Conferences - HALF Day for Students
END:VEVENT
BEGIN:VEVENT
DTSTAMP:20260422T125545Z
UID:2cbd17b6-c943-4dd9-973e-11e1d7127dc3
DTSTART;VALUE=DATE:20270212
DTEND;VALUE=DATE:20270213
DESCRIPTION:
LOCATION:
SUMMARY:Non Attendance Day - Students and Staff
END:VEVENT
BEGIN:VEVENT
DTSTAMP:20260422T125545Z
UID:e237e84f-0a81-4647-9fce-2ef675c2e54f
DTSTART;VALUE=DATE:20270215
DTEND;VALUE=DATE:20270216
DESCRIPTION:
LOCATION:
SUMMARY:President's Day - No School
END:VEVENT
BEGIN:VEVENT
DTSTAMP:20260422T125545Z
UID:a65b73dc-5cb9-4c0a-953b-24b69b7d246f
DTSTART:20270216T190000
DTEND:20270216T210000
DESCRIPTION:
LOCATION:121 E Sheridan Pl\, Lake Bluff\, IL 60044\, USA\, Lake Bluff Distr
 ict Office-G-10B Conference Room (10)\, Lake Bluff District Office-G-10C C
 onference Room (20) [Projector]\, Lake Bluff District Office-G-10A Confere
 nce Room (5)
SUMMARY:BOE Meeting
END:VEVENT
BEGIN:VEVENT
DTSTAMP:20260422T125545Z
UID:6cb32092-cec6-4728-893e-ff2ccd92d1b8
DTSTART:20270302T180000
DTEND:20270302T190000
DESCRIPTION:
LOCATION:Lake Bluff Elementary School\, 350 W Washington Ave\, Lake Bluff\,
  IL 60044\, USA\, Lake Bluff Elementary School-1-111-Multipurpose Room (20
 0) [Sound System]
SUMMARY:BOE Town Hall at LBES
END:VEVENT
BEGIN:VEVENT
DTSTAMP:20260422T125545Z
UID:0d9962bc-7abd-47c5-87a0-5cee05b2c234
DTSTART:20270316T190000
DTEND:20270316T210000
DESCRIPTION:
LOCATION:121 E Sheridan Pl\, Lake Bluff\, IL 60044\, USA\, Lake Bluff Distr
 ict Office-G-10B Conference Room (10)\, Lake Bluff District Office-G-10C C
 onference Room (20) [Projector]\, Lake Bluff District Office-G-10A Confere
 nce Room (5)
SUMMARY:BOE Meeting
END:VEVENT
BEGIN:VEVENT
DTSTAMP:20260422T125545Z
UID:cdb13806-c5b3-4e33-8899-f7bf2ed0bcbb
DTSTART;VALUE=DATE:20270322
DTEND;VALUE=DATE:20270327
DESCRIPTION:
LOCATION:
SUMMARY:Spring Break
END:VEVENT
BEGIN:VEVENT
DTSTAMP:20260422T125545Z
UID:df0fea5c-2120-4905-9e5c-a37038d01f1e
DTSTART;VALUE=DATE:20270322
DTEND;VALUE=DATE:20270327
DESCRIPTION:
LOCATION:
SUMMARY:Spring Break
END:VEVENT
BEGIN:VEVENT
DTSTAMP:20260422T125545Z
UID:bd40aa45-59e1-4f03-a81f-3f1c78372334
DTSTART;VALUE=DATE:20270329
DTEND;VALUE=DATE:20270330
DESCRIPTION:
LOCATION:
SUMMARY:Classes Resume for Students
END:VEVENT
BEGIN:VEVENT
DTSTAMP:20260422T125545Z
UID:11af56bc-2222-4025-b627-2ee5780bbfae
DTSTART:20270413T190000
DTEND:20270413T210000
DESCRIPTION:
LOCATION:121 E Sheridan Pl\, Lake Bluff\, IL 60044\, USA\, Lake Bluff Distr
 ict Office-G-10B Conference Room (10)\, Lake Bluff District Office-G-10C C
 onference Room (20) [Projector]\, Lake Bluff District Office-G-10A Confere
 nce Room (5)
SUMMARY:Committee of the Whole
END:VEVENT
BEGIN:VEVENT
DTSTAMP:20260422T125545Z
UID:1c447f63-0aa1-4122-a6ce-2b16435d0f61
DTSTART:20270427T190000
DTEND:20270427T210000
DESCRIPTION:
LOCATION:121 E Sheridan Pl\, Lake Bluff\, IL 60044\, USA\, Lake Bluff Distr
 ict Office-G-10B Conference Room (10)\, Lake Bluff District Office-G-10C C
 onference Room (20) [Projector]\, Lake Bluff District Office-G-10A Confere
 nce Room (5)
SUMMARY:BOE Meeting
END:VEVENT
BEGIN:VEVENT
DTSTAMP:20260422T125545Z
UID:02ef47e2-08c2-4765-84bd-4c8448b50cdd
DTSTART;VALUE=DATE:20270507
DTEND;VALUE=DATE:20270508
DESCRIPTION:
LOCATION:
SUMMARY:Teacher Institute Day
END:VEVENT
BEGIN:VEVENT
DTSTAMP:20260422T125545Z
UID:984b5d0a-aa89-4125-9d60-c07c88cb476b
DTSTART:20270525T190000
DTEND:20270525T210000
DESCRIPTION:
LOCATION:121 E Sheridan Pl\, Lake Bluff\, IL 60044\, USA\, Lake Bluff Distr
 ict Office-G-10B Conference Room (10)\, Lake Bluff District Office-G-10C C
 onference Room (20) [Projector]\, Lake Bluff District Office-G-10A Confere
 nce Room (5)
SUMMARY:BOE Meeting
END:VEVENT
BEGIN:VEVENT
DTSTAMP:20260422T125545Z
UID:20857875-dbea-4fae-8ecf-b4ad49c67173
DTSTART;VALUE=DATE:20270531
DTEND;VALUE=DATE:20270601
DESCRIPTION:
LOCATION:
SUMMARY:Memorial Day - No School
END:VEVENT
BEGIN:VEVENT
DTSTAMP:20260422T125545Z
UID:de4e1410-f9f3-4196-8be8-c8629e296009
DTSTART;VALUE=DATE:20270608
DTEND;VALUE=DATE:20270609
DESCRIPTION:
LOCATION:
SUMMARY:Last Day for Students if no Emergency Days Used - Early Dismissal
END:VEVENT
BEGIN:VEVENT
DTSTAMP:20260422T125545Z
UID:4f55fbf9-edd5-48f3-a6fc-75d21236b918
DTSTART;VALUE=DATE:20270618
DTEND;VALUE=DATE:20270619
DESCRIPTION:
LOCATION:
SUMMARY:Juneteenth Observation - No Summer School
END:VEVENT
END:VCALENDAR
