BEGIN:VCALENDAR
VERSION:2.0
PRODID:icalendar-ruby
CALSCALE:GREGORIAN
BEGIN:VTIMEZONE
TZID:America/New_York
BEGIN:DAYLIGHT
DTSTART:20260308T030000
TZOFFSETFROM:-0500
TZOFFSETTO:-0400
RRULE:FREQ=YEARLY;BYDAY=2SU;BYMONTH=3
TZNAME:EDT
END:DAYLIGHT
BEGIN:STANDARD
DTSTART:20261101T010000
TZOFFSETFROM:-0400
TZOFFSETTO:-0500
RRULE:FREQ=YEARLY;BYDAY=1SU;BYMONTH=11
TZNAME:EST
END:STANDARD
END:VTIMEZONE
BEGIN:VEVENT
DTSTAMP:20260419T123841Z
UID:26aa4f80-8946-46fd-b933-03305fa7fc85
DTSTART:20260423T163000
DTEND:20260423T180000
DESCRIPTION:
LOCATION:
SUMMARY:STEMposium
END:VEVENT
BEGIN:VEVENT
DTSTAMP:20260419T123841Z
UID:0309252d-a1e8-43f4-a326-cdf80b1f48f2
DTSTART;VALUE=DATE:20260522
DTEND;VALUE=DATE:20260523
DESCRIPTION:
LOCATION:
SUMMARY:End of Q4 (45 Days)
END:VEVENT
BEGIN:VEVENT
DTSTAMP:20260419T123841Z
UID:297818f0-b5b2-4340-bf21-6839aac98614
DTSTART;VALUE=DATE:20260522
DTEND;VALUE=DATE:20260523
DESCRIPTION:
LOCATION:
SUMMARY:End of Q4 (45 Days)
END:VEVENT
BEGIN:VEVENT
DTSTAMP:20260419T123841Z
UID:7d74b7cb-362e-4335-b04a-cc80e4eed689
DTSTART;VALUE=DATE:20260522
DTEND;VALUE=DATE:20260523
DESCRIPTION:
LOCATION:
SUMMARY:Last Day for Students - Early Release Day
END:VEVENT
BEGIN:VEVENT
DTSTAMP:20260419T123841Z
UID:bb2dc429-bb7e-4943-ae66-4621e1e00924
DTSTART;VALUE=DATE:20260522
DTEND;VALUE=DATE:20260523
DESCRIPTION:
LOCATION:
SUMMARY:Last Day for Students - Early Release Day
END:VEVENT
BEGIN:VEVENT
DTSTAMP:20260419T123841Z
UID:368f01c4-aaef-4611-a461-7783d96d4649
DTSTART;VALUE=DATE:20260525
DTEND;VALUE=DATE:20260526
DESCRIPTION:
LOCATION:
SUMMARY:Memorial Day Holiday
END:VEVENT
BEGIN:VEVENT
DTSTAMP:20260419T123841Z
UID:52cfde18-f975-4146-af4b-ad2593bc7bdd
DTSTART;VALUE=DATE:20260525
DTEND;VALUE=DATE:20260526
DESCRIPTION:
LOCATION:
SUMMARY:Memorial Day Holiday
END:VEVENT
BEGIN:VEVENT
DTSTAMP:20260419T123841Z
UID:df11ef12-f0f6-48d9-b335-fc2fbac74e3c
DTSTART;VALUE=DATE:20260526
DTEND;VALUE=DATE:20260527
DESCRIPTION:
LOCATION:
SUMMARY:PD Day
END:VEVENT
BEGIN:VEVENT
DTSTAMP:20260419T123841Z
UID:f2d0d653-9cd1-4d42-bfdc-5fd92c8c4849
DTSTART;VALUE=DATE:20260526
DTEND;VALUE=DATE:20260527
DESCRIPTION:
LOCATION:
SUMMARY:PD Day
END:VEVENT
BEGIN:VEVENT
DTSTAMP:20260419T123841Z
UID:d0b6d7ad-9a67-4f9f-8088-ea77e63a38e7
DTSTART;VALUE=DATE:20260527
DTEND;VALUE=DATE:20260528
DESCRIPTION:
LOCATION:
SUMMARY:PD Day
END:VEVENT
BEGIN:VEVENT
DTSTAMP:20260419T123841Z
UID:328fe671-df0d-4d08-8af1-afe9ca3e1d35
DTSTART;VALUE=DATE:20260527
DTEND;VALUE=DATE:20260528
DESCRIPTION:
LOCATION:
SUMMARY:PD Day
END:VEVENT
BEGIN:VEVENT
DTSTAMP:20260419T123841Z
UID:5806fe3c-5e7f-4221-81ed-0d7ba25af50e
DTSTART;VALUE=DATE:20260528
DTEND;VALUE=DATE:20260529
DESCRIPTION:
LOCATION:
SUMMARY:Post Planning Day
END:VEVENT
BEGIN:VEVENT
DTSTAMP:20260419T123841Z
UID:9ae724c8-a26a-4752-bee7-0ce8caea4cab
DTSTART;VALUE=DATE:20260528
DTEND;VALUE=DATE:20260529
DESCRIPTION:
LOCATION:
SUMMARY:Post Planning Day
END:VEVENT
BEGIN:VEVENT
DTSTAMP:20260419T123841Z
UID:af0c3a7a-29f8-4afe-a91d-88cbc3f62024
DTSTART;VALUE=DATE:20260810
DTEND;VALUE=DATE:20260811
DESCRIPTION:
LOCATION:
SUMMARY:First Day of School - Early Release
END:VEVENT
BEGIN:VEVENT
DTSTAMP:20260419T123841Z
UID:0b8b750c-2163-4f4f-925a-7ba38b6aa59a
DTSTART;VALUE=DATE:20260810
DTEND;VALUE=DATE:20260811
DESCRIPTION:
LOCATION:
SUMMARY:First Day of School - Early Release
END:VEVENT
BEGIN:VEVENT
DTSTAMP:20260419T123841Z
UID:0e1ff4fa-f299-4f93-8dad-ab5412040442
DTSTART;VALUE=DATE:20260824
DTEND;VALUE=DATE:20260825
DESCRIPTION:
LOCATION:
SUMMARY:PD Day (No School)
END:VEVENT
BEGIN:VEVENT
DTSTAMP:20260419T123841Z
UID:975fca84-757d-4351-ad3f-7308698a9f1e
DTSTART;VALUE=DATE:20260824
DTEND;VALUE=DATE:20260825
DESCRIPTION:
LOCATION:
SUMMARY:PD Day (No School)
END:VEVENT
BEGIN:VEVENT
DTSTAMP:20260419T123841Z
UID:195e9e2d-7821-4d3e-a0e4-310863879d7d
DTSTART;VALUE=DATE:20260907
DTEND;VALUE=DATE:20260908
DESCRIPTION:
LOCATION:
SUMMARY:Labor Day Holiday (No School)
END:VEVENT
BEGIN:VEVENT
DTSTAMP:20260419T123841Z
UID:099cdb22-3129-45fe-8742-b286750fca02
DTSTART;VALUE=DATE:20260907
DTEND;VALUE=DATE:20260908
DESCRIPTION:
LOCATION:
SUMMARY:Labor Day Holiday (No School)
END:VEVENT
BEGIN:VEVENT
DTSTAMP:20260419T123841Z
UID:d282db33-2a38-43fc-9e13-2c9abef2f2cc
DTSTART;VALUE=DATE:20260928
DTEND;VALUE=DATE:20260929
DESCRIPTION:
LOCATION:
SUMMARY:PD Day (No School)
END:VEVENT
BEGIN:VEVENT
DTSTAMP:20260419T123841Z
UID:52cf53cc-d247-4b84-a084-d6dc92420018
DTSTART;VALUE=DATE:20260928
DTEND;VALUE=DATE:20260929
DESCRIPTION:
LOCATION:
SUMMARY:PD Day (No School)
END:VEVENT
BEGIN:VEVENT
DTSTAMP:20260419T123841Z
UID:779a919a-8b27-413f-ae68-581174071908
DTSTART;VALUE=DATE:20261009
DTEND;VALUE=DATE:20261010
DESCRIPTION:
LOCATION:
SUMMARY:End of Q1 (42 Days)
END:VEVENT
BEGIN:VEVENT
DTSTAMP:20260419T123841Z
UID:48b6ae8f-cf9f-4ae5-afb2-c46f763895ca
DTSTART;VALUE=DATE:20261009
DTEND;VALUE=DATE:20261010
DESCRIPTION:
LOCATION:
SUMMARY:End of Q1 (42 Days)
END:VEVENT
BEGIN:VEVENT
DTSTAMP:20260419T123841Z
UID:23f97e35-c3cb-45ea-b0ff-2b998a9638fe
DTSTART;VALUE=DATE:20261012
DTEND;VALUE=DATE:20261013
DESCRIPTION:
LOCATION:
SUMMARY:Teacher Work Day (No School)
END:VEVENT
BEGIN:VEVENT
DTSTAMP:20260419T123841Z
UID:433d2c55-82b2-4345-84aa-fa85786f1dd5
DTSTART;VALUE=DATE:20261012
DTEND;VALUE=DATE:20261013
DESCRIPTION:
LOCATION:
SUMMARY:Teacher Work Day (No School)
END:VEVENT
BEGIN:VEVENT
DTSTAMP:20260419T123841Z
UID:30dfe45a-17be-40d9-a878-4c0f62ed9986
DTSTART;VALUE=DATE:20261026
DTEND;VALUE=DATE:20261027
DESCRIPTION:
LOCATION:
SUMMARY:PD Day (No School)
END:VEVENT
BEGIN:VEVENT
DTSTAMP:20260419T123841Z
UID:02763d34-6f00-4754-9aff-96bffd368f75
DTSTART;VALUE=DATE:20261026
DTEND;VALUE=DATE:20261027
DESCRIPTION:
LOCATION:
SUMMARY:PD Day (No School)
END:VEVENT
BEGIN:VEVENT
DTSTAMP:20260419T123841Z
UID:6f04f498-abcc-4b4d-adf8-567bf849c253
DTSTART;VALUE=DATE:20261111
DTEND;VALUE=DATE:20261112
DESCRIPTION:
LOCATION:
SUMMARY:Veteran's Day Holiday (No School)
END:VEVENT
BEGIN:VEVENT
DTSTAMP:20260419T123841Z
UID:80dcce02-ee4d-4a71-8e20-551491a6170e
DTSTART;VALUE=DATE:20261111
DTEND;VALUE=DATE:20261112
DESCRIPTION:
LOCATION:
SUMMARY:Veteran's Day Holiday (No School)
END:VEVENT
BEGIN:VEVENT
DTSTAMP:20260419T123841Z
UID:2d9156e4-58c3-4838-854b-207ba15e2cae
DTSTART;VALUE=DATE:20261123
DTEND;VALUE=DATE:20261128
DESCRIPTION:
LOCATION:
SUMMARY:Thanksgiving Break
END:VEVENT
BEGIN:VEVENT
DTSTAMP:20260419T123841Z
UID:68067225-5e4c-412a-aa91-e97e1a33c1e2
DTSTART;VALUE=DATE:20261123
DTEND;VALUE=DATE:20261128
DESCRIPTION:
LOCATION:
SUMMARY:Thanksgiving Break
END:VEVENT
BEGIN:VEVENT
DTSTAMP:20260419T123841Z
UID:3d221e34-4d73-4565-9f2f-83c2aaf7d3aa
DTSTART;VALUE=DATE:20261218
DTEND;VALUE=DATE:20261219
DESCRIPTION:
LOCATION:
SUMMARY:Early Release Day
END:VEVENT
BEGIN:VEVENT
DTSTAMP:20260419T123841Z
UID:476071f7-5b46-45ef-b9be-69d833e766d9
DTSTART;VALUE=DATE:20261218
DTEND;VALUE=DATE:20261219
DESCRIPTION:
LOCATION:
SUMMARY:Early Release Day
END:VEVENT
BEGIN:VEVENT
DTSTAMP:20260419T123841Z
UID:eab6c18f-873e-41f8-b546-2bfa4c22f08c
DTSTART;VALUE=DATE:20261218
DTEND;VALUE=DATE:20261219
DESCRIPTION:
LOCATION:
SUMMARY:End of Q2 (42 Days)
END:VEVENT
BEGIN:VEVENT
DTSTAMP:20260419T123841Z
UID:bd6d7356-95dd-47eb-be91-063e0eebefaa
DTSTART;VALUE=DATE:20261218
DTEND;VALUE=DATE:20261219
DESCRIPTION:
LOCATION:
SUMMARY:End of Q2 (42 Days)
END:VEVENT
BEGIN:VEVENT
DTSTAMP:20260419T123841Z
UID:d10bbcfe-faa5-402f-ac14-a75b914e0a48
DTSTART;VALUE=DATE:20261221
DTEND;VALUE=DATE:20261226
DESCRIPTION:
LOCATION:
SUMMARY:Christmas Break
END:VEVENT
BEGIN:VEVENT
DTSTAMP:20260419T123841Z
UID:3ecc575d-ec24-4b98-a213-6f5b54d28582
DTSTART;VALUE=DATE:20261221
DTEND;VALUE=DATE:20261226
DESCRIPTION:
LOCATION:
SUMMARY:Christmas Break
END:VEVENT
BEGIN:VEVENT
DTSTAMP:20260419T123841Z
UID:d96825c7-dd10-4976-a8dc-92aa45d1d810
DTSTART;VALUE=DATE:20261228
DTEND;VALUE=DATE:20270101
DESCRIPTION:
LOCATION:
SUMMARY:Christmas Break
END:VEVENT
BEGIN:VEVENT
DTSTAMP:20260419T123841Z
UID:783b5d7c-e1ae-411a-944e-2841bb3326d5
DTSTART;VALUE=DATE:20261228
DTEND;VALUE=DATE:20270101
DESCRIPTION:
LOCATION:
SUMMARY:Christmas Break
END:VEVENT
BEGIN:VEVENT
DTSTAMP:20260419T123841Z
UID:81a9a97f-046f-407e-8f9f-fafd57d04509
DTSTART;VALUE=DATE:20270101
DTEND;VALUE=DATE:20270102
DESCRIPTION:
LOCATION:
SUMMARY:New Year's Day Holiday (No School)
END:VEVENT
BEGIN:VEVENT
DTSTAMP:20260419T123841Z
UID:3e398bf7-874a-4d98-b66b-31d324a2516d
DTSTART;VALUE=DATE:20270101
DTEND;VALUE=DATE:20270102
DESCRIPTION:
LOCATION:
SUMMARY:New Year's Day Holiday (No School)
END:VEVENT
BEGIN:VEVENT
DTSTAMP:20260419T123841Z
UID:fbd503a0-87d7-4e05-8d03-a75d8d484e4f
DTSTART;VALUE=DATE:20270104
DTEND;VALUE=DATE:20270105
DESCRIPTION:
LOCATION:
SUMMARY:Teacher Work Day (No School)
END:VEVENT
BEGIN:VEVENT
DTSTAMP:20260419T123841Z
UID:616945f4-6bef-47bc-b1d6-31a244e0fcdf
DTSTART;VALUE=DATE:20270104
DTEND;VALUE=DATE:20270105
DESCRIPTION:
LOCATION:
SUMMARY:Teacher Work Day (No School)
END:VEVENT
BEGIN:VEVENT
DTSTAMP:20260419T123841Z
UID:d4afcbd1-f7c0-43ad-888a-d531d42f488e
DTSTART;VALUE=DATE:20270105
DTEND;VALUE=DATE:20270106
DESCRIPTION:
LOCATION:
SUMMARY:Students Return
END:VEVENT
BEGIN:VEVENT
DTSTAMP:20260419T123841Z
UID:7e3383d8-0b29-477f-b760-24756ecf2ede
DTSTART;VALUE=DATE:20270105
DTEND;VALUE=DATE:20270106
DESCRIPTION:
LOCATION:
SUMMARY:Students Return
END:VEVENT
BEGIN:VEVENT
DTSTAMP:20260419T123841Z
UID:77425d71-1f12-435b-9e8f-60b92d9d9ec9
DTSTART;VALUE=DATE:20270118
DTEND;VALUE=DATE:20270119
DESCRIPTION:
LOCATION:
SUMMARY:MLK Day Holiday (No School)
END:VEVENT
BEGIN:VEVENT
DTSTAMP:20260419T123841Z
UID:afae49d7-5033-47a0-b34f-007578aec6d5
DTSTART;VALUE=DATE:20270118
DTEND;VALUE=DATE:20270119
DESCRIPTION:
LOCATION:
SUMMARY:MLK Day Holiday (No School)
END:VEVENT
BEGIN:VEVENT
DTSTAMP:20260419T123841Z
UID:5092c617-9586-42d4-a5af-879c562e35d5
DTSTART;VALUE=DATE:20270125
DTEND;VALUE=DATE:20270126
DESCRIPTION:
LOCATION:
SUMMARY:PD Day (No School)
END:VEVENT
BEGIN:VEVENT
DTSTAMP:20260419T123841Z
UID:347278ac-e4d4-45c8-b8b0-9cf102cc7259
DTSTART;VALUE=DATE:20270125
DTEND;VALUE=DATE:20270126
DESCRIPTION:
LOCATION:
SUMMARY:PD Day (No School)
END:VEVENT
BEGIN:VEVENT
DTSTAMP:20260419T123841Z
UID:1230a6f5-21df-41b9-a021-f460643e31ff
DTSTART;VALUE=DATE:20270215
DTEND;VALUE=DATE:20270216
DESCRIPTION:
LOCATION:
SUMMARY:President's Day (No School)
END:VEVENT
BEGIN:VEVENT
DTSTAMP:20260419T123841Z
UID:007fb468-f757-453e-b07c-a3be55799c90
DTSTART;VALUE=DATE:20270215
DTEND;VALUE=DATE:20270216
DESCRIPTION:
LOCATION:
SUMMARY:President's Day (No School)
END:VEVENT
BEGIN:VEVENT
DTSTAMP:20260419T123841Z
UID:2acf6225-ef9f-46c5-a06b-3cb9d7da732b
DTSTART;VALUE=DATE:20270222
DTEND;VALUE=DATE:20270223
DESCRIPTION:
LOCATION:
SUMMARY:PD Day (No School)
END:VEVENT
BEGIN:VEVENT
DTSTAMP:20260419T123841Z
UID:efe73d93-b9ae-4def-9d32-55be0f1fe656
DTSTART;VALUE=DATE:20270222
DTEND;VALUE=DATE:20270223
DESCRIPTION:
LOCATION:
SUMMARY:PD Day (No School)
END:VEVENT
BEGIN:VEVENT
DTSTAMP:20260419T123841Z
UID:74c59a75-cf79-4d87-9cb8-38f0bb033b60
DTSTART;VALUE=DATE:20270312
DTEND;VALUE=DATE:20270313
DESCRIPTION:
LOCATION:
SUMMARY:End of Q3 (45 Days)
END:VEVENT
BEGIN:VEVENT
DTSTAMP:20260419T123841Z
UID:bb53e7bb-fe37-46ab-bb36-412b7c4b4e8c
DTSTART;VALUE=DATE:20270315
DTEND;VALUE=DATE:20270316
DESCRIPTION:
LOCATION:
SUMMARY:Teacher Work Day (No School)
END:VEVENT
BEGIN:VEVENT
DTSTAMP:20260419T123841Z
UID:ce5c0863-b52b-4825-a061-46c60bb94ff9
DTSTART;VALUE=DATE:20270326
DTEND;VALUE=DATE:20270327
DESCRIPTION:
LOCATION:
SUMMARY:Good Friday Holiday (No School)
END:VEVENT
BEGIN:VEVENT
DTSTAMP:20260419T123841Z
UID:97c1e960-3e4b-4b69-b856-94ed648590f8
DTSTART;VALUE=DATE:20270329
DTEND;VALUE=DATE:20270330
DESCRIPTION:
LOCATION:
SUMMARY:PD Day (No School)
END:VEVENT
BEGIN:VEVENT
DTSTAMP:20260419T123841Z
UID:f4341ad0-c3b1-42da-801d-34ccc58debff
DTSTART;VALUE=DATE:20270412
DTEND;VALUE=DATE:20270417
DESCRIPTION:
LOCATION:
SUMMARY:Spring Break
END:VEVENT
BEGIN:VEVENT
DTSTAMP:20260419T123841Z
UID:16523ccf-8706-4bc2-8573-25444bb1ff96
DTSTART;VALUE=DATE:20270426
DTEND;VALUE=DATE:20270427
DESCRIPTION:
LOCATION:
SUMMARY:PD Day (No School)
END:VEVENT
BEGIN:VEVENT
DTSTAMP:20260419T123841Z
UID:7a432a72-ab7a-43d9-a2d7-d114d88365e5
DTSTART;VALUE=DATE:20270527
DTEND;VALUE=DATE:20270528
DESCRIPTION:
LOCATION:
SUMMARY:End of Q4 (45 Days)
END:VEVENT
BEGIN:VEVENT
DTSTAMP:20260419T123841Z
UID:544e67e7-068c-44c2-9d3b-10e41045cd25
DTSTART;VALUE=DATE:20270527
DTEND;VALUE=DATE:20270528
DESCRIPTION:
LOCATION:
SUMMARY:Last Day of School - Early Release
END:VEVENT
BEGIN:VEVENT
DTSTAMP:20260419T123841Z
UID:357a7082-2677-438e-a7b0-faa8364182f7
DTSTART;VALUE=DATE:20270528
DTEND;VALUE=DATE:20270529
DESCRIPTION:
LOCATION:
SUMMARY:Post Planning Day
END:VEVENT
BEGIN:VEVENT
DTSTAMP:20260419T123841Z
UID:313662be-0798-402e-a2a8-7ff1039a7d00
DTSTART;VALUE=DATE:20270531
DTEND;VALUE=DATE:20270601
DESCRIPTION:
LOCATION:
SUMMARY:Memorial Day Holiday
END:VEVENT
END:VCALENDAR
