BEGIN:VCALENDAR
VERSION:2.0
PRODID:icalendar-ruby
CALSCALE:GREGORIAN
BEGIN:VTIMEZONE
TZID:America/New_York
BEGIN:DAYLIGHT
DTSTART:20260308T030000
TZOFFSETFROM:-0500
TZOFFSETTO:-0400
RRULE:FREQ=YEARLY;BYDAY=2SU;BYMONTH=3
TZNAME:EDT
END:DAYLIGHT
BEGIN:STANDARD
DTSTART:20261101T010000
TZOFFSETFROM:-0400
TZOFFSETTO:-0500
RRULE:FREQ=YEARLY;BYDAY=1SU;BYMONTH=11
TZNAME:EST
END:STANDARD
END:VTIMEZONE
BEGIN:VEVENT
DTSTAMP:20260419T181748Z
UID:01c381aa-b7fd-4cf7-ae82-0d0d505fb877
DTSTART;VALUE=DATE:20260420
DTEND;VALUE=DATE:20260425
DESCRIPTION:<p>This is a non verbal ability screener for First Grade.</p>
LOCATION:
SUMMARY:Naglieri Testing First Grade
END:VEVENT
BEGIN:VEVENT
DTSTAMP:20260419T181748Z
UID:8857e197-d91a-4f62-b000-fa1fcaf18978
DTSTART;VALUE=DATE:20260505
DTEND;VALUE=DATE:20260506
DESCRIPTION:
LOCATION:
SUMMARY:PM3 Testing 3-5 Reading
END:VEVENT
BEGIN:VEVENT
DTSTAMP:20260419T181748Z
UID:e6d70d8d-0551-4461-8700-0c7e7cc20e8e
DTSTART;VALUE=DATE:20260507
DTEND;VALUE=DATE:20260508
DESCRIPTION:
LOCATION:
SUMMARY:PM3 Testing 6-8 Reading
END:VEVENT
BEGIN:VEVENT
DTSTAMP:20260419T181748Z
UID:6877c60a-6464-48b2-a0f7-f391333faa16
DTSTART;VALUE=DATE:20260511
DTEND;VALUE=DATE:20260530
DESCRIPTION:
LOCATION:
SUMMARY:STAR Testing K-2
END:VEVENT
BEGIN:VEVENT
DTSTAMP:20260419T181748Z
UID:a0d1ce43-bd7d-49a7-ac3d-2103945ee044
DTSTART;VALUE=DATE:20260512
DTEND;VALUE=DATE:20260513
DESCRIPTION:
LOCATION:
SUMMARY:PM3 Testing 3-5 Math
END:VEVENT
BEGIN:VEVENT
DTSTAMP:20260419T181748Z
UID:e6293f49-c535-48aa-be37-dcf4d342256d
DTSTART;VALUE=DATE:20260514
DTEND;VALUE=DATE:20260515
DESCRIPTION:
LOCATION:
SUMMARY:Algebra 1 EOC Grade 8
END:VEVENT
BEGIN:VEVENT
DTSTAMP:20260419T181748Z
UID:9d13633e-5af3-49d3-a4fe-829697ee7105
DTSTART;VALUE=DATE:20260514
DTEND;VALUE=DATE:20260515
DESCRIPTION:
LOCATION:
SUMMARY:PM3 Testing 6-8 Math
END:VEVENT
BEGIN:VEVENT
DTSTAMP:20260419T181748Z
UID:4656b6b9-6720-416e-9208-7faab7de9302
DTSTART;VALUE=DATE:20260518
DTEND;VALUE=DATE:20260519
DESCRIPTION:
LOCATION:
SUMMARY:5th/8th Science Testing
END:VEVENT
BEGIN:VEVENT
DTSTAMP:20260419T181748Z
UID:2ed206d5-fb90-4fc0-8473-10ebb0770d81
DTSTART;VALUE=DATE:20260518
DTEND;VALUE=DATE:20260519
DESCRIPTION:
LOCATION:
SUMMARY:Grade 7 Civics EOC
END:VEVENT
END:VCALENDAR
