BEGIN:VCALENDAR
VERSION:2.0
PRODID:icalendar-ruby
CALSCALE:GREGORIAN
BEGIN:VTIMEZONE
TZID:America/New_York
BEGIN:DAYLIGHT
DTSTART:20260308T030000
TZOFFSETFROM:-0500
TZOFFSETTO:-0400
RRULE:FREQ=YEARLY;BYDAY=2SU;BYMONTH=3
TZNAME:EDT
END:DAYLIGHT
BEGIN:STANDARD
DTSTART:20261101T010000
TZOFFSETFROM:-0400
TZOFFSETTO:-0500
RRULE:FREQ=YEARLY;BYDAY=1SU;BYMONTH=11
TZNAME:EST
END:STANDARD
END:VTIMEZONE
BEGIN:VEVENT
DTSTAMP:20260421T163400Z
UID:064c758c-06ac-4fe0-bc4d-2265a4fa8561
DTSTART:20260421T080000
DTEND:20260422T180000
DESCRIPTION:
LOCATION:
SUMMARY:Beach Volleyball Districts
END:VEVENT
BEGIN:VEVENT
DTSTAMP:20260421T163400Z
UID:f19fbf76-7be5-46d9-a102-44ae7fc52776
DTSTART:20260421T170000
DTEND:20260421T210000
DESCRIPTION:
LOCATION:
SUMMARY:Softball v The Villages JV and Varsity
END:VEVENT
BEGIN:VEVENT
DTSTAMP:20260421T163400Z
UID:c3948b1c-12c0-4b04-b74b-4b221392564d
DTSTART:20260422T170000
DTEND:20260422T180000
DESCRIPTION:
LOCATION:
SUMMARY:Cane Expo- For incoming 2026-27 9th Graders
END:VEVENT
BEGIN:VEVENT
DTSTAMP:20260421T163400Z
UID:9d5e1abf-fc24-407f-8476-37110586b9ea
DTSTART:20260422T190000
DTEND:20260422T210000
DESCRIPTION:
LOCATION:
SUMMARY:Softball @ Windemere Varsity
END:VEVENT
BEGIN:VEVENT
DTSTAMP:20260421T163400Z
UID:77d406ac-d0a5-4cbb-9f1f-f26da07ca0b8
DTSTART:20260423T080000
DTEND:20260425T090000
DESCRIPTION:<p>Showtimes: </p><p>Thursday 6:30 PM</p><p>Friday 6:30 PM</p><
 p>Saturday 1:30 &amp\;  6:30 PM </p><p>Tickets available on GOFAN <a targe
 t="_blank" rel="noopener noreferrer nofollow" href="https://gofan.co/app/s
 chool/FL1571">https://gofan.co/app/school/FL1571</a></p>
LOCATION:700 N Highland St\, Mt Dora\, FL 32757\, USA
SUMMARY:The Drowsy Chaperone- MDHS Theater Department
END:VEVENT
BEGIN:VEVENT
DTSTAMP:20260421T163400Z
UID:8ff602ad-464a-4019-ad6a-c4c9604956f8
DTSTART:20260423T180000
DTEND:20260423T200000
DESCRIPTION:
LOCATION:
SUMMARY:Softball @ South Lake Varsity
END:VEVENT
BEGIN:VEVENT
DTSTAMP:20260421T163400Z
UID:d85809d0-e4bd-47dd-bbff-99454b8a550a
DTSTART:20260424T190000
DTEND:20260424T210000
DESCRIPTION:
LOCATION:
SUMMARY:Softball v TFA Varsity
END:VEVENT
BEGIN:VEVENT
DTSTAMP:20260421T163400Z
UID:5e9a60c1-fa81-4091-86cb-86ac53ff7939
DTSTART:20260428T080000
DTEND:20260430T180000
DESCRIPTION:
LOCATION:
SUMMARY:Cheer Clinic and Tryouts
END:VEVENT
BEGIN:VEVENT
DTSTAMP:20260421T163400Z
UID:836a2ff2-da4c-47ea-bc47-a8ef547e90d5
DTSTART:20260515T090000
DTEND:20260515T113000
DESCRIPTION:
LOCATION:
SUMMARY:Senior Scholarship Ceremony
END:VEVENT
BEGIN:VEVENT
DTSTAMP:20260421T163400Z
UID:7a44e49f-37f5-47cf-b61e-643873f0d9c8
DTSTART:20260521T193000
DTEND:20260521T210000
DESCRIPTION:<p></p>
LOCATION:700 N Highland St\, Mt Dora\, FL 32757\, USA
SUMMARY:Graduation  for Class of 2026
END:VEVENT
BEGIN:VEVENT
DTSTAMP:20260421T163400Z
UID:73e974f9-f208-41a0-b16b-da15e90cb8fa
DTSTART;VALUE=DATE:20260525
DTEND;VALUE=DATE:20260526
DESCRIPTION:
LOCATION:
SUMMARY:Memorial Day- No School
END:VEVENT
BEGIN:VEVENT
DTSTAMP:20260421T163400Z
UID:75c4fa0e-9e95-47de-bd43-085f63f8fa3b
DTSTART;VALUE=DATE:20260529
DTEND;VALUE=DATE:20260530
DESCRIPTION:
LOCATION:
SUMMARY:Last day of 4th Grading Period
END:VEVENT
END:VCALENDAR
