BEGIN:VCALENDAR
VERSION:2.0
PRODID:icalendar-ruby
CALSCALE:GREGORIAN
BEGIN:VTIMEZONE
TZID:America/New_York
BEGIN:DAYLIGHT
DTSTART:20260308T030000
TZOFFSETFROM:-0500
TZOFFSETTO:-0400
RRULE:FREQ=YEARLY;BYDAY=2SU;BYMONTH=3
TZNAME:EDT
END:DAYLIGHT
BEGIN:STANDARD
DTSTART:20261101T010000
TZOFFSETFROM:-0400
TZOFFSETTO:-0500
RRULE:FREQ=YEARLY;BYDAY=1SU;BYMONTH=11
TZNAME:EST
END:STANDARD
END:VTIMEZONE
BEGIN:VEVENT
DTSTAMP:20260421T170105Z
UID:60cb6482-3b66-49d4-83a4-0fe5c9225c9b
DTSTART:20260423T161500
DTEND:20260423T173000
DESCRIPTION:<p><span>Prompt pickup at 5:30 please.</span></p>
LOCATION:3575 Hancock Rd\, Clermont\, FL 34711\, USA
SUMMARY:D&D Club
END:VEVENT
BEGIN:VEVENT
DTSTAMP:20260421T170105Z
UID:82a09e7f-8f1f-4005-8ab4-523e27b0ce89
DTSTART:20260427T161500
DTEND:20260427T181500
DESCRIPTION:
LOCATION:3575 Hancock Rd\, Clermont\, FL 34711\, USA
SUMMARY:Analog Gamers Club
END:VEVENT
BEGIN:VEVENT
DTSTAMP:20260421T170105Z
UID:97e2171a-641d-421d-8d41-bc88a7a1ffd0
DTSTART:20260430T161500
DTEND:20260430T173000
DESCRIPTION:<p><span>Prompt pickup at 5:30 please.</span></p>
LOCATION:3575 Hancock Rd\, Clermont\, FL 34711\, USA
SUMMARY:D&D Club
END:VEVENT
BEGIN:VEVENT
DTSTAMP:20260421T170105Z
UID:e112ca69-3b06-4675-93fe-ad12a878137e
DTSTART;VALUE=DATE:20260505
DTEND;VALUE=DATE:20260506
DESCRIPTION:
LOCATION:3575 Hancock Rd\, Clermont\, FL 34711\, USA
SUMMARY:Fast PM3 ELA Test
END:VEVENT
BEGIN:VEVENT
DTSTAMP:20260421T170105Z
UID:d8b165f2-9ed3-455c-b805-1a2355f87a8e
DTSTART;VALUE=DATE:20260507
DTEND;VALUE=DATE:20260508
DESCRIPTION:
LOCATION:3575 Hancock Rd\, Clermont\, FL 34711\, USA
SUMMARY:8th Grade Science EOC
END:VEVENT
BEGIN:VEVENT
DTSTAMP:20260421T170105Z
UID:f844258a-93c1-41c2-a8eb-197264f0462c
DTSTART:20260507T161500
DTEND:20260507T173000
DESCRIPTION:<p><span>Prompt pickup at 5:30 please.</span></p>
LOCATION:3575 Hancock Rd\, Clermont\, FL 34711\, USA
SUMMARY:D&D Club
END:VEVENT
BEGIN:VEVENT
DTSTAMP:20260421T170105Z
UID:dee0b070-ce18-4218-8b35-6b0efd640e4c
DTSTART;VALUE=DATE:20260512
DTEND;VALUE=DATE:20260513
DESCRIPTION:
LOCATION:3575 Hancock Rd\, Clermont\, FL 34711\, USA
SUMMARY:Algebra/Geometry EOC 
END:VEVENT
BEGIN:VEVENT
DTSTAMP:20260421T170105Z
UID:20fdb5c5-dd59-492b-a4ea-7159437423b9
DTSTART;VALUE=DATE:20260512
DTEND;VALUE=DATE:20260513
DESCRIPTION:
LOCATION:3575 Hancock Rd\, Clermont\, FL 34711\, USA
SUMMARY:FAST PM3 Math Test
END:VEVENT
BEGIN:VEVENT
DTSTAMP:20260421T170105Z
UID:8210e1bb-42da-41f8-b427-16f34283b98c
DTSTART;VALUE=DATE:20260514
DTEND;VALUE=DATE:20260515
DESCRIPTION:
LOCATION:3575 Hancock Rd\, Clermont\, FL 34711\, USA
SUMMARY:7th Grade Civics EOC
END:VEVENT
BEGIN:VEVENT
DTSTAMP:20260421T170105Z
UID:95712e9d-a977-4d49-b36e-46a8bf34447d
DTSTART:20260514T161500
DTEND:20260514T173000
DESCRIPTION:<p><span>Prompt pickup at 5:30 please.</span></p>
LOCATION:3575 Hancock Rd\, Clermont\, FL 34711\, USA
SUMMARY:D&D Club
END:VEVENT
BEGIN:VEVENT
DTSTAMP:20260421T170105Z
UID:eb4559aa-c847-4f78-b12c-21955be3c1d6
DTSTART:20260518T161500
DTEND:20260518T181500
DESCRIPTION:
LOCATION:3575 Hancock Rd\, Clermont\, FL 34711\, USA
SUMMARY:Analog Gamers Club
END:VEVENT
BEGIN:VEVENT
DTSTAMP:20260421T170105Z
UID:17188cad-4621-485d-8941-95878909b449
DTSTART:20260521T161500
DTEND:20260521T173000
DESCRIPTION:<p><span>Prompt pickup at 5:30 please.</span></p>
LOCATION:3575 Hancock Rd\, Clermont\, FL 34711\, USA
SUMMARY:D&D Club
END:VEVENT
BEGIN:VEVENT
DTSTAMP:20260421T170105Z
UID:b87cb1cc-f3d2-44e5-bae1-5809317f5134
DTSTART;VALUE=DATE:20260525
DTEND;VALUE=DATE:20260526
DESCRIPTION:
LOCATION:
SUMMARY:Memorial Day Holiday / School District Closed
END:VEVENT
BEGIN:VEVENT
DTSTAMP:20260421T170105Z
UID:dcd8946d-f4d7-4150-a050-3747ee8a6ac1
DTSTART;VALUE=DATE:20260529
DTEND;VALUE=DATE:20260530
DESCRIPTION:
LOCATION:
SUMMARY:Last Day of School / End of Fourth Grading Period
END:VEVENT
BEGIN:VEVENT
DTSTAMP:20260421T170105Z
UID:1883fca2-d2c4-4faf-b7e4-c6ea2432cd0e
DTSTART;VALUE=DATE:20260810
DTEND;VALUE=DATE:20260811
DESCRIPTION:
LOCATION:
SUMMARY:First Day of School
END:VEVENT
END:VCALENDAR
