BEGIN:VCALENDAR
VERSION:2.0
PRODID:icalendar-ruby
CALSCALE:GREGORIAN
BEGIN:VTIMEZONE
TZID:America/New_York
BEGIN:DAYLIGHT
DTSTART:20260308T030000
TZOFFSETFROM:-0500
TZOFFSETTO:-0400
RRULE:FREQ=YEARLY;BYDAY=2SU;BYMONTH=3
TZNAME:EDT
END:DAYLIGHT
BEGIN:STANDARD
DTSTART:20261101T010000
TZOFFSETFROM:-0400
TZOFFSETTO:-0500
RRULE:FREQ=YEARLY;BYDAY=1SU;BYMONTH=11
TZNAME:EST
END:STANDARD
END:VTIMEZONE
BEGIN:VEVENT
DTSTAMP:20260426T001104Z
UID:6f5a20d8-a16a-4264-b6fc-8b9cce29fae6
DTSTART;VALUE=DATE:20260427
DTEND;VALUE=DATE:20260428
DESCRIPTION:
LOCATION:
SUMMARY:Kindergarten Math PM 3 Assessment
END:VEVENT
BEGIN:VEVENT
DTSTAMP:20260426T001104Z
UID:2ffd655d-6396-41cb-b4ed-4d6f75bd0f72
DTSTART;VALUE=DATE:20260429
DTEND;VALUE=DATE:20260430
DESCRIPTION:
LOCATION:
SUMMARY:1st Grade Math PM 3 Assessment
END:VEVENT
BEGIN:VEVENT
DTSTAMP:20260426T001104Z
UID:467941a3-1aa2-40d5-9ece-285775571875
DTSTART;VALUE=DATE:20260429
DTEND;VALUE=DATE:20260430
DESCRIPTION:
LOCATION:
SUMMARY:2nd Grade Math PM 3 Assessment
END:VEVENT
BEGIN:VEVENT
DTSTAMP:20260426T001104Z
UID:79f0534c-d988-482d-a3e7-d362e48eaa4c
DTSTART;VALUE=DATE:20260430
DTEND;VALUE=DATE:20260501
DESCRIPTION:
LOCATION:
SUMMARY:Kindergarten ELA PM 3 Assessment
END:VEVENT
BEGIN:VEVENT
DTSTAMP:20260426T001104Z
UID:d2fd71c1-6603-45ab-b6de-4cf746e478b9
DTSTART;VALUE=DATE:20260504
DTEND;VALUE=DATE:20260505
DESCRIPTION:
LOCATION:
SUMMARY:5th Grade ELA PM 3 Assessment
END:VEVENT
BEGIN:VEVENT
DTSTAMP:20260426T001104Z
UID:267393c1-da50-43a3-81c7-9419fb6ea951
DTSTART;VALUE=DATE:20260505
DTEND;VALUE=DATE:20260506
DESCRIPTION:
LOCATION:
SUMMARY:4th Grade ELA PM 3 Assessment
END:VEVENT
BEGIN:VEVENT
DTSTAMP:20260426T001104Z
UID:5615e30c-c374-4d8f-8fe9-ffa31e045010
DTSTART;VALUE=DATE:20260506
DTEND;VALUE=DATE:20260507
DESCRIPTION:
LOCATION:
SUMMARY:1st Grade ELA PM 3 Assessment
END:VEVENT
BEGIN:VEVENT
DTSTAMP:20260426T001104Z
UID:7d037161-32fe-4a42-96a1-d598c83966ef
DTSTART;VALUE=DATE:20260506
DTEND;VALUE=DATE:20260507
DESCRIPTION:
LOCATION:
SUMMARY:2nd Grade ELA PM 3 Assessment
END:VEVENT
BEGIN:VEVENT
DTSTAMP:20260426T001104Z
UID:360fdfe4-332c-4d77-9f64-0dce90a49fd1
DTSTART;VALUE=DATE:20260507
DTEND;VALUE=DATE:20260508
DESCRIPTION:
LOCATION:
SUMMARY:3rd Grade ELA PM 3 Assessment
END:VEVENT
BEGIN:VEVENT
DTSTAMP:20260426T001104Z
UID:9653856d-ea9e-425a-a452-081409907ee5
DTSTART;VALUE=DATE:20260507
DTEND;VALUE=DATE:20260508
DESCRIPTION:
LOCATION:
SUMMARY:5th Grade Science Assessment
END:VEVENT
BEGIN:VEVENT
DTSTAMP:20260426T001104Z
UID:b5968c6e-047c-4b67-aa44-9fc3226a9185
DTSTART;VALUE=DATE:20260512
DTEND;VALUE=DATE:20260513
DESCRIPTION:
LOCATION:
SUMMARY:3rd Grade Math PM 3 Assessment
END:VEVENT
BEGIN:VEVENT
DTSTAMP:20260426T001104Z
UID:56605cb1-d052-4d37-b08a-b65c03a848a1
DTSTART;VALUE=DATE:20260513
DTEND;VALUE=DATE:20260514
DESCRIPTION:
LOCATION:
SUMMARY:4th Grade Math PM 3 Assessment
END:VEVENT
BEGIN:VEVENT
DTSTAMP:20260426T001104Z
UID:d94d6d4d-666d-45bd-986e-4b1e1fd75031
DTSTART;VALUE=DATE:20260514
DTEND;VALUE=DATE:20260515
DESCRIPTION:
LOCATION:
SUMMARY:5th Grade Math PM 3 Assessment
END:VEVENT
BEGIN:VEVENT
DTSTAMP:20260426T001104Z
UID:fb55da0c-c992-4626-84c6-b1671c1fbc40
DTSTART;VALUE=DATE:20260525
DTEND;VALUE=DATE:20260526
DESCRIPTION:
LOCATION:
SUMMARY:Memorial Day - No School
END:VEVENT
BEGIN:VEVENT
DTSTAMP:20260426T001104Z
UID:f1821a57-0177-4c08-86a3-01b32d0ce280
DTSTART;VALUE=DATE:20260529
DTEND;VALUE=DATE:20260530
DESCRIPTION:
LOCATION:
SUMMARY:Last Day of School
END:VEVENT
END:VCALENDAR
