BEGIN:VCALENDAR
VERSION:2.0
PRODID:icalendar-ruby
CALSCALE:GREGORIAN
BEGIN:VTIMEZONE
TZID:America/Chicago
BEGIN:DAYLIGHT
DTSTART:20260308T030000
TZOFFSETFROM:-0600
TZOFFSETTO:-0500
RRULE:FREQ=YEARLY;BYDAY=2SU;BYMONTH=3
TZNAME:CDT
END:DAYLIGHT
BEGIN:STANDARD
DTSTART:20261101T010000
TZOFFSETFROM:-0500
TZOFFSETTO:-0600
RRULE:FREQ=YEARLY;BYDAY=1SU;BYMONTH=11
TZNAME:CST
END:STANDARD
END:VTIMEZONE
BEGIN:VEVENT
DTSTAMP:20260420T000354Z
UID:7d17dd00-a4f0-42b8-b6df-a0ffe4eb9971
DTSTART:20260427T170000
DTEND:20260427T190000
DESCRIPTION:
LOCATION:72 W 9th St\, Fond du Lac\, WI 54935\, USA
SUMMARY:Board of Education Meeting
END:VEVENT
BEGIN:VEVENT
DTSTAMP:20260420T000354Z
UID:42bf7198-b623-40ec-87ad-d72e66b783b8
DTSTART:20260511T170000
DTEND:20260511T190000
DESCRIPTION:
LOCATION:72 W 9th St\, Fond du Lac\, WI 54935\, USA
SUMMARY:Board of Education Meeting
END:VEVENT
BEGIN:VEVENT
DTSTAMP:20260420T000354Z
UID:91192b9f-e8d8-4c36-a6d5-fb0c9f40b55e
DTSTART;VALUE=DATE:20260515
DTEND;VALUE=DATE:20260516
DESCRIPTION:
LOCATION:
SUMMARY:Academic Planning Day - No School for 4K-5 (E)
END:VEVENT
BEGIN:VEVENT
DTSTAMP:20260420T000354Z
UID:f324c958-e785-4d7a-9520-c06a52df3db1
DTSTART;VALUE=DATE:20260525
DTEND;VALUE=DATE:20260526
DESCRIPTION:District Closed
LOCATION:
SUMMARY:No School - Memorial Day
END:VEVENT
BEGIN:VEVENT
DTSTAMP:20260420T000354Z
UID:dff36cca-1e63-401e-965e-c1767bc19104
DTSTART:20260526T170000
DTEND:20260526T190000
DESCRIPTION:
LOCATION:72 W 9th St\, Fond du Lac\, WI 54935\, USA
SUMMARY:Board of Education Meeting
END:VEVENT
BEGIN:VEVENT
DTSTAMP:20260420T000354Z
UID:20543a95-db05-4c56-b440-3c855ddd29e6
DTSTART;VALUE=DATE:20260603
DTEND;VALUE=DATE:20260604
DESCRIPTION:
LOCATION:
SUMMARY:End of Quarter Four/Second Semester
END:VEVENT
BEGIN:VEVENT
DTSTAMP:20260420T000354Z
UID:ca4c3d89-9ef6-4ce1-80eb-c6d5fd99735b
DTSTART;VALUE=DATE:20260603
DTEND;VALUE=DATE:20260604
DESCRIPTION:
LOCATION:
SUMMARY:Last Day of School (4K\, EC\, E\, MS\, HS)
END:VEVENT
BEGIN:VEVENT
DTSTAMP:20260420T000354Z
UID:ec47e6e1-f3b0-494e-af8d-8ee240aaee76
DTSTART;VALUE=DATE:20260604
DTEND;VALUE=DATE:20260605
DESCRIPTION:
LOCATION:
SUMMARY:FHS Graduation and Records Day
END:VEVENT
BEGIN:VEVENT
DTSTAMP:20260420T000354Z
UID:969e15d7-4a98-4c65-9cb4-eb3b6cbe09c4
DTSTART;VALUE=DATE:20260605
DTEND;VALUE=DATE:20260606
DESCRIPTION:
LOCATION:
SUMMARY:No School - Staff Development (4K/EC\, E\, M\, HS)
END:VEVENT
BEGIN:VEVENT
DTSTAMP:20260420T000354Z
UID:4c9cf742-bdc6-449a-bbf8-ef1e8e85f8c2
DTSTART:20260608T170000
DTEND:20260608T190000
DESCRIPTION:
LOCATION:72 W 9th St\, Fond du Lac\, WI 54935\, USA
SUMMARY:Board of Education Meeting
END:VEVENT
BEGIN:VEVENT
DTSTAMP:20260420T000354Z
UID:3cf262ad-9a5c-47fd-b5d6-63c6977d03b4
DTSTART:20260622T170000
DTEND:20260622T190000
DESCRIPTION:
LOCATION:72 W 9th St\, Fond du Lac\, WI 54935\, USA
SUMMARY:Board of Education Meeting
END:VEVENT
END:VCALENDAR
