BEGIN:VCALENDAR
VERSION:2.0
PRODID:icalendar-ruby
CALSCALE:GREGORIAN
BEGIN:VTIMEZONE
TZID:America/New_York
BEGIN:DAYLIGHT
DTSTART:20260308T030000
TZOFFSETFROM:-0500
TZOFFSETTO:-0400
RRULE:FREQ=YEARLY;BYDAY=2SU;BYMONTH=3
TZNAME:EDT
END:DAYLIGHT
BEGIN:STANDARD
DTSTART:20261101T010000
TZOFFSETFROM:-0400
TZOFFSETTO:-0500
RRULE:FREQ=YEARLY;BYDAY=1SU;BYMONTH=11
TZNAME:EST
END:STANDARD
END:VTIMEZONE
BEGIN:VEVENT
DTSTAMP:20260421T152131Z
UID:6c0d9ea2-125a-4c65-8279-bd1dfd76d1a8
DTSTART:20260516T190000
DTEND:20260516T230000
DESCRIPTION:<p>Red Carpet - Las Vegas</p>
LOCATION:2703 W Enosburg Rd\, Enosburg Falls\, VT 05450\, USA
SUMMARY:EFMHS Junior/Senior Prom
END:VEVENT
BEGIN:VEVENT
DTSTAMP:20260421T152131Z
UID:5381eac2-a93d-4e81-b359-958a18b4c2f3
DTSTART:20260613T110000
DTEND:20260613T120000
DESCRIPTION:
LOCATION:Lincoln Park\, School St\, Enosburg Falls\, VT 05450\, USA
SUMMARY:EFMHS Graduation
END:VEVENT
END:VCALENDAR
