BEGIN:VCALENDAR
VERSION:2.0
PRODID:icalendar-ruby
CALSCALE:GREGORIAN
BEGIN:VTIMEZONE
TZID:America/New_York
BEGIN:DAYLIGHT
DTSTART:20260308T030000
TZOFFSETFROM:-0500
TZOFFSETTO:-0400
RRULE:FREQ=YEARLY;BYDAY=2SU;BYMONTH=3
TZNAME:EDT
END:DAYLIGHT
BEGIN:STANDARD
DTSTART:20261101T010000
TZOFFSETFROM:-0400
TZOFFSETTO:-0500
RRULE:FREQ=YEARLY;BYDAY=1SU;BYMONTH=11
TZNAME:EST
END:STANDARD
END:VTIMEZONE
BEGIN:VEVENT
DTSTAMP:20260423T055202Z
UID:8cc4b4a3-1ce7-40b6-81ec-00c5ff661139
DTSTART;VALUE=DATE:20260423
DTEND;VALUE=DATE:20260424
DESCRIPTION:
LOCATION:
SUMMARY:Day 3
END:VEVENT
BEGIN:VEVENT
DTSTAMP:20260423T055202Z
UID:d31b3a45-b545-4cbf-8634-ac699a8ddf85
DTSTART;VALUE=DATE:20260423
DTEND;VALUE=DATE:20260424
DESCRIPTION:
LOCATION:
SUMMARY:PSSA Testing for Grades 3-8
END:VEVENT
BEGIN:VEVENT
DTSTAMP:20260423T055202Z
UID:0ad0d07b-e285-4bfb-99be-19d000a93d0b
DTSTART;VALUE=DATE:20260424
DTEND;VALUE=DATE:20260425
DESCRIPTION:
LOCATION:
SUMMARY:Day 4
END:VEVENT
BEGIN:VEVENT
DTSTAMP:20260423T055202Z
UID:acc39b12-e2f3-4893-ab65-a76fa7c964f2
DTSTART;VALUE=DATE:20260424
DTEND;VALUE=DATE:20260425
DESCRIPTION:
LOCATION:
SUMMARY:PSSA Testing for Grades 3-8
END:VEVENT
BEGIN:VEVENT
DTSTAMP:20260423T055202Z
UID:64abcef6-10a2-45d2-bb31-88a7f9c4c18d
DTSTART:20260424T150000
DTEND:20260424T210000
DESCRIPTION:
LOCATION:
SUMMARY:MS Mini-THON® Event
END:VEVENT
BEGIN:VEVENT
DTSTAMP:20260423T055202Z
UID:3a6069d6-2d94-4482-b95e-c4e35d140a21
DTSTART;VALUE=DATE:20260427
DTEND;VALUE=DATE:20260428
DESCRIPTION:
LOCATION:
SUMMARY:Day 5
END:VEVENT
BEGIN:VEVENT
DTSTAMP:20260423T055202Z
UID:f3672756-6645-42db-ac30-14044851d197
DTSTART;VALUE=DATE:20260427
DTEND;VALUE=DATE:20260428
DESCRIPTION:
LOCATION:
SUMMARY:PSSA Testing for Grades 3-8
END:VEVENT
BEGIN:VEVENT
DTSTAMP:20260423T055202Z
UID:352fed13-6f12-4203-bf60-25b9bdd7ec95
DTSTART;VALUE=DATE:20260428
DTEND;VALUE=DATE:20260429
DESCRIPTION:
LOCATION:
SUMMARY:Day 6
END:VEVENT
BEGIN:VEVENT
DTSTAMP:20260423T055202Z
UID:e70f0f5e-1c2b-49d7-8930-5e42013edeb9
DTSTART;VALUE=DATE:20260428
DTEND;VALUE=DATE:20260429
DESCRIPTION:
LOCATION:
SUMMARY:PSSA Testing for Grades 3-8
END:VEVENT
BEGIN:VEVENT
DTSTAMP:20260423T055202Z
UID:eaf5f508-9498-490e-a5d8-57a8eb7d6c43
DTSTART;VALUE=DATE:20260429
DTEND;VALUE=DATE:20260430
DESCRIPTION:
LOCATION:
SUMMARY:Day 1
END:VEVENT
BEGIN:VEVENT
DTSTAMP:20260423T055202Z
UID:3e7b0c96-6373-4f07-b1f3-72b5e92739f9
DTSTART;VALUE=DATE:20260429
DTEND;VALUE=DATE:20260430
DESCRIPTION:
LOCATION:
SUMMARY:PSSA Testing for Grades 3-8
END:VEVENT
BEGIN:VEVENT
DTSTAMP:20260423T055202Z
UID:b004d9b2-3d3d-4441-be84-4b80c0fcaf2b
DTSTART;VALUE=DATE:20260430
DTEND;VALUE=DATE:20260501
DESCRIPTION:
LOCATION:
SUMMARY:Day 2
END:VEVENT
BEGIN:VEVENT
DTSTAMP:20260423T055202Z
UID:cd31ee88-cc21-484d-a9a3-461573451d9c
DTSTART;VALUE=DATE:20260430
DTEND;VALUE=DATE:20260501
DESCRIPTION:
LOCATION:
SUMMARY:PSSA Testing for Grades 3-8
END:VEVENT
BEGIN:VEVENT
DTSTAMP:20260423T055202Z
UID:34e37679-972b-4d00-bdde-38ac7f677780
DTSTART;VALUE=DATE:20260501
DTEND;VALUE=DATE:20260502
DESCRIPTION:
LOCATION:
SUMMARY:Day 3
END:VEVENT
BEGIN:VEVENT
DTSTAMP:20260423T055202Z
UID:4f34b275-cc7d-4544-afdc-9dc7f0cac464
DTSTART;VALUE=DATE:20260501
DTEND;VALUE=DATE:20260502
DESCRIPTION:
LOCATION:
SUMMARY:PSSA Testing for Grades 3-8
END:VEVENT
BEGIN:VEVENT
DTSTAMP:20260423T055202Z
UID:487ccaff-932b-4c23-a1d0-ab8c1c61ac14
DTSTART;VALUE=DATE:20260504
DTEND;VALUE=DATE:20260505
DESCRIPTION:
LOCATION:
SUMMARY:Day 4
END:VEVENT
BEGIN:VEVENT
DTSTAMP:20260423T055202Z
UID:12f7f65b-9ab6-468b-bcec-e0512db82482
DTSTART;VALUE=DATE:20260505
DTEND;VALUE=DATE:20260506
DESCRIPTION:
LOCATION:
SUMMARY:Day 5
END:VEVENT
BEGIN:VEVENT
DTSTAMP:20260423T055202Z
UID:db949d92-a826-4b86-9c0d-b3dcdcc97d1e
DTSTART:20260505T123000
DTEND:20260505T140000
DESCRIPTION:
LOCATION:
SUMMARY:8th Grade BCTC West Trip
END:VEVENT
BEGIN:VEVENT
DTSTAMP:20260423T055202Z
UID:8d6f4aab-7ccb-426c-9dff-581843c9b5a3
DTSTART;VALUE=DATE:20260506
DTEND;VALUE=DATE:20260507
DESCRIPTION:
LOCATION:
SUMMARY:Day 6
END:VEVENT
BEGIN:VEVENT
DTSTAMP:20260423T055202Z
UID:986f172d-2274-490a-a393-66e9f0eaeb8a
DTSTART;VALUE=DATE:20260507
DTEND;VALUE=DATE:20260508
DESCRIPTION:
LOCATION:
SUMMARY:Day 1
END:VEVENT
BEGIN:VEVENT
DTSTAMP:20260423T055202Z
UID:41b1ae5c-8753-4b2f-80d0-b87c3c6d0a99
DTSTART;VALUE=DATE:20260508
DTEND;VALUE=DATE:20260509
DESCRIPTION:
LOCATION:
SUMMARY:Day 2
END:VEVENT
BEGIN:VEVENT
DTSTAMP:20260423T055202Z
UID:2e03bd53-1934-40cd-93d8-797f7e80ecf4
DTSTART:20260515T130000
DTEND:20260515T143000
DESCRIPTION:
LOCATION:
SUMMARY:MS Student Council Auction
END:VEVENT
BEGIN:VEVENT
DTSTAMP:20260423T055202Z
UID:7be5ad27-4667-4122-9411-6b141abc002e
DTSTART:20260515T170000
DTEND:20260515T210000
DESCRIPTION:
LOCATION:
SUMMARY:MS Adventure Sports Trip
END:VEVENT
END:VCALENDAR
