BEGIN:VCALENDAR
VERSION:2.0
PRODID:icalendar-ruby
CALSCALE:GREGORIAN
BEGIN:VTIMEZONE
TZID:America/New_York
BEGIN:DAYLIGHT
DTSTART:20260308T030000
TZOFFSETFROM:-0500
TZOFFSETTO:-0400
RRULE:FREQ=YEARLY;BYDAY=2SU;BYMONTH=3
TZNAME:EDT
END:DAYLIGHT
BEGIN:STANDARD
DTSTART:20261101T010000
TZOFFSETFROM:-0400
TZOFFSETTO:-0500
RRULE:FREQ=YEARLY;BYDAY=1SU;BYMONTH=11
TZNAME:EST
END:STANDARD
END:VTIMEZONE
BEGIN:VEVENT
DTSTAMP:20260425T134444Z
UID:437c437e-d43a-4bd8-b7d6-3aa87681f1e1
DTSTART:20260427T083000
DTEND:20260427T123000
DESCRIPTION:<html><head><meta http-equiv="Content-Type" content="text/html\
 ; charset=utf-8"></head><body><div class="cal_b4f4"><div><div class="x_cal
 _a2ea"><div><div class="x_x_cal_c2ca"><div><div class="x_x_x_cal_97c3"><di
 v><div class="x_x_x_x_cal_ee5b"><div><div class="x_x_x_x_x_cal_508b"><div>
 <div class="x_x_x_x_x_x_cal_b955"><div><div class="x_x_x_x_x_x_x_cal_cb56"
 ><div><div class="x_x_x_x_x_x_x_x_cal_88ef"><div><div class="x_x_x_x_x_x_x
 _x_x_cal_13db"><div><div class="x_x_x_x_x_x_x_x_x_x_cal_f472"><div><div cl
 ass="x_x_x_x_x_x_x_x_x_x_x_cal_691a"><div><div class="x_x_x_x_x_x_x_x_x_x_
 x_x_cal_58be"><div><div style="text-align:left\; text-indent:0px\; margin:
 0px\; font-family:&quot\;Century Gothic&quot\;\,sans-serif\; font-size:10p
 t\; color:rgb(0\,0\,0)">*<b>Please arrive no later than 15 minutes past th
 e registration start time</b>. Those arriving after 15 minutes will be ask
 ed to return for the next registration date.</div><div class="x_x_x_x_x_x_
 x_x_x_x_x_x_x_elementToProof" style="text-align:left\; text-indent:0px\; m
 argin:0in 0in 0.0001pt\; font-family:&quot\;Century Gothic&quot\;\,sans-se
 rif\; font-size:10pt\; color:rgb(0\,0\,0)"><b>Bring your photo ID and $20 
 cash or money order</b>&nbsp\;for your registration fee. In some cases the
  registration fee can be waived. Please call 864-594-4428 for more informa
 tion.</div><div class="x_x_x_x_x_x_x_x_x_x_x_x_x_elementToProof" style="te
 xt-align:left\; text-indent:0px\; margin:0in 0in 0.0001pt\; font-family:&q
 uot\;Century Gothic&quot\;\,sans-serif\; font-size:10pt\; color:rgb(0\,0\,
 0)"><b>Students&nbsp\;wishing to enroll that are 17 years of age must regi
 ster at one of the registration dates at the David Houston Center in Spart
 anburg</b>.&nbsp\; All 17-year-olds must bring a completed “17-Year-Old 
 Registration” packet with them to register. Upon completion of registrat
 ion at the David Houston Center\, 17-year-old students may select any of o
 ur adult education sites to take classes. Please call 864-594-4428 for mor
 e information.</div></div></div></div></div></div></div></div></div></div>
 </div></div></div></div></div></div></div></div></div></div></div></div></
 div></div></div></div></div></body></html>
LOCATION:Spartanburg County Adult Education\, 1475 Skylyn Dr\, Spartanburg\
 , SC\, 29307
SUMMARY:GED/Diploma Registration David Houston
END:VEVENT
BEGIN:VEVENT
DTSTAMP:20260425T134444Z
UID:d4287036-2156-44e6-a518-a72668803851
DTSTART:20260427T170000
DTEND:20260427T200000
DESCRIPTION:<html><head><meta http-equiv="Content-Type" content="text/html\
 ; charset=utf-8"></head><body><ul><li style="font-family:&quot\;Century Go
 thic&quot\;\,sans-serif\; font-size:10pt\; color:rgb(0\,0\,0)"><div role="
 presentation">Please bring $20 cash or money order for registration fee</d
 iv></li><li style="font-family:Aptos\,Aptos_EmbeddedFont\,Aptos_MSFontServ
 ice\,Calibri\,Helvetica\,sans-serif\; font-size:12pt\; color:rgb(0\,0\,0)"
 ><div class="elementToProof" role="presentation" style="font-family:&quot\
 ;Century Gothic&quot\;\,sans-serif\; font-size:10pt">Students wishing to r
 egister on this date must also attend registration on Thursday\, April 30 
 from 5-8 PM to complete registration</div><div role="presentation">&nbsp\;
 </div></li></ul></body></html>
LOCATION:Spartanburg County Adult Education\, 1475 Skylyn Dr\, Spartanburg\
 , SC\, 29307
SUMMARY:GED Registration David Houston PM
END:VEVENT
BEGIN:VEVENT
DTSTAMP:20260425T134444Z
UID:811d26ef-b810-495b-b09a-08c4e71e0f5b
DTSTART:20260507T090000
DTEND:20260507T120000
DESCRIPTION:<html><head><meta http-equiv="Content-Type" content="text/html\
 ; charset=utf-8"></head><body><div class="elementToProof" style="font-fami
 ly:Aptos\,Aptos_EmbeddedFont\,Aptos_MSFontService\,Calibri\,Helvetica\,san
 s-serif\; font-size:12pt\; color:rgb(0\,0\,0)">Open to the public.&nbsp\; 
 Testing begins promptly at 9:00 AM. Please call Spartanburg County Adult E
 ducation to schedule.&nbsp\; If testing times and dates do not accommodate
  your schedule\, please call about arranging another date and time.&nbsp\;
 </div><div class="elementToProof" style="font-family:Aptos\,Aptos_Embedded
 Font\,Aptos_MSFontService\,Calibri\,Helvetica\,sans-serif\; font-size:12pt
 \; color:rgb(0\,0\,0)">864-594-4428</div><div style="font-family:Aptos\,Ap
 tos_EmbeddedFont\,Aptos_MSFontService\,Calibri\,Helvetica\,sans-serif\; fo
 nt-size:12pt\; color:rgb(0\,0\,0)"><br></div></body></html>
LOCATION:Spartanburg County Adult Education\, 1475 Skylyn Dr\, Spartanburg\
 , SC\, 29307
SUMMARY:WIN Career Readiness Assessment
END:VEVENT
BEGIN:VEVENT
DTSTAMP:20260425T134444Z
UID:853f0a7e-1dc3-4da3-853b-e8af6e4f15bf
DTSTART:20260508T090000
DTEND:20260508T140000
DESCRIPTION:<html><head><meta http-equiv="Content-Type" content="text/html\
 ; charset=utf-8"></head><body><div class="cal_20e"><div><div class="x_cal_
 eebb"><div><div class="x_x_cal_7362"><div><div class="x_x_x_cal_b86d"><div
 ><div class="x_x_x_x_cal_d2cf"><div><div class="x_x_x_x_x_cal_e7e7"><div><
 div class="x_x_x_x_x_x_cal_9021"><div><div class="x_x_x_x_x_x_x_cal_8f1"><
 div><div class="x_x_x_x_x_x_x_x_cal_98d5"><div><div class="x_x_x_x_x_x_x_x
 _x_cal_d080"><div><div class="x_x_x_x_x_x_x_x_x_x_cal_db88"><div><div clas
 s="x_x_x_x_x_x_x_x_x_x_x_cal_c86"><div><div class="x_x_x_x_x_x_x_x_x_x_x_x
 _cal_314f"><div><div class="x_x_x_x_x_x_x_x_x_x_x_x_x_cal_adea"><div><div 
 class="x_x_x_x_x_x_x_x_x_x_x_x_x_x_cal_e5f6"><div><div class="x_x_x_x_x_x_
 x_x_x_x_x_x_x_x_x_cal_ad61"><div><div class="x_x_x_x_x_x_x_x_x_x_x_x_x_x_x
 _x_cal_a6cc"><div><div class="x_x_x_x_x_x_x_x_x_x_x_x_x_x_x_x_x_cal_746"><
 div><div class="x_x_x_x_x_x_x_x_x_x_x_x_x_x_x_x_x_x_cal_c928"><div><div cl
 ass="x_x_x_x_x_x_x_x_x_x_x_x_x_x_x_x_x_x_x_cal_ec9d"><div><div class="x_x_
 x_x_x_x_x_x_x_x_x_x_x_x_x_x_x_x_x_x_cal_278e"><div><div class="x_x_x_x_x_x
 _x_x_x_x_x_x_x_x_x_x_x_x_x_x_x_cal_9fb6"><div><div class="x_x_x_x_x_x_x_x_
 x_x_x_x_x_x_x_x_x_x_x_x_x_x_cal_dd5c"><div><div class="x_x_x_x_x_x_x_x_x_x
 _x_x_x_x_x_x_x_x_x_x_x_x_x_cal_a8c2"><div><div class="x_x_x_x_x_x_x_x_x_x_
 x_x_x_x_x_x_x_x_x_x_x_x_x_x_cal_b668"><div><div class="x_x_x_x_x_x_x_x_x_x
 _x_x_x_x_x_x_x_x_x_x_x_x_x_x_x_cal_3d94"><div><div class="x_x_x_x_x_x_x_x_
 x_x_x_x_x_x_x_x_x_x_x_x_x_x_x_x_x_x_elementToProof" style="font-family:Apt
 os\,Aptos_EmbeddedFont\,Aptos_MSFontService\,Calibri\,Helvetica\,sans-seri
 f\; font-size:12pt\; color:rgb(0\,0\,0)">You must register through your GE
 D account to test. Log in to your account on <a href="http://Ged.com" titl
 e="http://Ged.com" class="x_x_x_x_x_x_x_x_x_x_x_x_x_x_x_x_x_x_x_x_x_x_x_x_
 x_x_x_OWAAutoLink x_x_x_x_x_x_x_x_x_x_x_x_x_x_x_x_x_x_x_x_x_x_x_x_x_x_x_el
 ementToProof" id="OWAf71359f8-d394-cbf9-cefe-e3490c7fa96a">GED.com</a>&nbs
 p\;to see if there are available testing times.</div></div></div></div></d
 iv></div></div></div></div></div></div></div></div></div></div></div></div
 ></div></div></div></div></div></div></div></div></div></div></div></div><
 /div></div></div></div></div></div></div></div></div></div></div></div></d
 iv></div></div></div></div></div></div></div></div></div></div></div></bod
 y></html>
LOCATION:Spartanburg County Adult Education\, 1475 Skylyn Dr\, Spartanburg\
 , SC\, 29307
SUMMARY:GED Testing (PUBLIC)
END:VEVENT
BEGIN:VEVENT
DTSTAMP:20260425T134444Z
UID:6abc8c16-e6e0-4103-9cef-7fb6d9afafd8
DTSTART:20260511T083000
DTEND:20260511T120000
DESCRIPTION:<html><head><meta http-equiv="Content-Type" content="text/html\
 ; charset=utf-8"></head><body><div class="cal_7136"><div><div class="x_cal
 _a2ea"><div><div class="x_x_cal_c2ca"><div><div class="x_x_x_cal_97c3"><di
 v><div class="x_x_x_x_cal_ee5b"><div><div class="x_x_x_x_x_cal_508b"><div>
 <div class="x_x_x_x_x_x_cal_b955"><div><div class="x_x_x_x_x_x_x_cal_cb56"
 ><div><div class="x_x_x_x_x_x_x_x_cal_88ef"><div><div class="x_x_x_x_x_x_x
 _x_x_cal_13db"><div><div class="x_x_x_x_x_x_x_x_x_x_cal_f472"><div><div cl
 ass="x_x_x_x_x_x_x_x_x_x_x_cal_691a"><div><div class="x_x_x_x_x_x_x_x_x_x_
 x_x_cal_58be"><div><div style="text-align:left\; text-indent:0px\; margin:
 0px\; font-family:&quot\;Century Gothic&quot\;\,sans-serif\; font-size:10p
 t\; color:rgb(0\,0\,0)">*<b>Please arrive no later than 15 minutes past th
 e registration start time</b>. Those arriving after 15 minutes will be ask
 ed to return for the next registration date.</div><div class="x_x_x_x_x_x_
 x_x_x_x_x_x_x_elementToProof" style="text-align:left\; text-indent:0px\; m
 argin:0in 0in 0.0001pt\; font-family:&quot\;Century Gothic&quot\;\,sans-se
 rif\; font-size:10pt\; color:rgb(0\,0\,0)"><b>Bring your photo ID and $20 
 cash or money order</b>&nbsp\;for your registration fee. In some cases the
  registration fee can be waived. Please call 864-594-4428 for more informa
 tion.</div><div class="x_x_x_x_x_x_x_x_x_x_x_x_x_elementToProof" style="te
 xt-align:left\; text-indent:0px\; margin:0in 0in 0.0001pt\; font-family:&q
 uot\;Century Gothic&quot\;\,sans-serif\; font-size:10pt\; color:rgb(0\,0\,
 0)"><b>Students&nbsp\;wishing to enroll that are 17 years of age must regi
 ster at one of the registration dates at the David Houston Center in Spart
 anburg</b>.&nbsp\; All 17-year-olds must bring a completed “17-Year-Old 
 Registration” packet with them to register. Upon completion of registrat
 ion at the David Houston Center\, 17-year-old students may select any of o
 ur adult education sites to take classes. Please call 864-594-4428 for mor
 e information.</div></div></div></div></div></div></div></div></div></div>
 </div></div></div></div></div></div></div></div></div></div></div></div></
 div></div></div></div></div></body></html>
LOCATION:Spartanburg County Adult Education\, 1475 Skylyn Dr\, Spartanburg\
 , SC\, 29307
SUMMARY:SUMMER SCHOOL REGISTRATION (GED/Diploma) 
END:VEVENT
BEGIN:VEVENT
DTSTAMP:20260425T134444Z
UID:d737347a-6f10-497a-a434-478c27c2866c
DTSTART;VALUE=DATE:20260518
DTEND;VALUE=DATE:20260519
DESCRIPTION:
LOCATION:
SUMMARY:Summer School Begins
END:VEVENT
BEGIN:VEVENT
DTSTAMP:20260425T134444Z
UID:223eefb6-2d69-4188-ad97-2c7b9c64dbf5
DTSTART:20260518T083000
DTEND:20260518T123000
DESCRIPTION:<html><head><meta http-equiv="Content-Type" content="text/html\
 ; charset=utf-8"></head><body><div class="cal_9a0a"><div><div class="x_cal
 _7136"><div><div class="x_x_cal_a2ea"><div><div class="x_x_x_cal_c2ca"><di
 v><div class="x_x_x_x_cal_97c3"><div><div class="x_x_x_x_x_cal_ee5b"><div>
 <div class="x_x_x_x_x_x_cal_508b"><div><div class="x_x_x_x_x_x_x_cal_b955"
 ><div><div class="x_x_x_x_x_x_x_x_cal_cb56"><div><div class="x_x_x_x_x_x_x
 _x_x_cal_88ef"><div><div class="x_x_x_x_x_x_x_x_x_x_cal_13db"><div><div cl
 ass="x_x_x_x_x_x_x_x_x_x_x_cal_f472"><div><div class="x_x_x_x_x_x_x_x_x_x_
 x_x_cal_691a"><div><div class="x_x_x_x_x_x_x_x_x_x_x_x_x_cal_58be"><div><d
 iv style="text-align:left\; text-indent:0px\; margin:0px\; font-family:&qu
 ot\;Century Gothic&quot\;\,sans-serif\; font-size:10pt\; color:rgb(0\,0\,0
 )">*<b>Please arrive no later than 15 minutes past the registration start 
 time</b>. Those arriving after 15 minutes will be asked to return for the 
 next registration date.</div><div class="x_x_x_x_x_x_x_x_x_x_x_x_x_x_eleme
 ntToProof" style="text-align:left\; text-indent:0px\; margin:0in 0in 0.000
 1pt\; font-family:&quot\;Century Gothic&quot\;\,sans-serif\; font-size:10p
 t\; color:rgb(0\,0\,0)"><b>Bring your photo ID and $20 cash or money order
 </b>&nbsp\;for your registration fee. In some cases the registration fee c
 an be waived. Please call 864-594-4428 for more information.</div><div cla
 ss="x_x_x_x_x_x_x_x_x_x_x_x_x_x_elementToProof" style="text-align:left\; t
 ext-indent:0px\; margin:0in 0in 0.0001pt\; font-family:&quot\;Century Goth
 ic&quot\;\,sans-serif\; font-size:10pt\; color:rgb(0\,0\,0)"><b>Students&n
 bsp\;wishing to enroll that are 17 years of age must register at one of th
 e registration dates at the David Houston Center in Spartanburg</b>.&nbsp\
 ; All 17-year-olds must bring a completed “17-Year-Old Registration” p
 acket with them to register. Upon completion of registration at the David 
 Houston Center\, 17-year-old students may select any of our adult educatio
 n sites to take classes. Please call 864-594-4428 for more information.</d
 iv></div></div></div></div></div></div></div></div></div></div></div></div
 ></div></div></div></div></div></div></div></div></div></div></div></div><
 /div></div></div></div></body></html>
LOCATION:Spartanburg County Adult Education\, 1475 Skylyn Dr\, Spartanburg\
 , SC\, 29307
SUMMARY:SUMMER SCHOOL REGISTRATION (GED/Diploma) 
END:VEVENT
BEGIN:VEVENT
DTSTAMP:20260425T134444Z
UID:65f91d9f-f6e5-4b77-8ead-c0a9b3a3ddba
DTSTART:20260519T130000
DTEND:20260519T160000
DESCRIPTION:<html><head><meta http-equiv="Content-Type" content="text/html\
 ; charset=utf-8"></head><body><div class="cal_969a"><div><div class="x_cal
 _20e"><div><div class="x_x_cal_eebb"><div><div class="x_x_x_cal_7362"><div
 ><div class="x_x_x_x_cal_b86d"><div><div class="x_x_x_x_x_cal_d2cf"><div><
 div class="x_x_x_x_x_x_cal_e7e7"><div><div class="x_x_x_x_x_x_x_cal_9021">
 <div><div class="x_x_x_x_x_x_x_x_cal_8f1"><div><div class="x_x_x_x_x_x_x_x
 _x_cal_98d5"><div><div class="x_x_x_x_x_x_x_x_x_x_cal_d080"><div><div clas
 s="x_x_x_x_x_x_x_x_x_x_x_cal_db88"><div><div class="x_x_x_x_x_x_x_x_x_x_x_
 x_cal_c86"><div><div class="x_x_x_x_x_x_x_x_x_x_x_x_x_cal_314f"><div><div 
 class="x_x_x_x_x_x_x_x_x_x_x_x_x_x_cal_adea"><div><div class="x_x_x_x_x_x_
 x_x_x_x_x_x_x_x_x_cal_e5f6"><div><div class="x_x_x_x_x_x_x_x_x_x_x_x_x_x_x
 _x_cal_ad61"><div><div class="x_x_x_x_x_x_x_x_x_x_x_x_x_x_x_x_x_cal_a6cc">
 <div><div class="x_x_x_x_x_x_x_x_x_x_x_x_x_x_x_x_x_x_cal_746"><div><div cl
 ass="x_x_x_x_x_x_x_x_x_x_x_x_x_x_x_x_x_x_x_cal_c928"><div><div class="x_x_
 x_x_x_x_x_x_x_x_x_x_x_x_x_x_x_x_x_x_cal_ec9d"><div><div class="x_x_x_x_x_x
 _x_x_x_x_x_x_x_x_x_x_x_x_x_x_x_cal_278e"><div><div class="x_x_x_x_x_x_x_x_
 x_x_x_x_x_x_x_x_x_x_x_x_x_x_cal_9fb6"><div><div class="x_x_x_x_x_x_x_x_x_x
 _x_x_x_x_x_x_x_x_x_x_x_x_x_cal_dd5c"><div><div class="x_x_x_x_x_x_x_x_x_x_
 x_x_x_x_x_x_x_x_x_x_x_x_x_x_cal_a8c2"><div><div class="x_x_x_x_x_x_x_x_x_x
 _x_x_x_x_x_x_x_x_x_x_x_x_x_x_x_cal_b668"><div><div class="x_x_x_x_x_x_x_x_
 x_x_x_x_x_x_x_x_x_x_x_x_x_x_x_x_x_x_cal_3d94"><div><div class="x_x_x_x_x_x
 _x_x_x_x_x_x_x_x_x_x_x_x_x_x_x_x_x_x_x_x_x_elementToProof" style="font-fam
 ily:Aptos\,Aptos_EmbeddedFont\,Aptos_MSFontService\,Calibri\,Helvetica\,sa
 ns-serif\; font-size:12pt\; color:rgb(0\,0\,0)">You must register through 
 your GED account to test. Log in to your account on <a href="http://Ged.co
 m" title="http://Ged.com" class="x_x_x_x_x_x_x_x_x_x_x_x_x_x_x_x_x_x_x_x_x
 _x_x_x_x_x_x_x_OWAAutoLink x_x_x_x_x_x_x_x_x_x_x_x_x_x_x_x_x_x_x_x_x_x_x_x
 _x_x_x_x_elementToProof" id="OWAf71359f8-d394-cbf9-cefe-e3490c7fa96a">GED.
 com</a>&nbsp\;to see if there are available testing times.</div></div></di
 v></div></div></div></div></div></div></div></div></div></div></div></div>
 </div></div></div></div></div></div></div></div></div></div></div></div></
 div></div></div></div></div></div></div></div></div></div></div></div></di
 v></div></div></div></div></div></div></div></div></div></div></div></div>
 </div></div></div></body></html>
LOCATION:Spartanburg County Adult Education\, 1475 Skylyn Dr\, Spartanburg\
 , SC\, 29307
SUMMARY:GED Testing (PUBLIC)
END:VEVENT
BEGIN:VEVENT
DTSTAMP:20260425T134444Z
UID:85e32703-e100-48c0-9301-2beb609fd205
DTSTART:20260521T090000
DTEND:20260521T120000
DESCRIPTION:<html><head><meta http-equiv="Content-Type" content="text/html\
 ; charset=utf-8"></head><body><div class="elementToProof" style="font-fami
 ly:Aptos\,Aptos_EmbeddedFont\,Aptos_MSFontService\,Calibri\,Helvetica\,san
 s-serif\; font-size:12pt\; color:rgb(0\,0\,0)">Open to the public.&nbsp\; 
 Testing begins promptly at 9:00 AM. Please call Spartanburg County Adult E
 ducation to schedule.&nbsp\; If testing times and dates do not accommodate
  your schedule\, please call about arranging another date and time.&nbsp\;
 </div><div class="elementToProof" style="font-family:Aptos\,Aptos_Embedded
 Font\,Aptos_MSFontService\,Calibri\,Helvetica\,sans-serif\; font-size:12pt
 \; color:rgb(0\,0\,0)">864-594-4428</div><div style="font-family:Aptos\,Ap
 tos_EmbeddedFont\,Aptos_MSFontService\,Calibri\,Helvetica\,sans-serif\; fo
 nt-size:12pt\; color:rgb(0\,0\,0)"><br></div><div style="font-family:Aptos
 \,Aptos_EmbeddedFont\,Aptos_MSFontService\,Calibri\,Helvetica\,sans-serif\
 ; font-size:12pt\; color:rgb(0\,0\,0)"><br></div></body></html>
LOCATION:Spartanburg County Adult Education\, 1475 Skylyn Dr\, Spartanburg\
 , SC\, 29307
SUMMARY:WIN Career Readiness Assessment
END:VEVENT
BEGIN:VEVENT
DTSTAMP:20260425T134444Z
UID:c066b782-b62e-4909-89fe-1aecd1048499
DTSTART;VALUE=DATE:20260525
DTEND;VALUE=DATE:20260526
DESCRIPTION:<html><head><meta http-equiv="Content-Type" content="text/html\
 ; charset=utf-8"></head><body><div class="elementToProof" style="font-fami
 ly:Aptos\,Aptos_EmbeddedFont\,Aptos_MSFontService\,Calibri\,Helvetica\,san
 s-serif\; font-size:12pt\; color:rgb(0\,0\,0)">NO&nbsp\;SCHOOL. Offices ar
 e also closed.</div></body></html>
LOCATION:
SUMMARY:Memorial Day Holiday
END:VEVENT
BEGIN:VEVENT
DTSTAMP:20260425T134444Z
UID:4bd4c1e1-b237-4848-80ef-3180f2e70adb
DTSTART;VALUE=DATE:20260617
DTEND;VALUE=DATE:20260618
DESCRIPTION:
LOCATION:
SUMMARY:Summer School Ends
END:VEVENT
BEGIN:VEVENT
DTSTAMP:20260425T134444Z
UID:1fbca83a-967c-4eab-9e7a-9e95dcafc010
DTSTART;VALUE=DATE:20260619
DTEND;VALUE=DATE:20260620
DESCRIPTION:<html><head><meta http-equiv="Content-Type" content="text/html\
 ; charset=utf-8"></head><body><div class="elementToProof" style="font-fami
 ly:Aptos\,Aptos_EmbeddedFont\,Aptos_MSFontService\,Calibri\,Helvetica\,san
 s-serif\; font-size:12pt\; color:rgb(0\,0\,0)">NO&nbsp\;CLASSES.&nbsp\;Off
 ices will also be closed.</div></body></html>
LOCATION:
SUMMARY:Juneteenth Holiday
END:VEVENT
BEGIN:VEVENT
DTSTAMP:20260425T134444Z
UID:f1df30d9-d49c-4dfa-9234-7e8e8608690e
DTSTART:20260623T190000
DTEND:20260623T203000
DESCRIPTION:<html><head><meta http-equiv="Content-Type" content="text/html\
 ; charset=utf-8"></head><body><div style="line-height:17px\; margin-top:1e
 m\; margin-bottom:1em\; font-family:Aptos\,Aptos_EmbeddedFont\,Aptos_MSFon
 tService\,Calibri\,Helvetica\,sans-serif\; font-size:12pt\; color:rgb(0\,0
 \,0)">The rehearsal and graduation ceremony will take place at the Distric
 t Seven Fine Arts Center\, located on the campus of Spartanburg High Schoo
 l\, 2250 East Main Street\, Spartanburg\, SC 29307&nbsp\;</div><div style=
 "line-height:17px\; margin-top:1em\; margin-bottom:1em\; font-family:Aptos
 \,Aptos_EmbeddedFont\,Aptos_MSFontService\,Calibri\,Helvetica\,sans-serif\
 ; font-size:12pt\; color:rgb(0\,0\,0)">Graduates must arrive with<b>&nbsp\
 ;caps and gowns in hand </b>no later than 4:45 PM for a mandatory rehearsa
 l.&nbsp\;<b>The lobby doors will be open at 6:15 PM for guests.&nbsp\;</b>
 </div><div style="line-height:17px\; margin-top:1em\; margin-bottom:1em\; 
 font-family:Aptos\,Aptos_EmbeddedFont\,Aptos_MSFontService\,Calibri\,Helve
 tica\,sans-serif\; font-size:12pt\; color:rgb(0\,0\,0)"><b><i>Please note:
  Balloons are not permitted in the building.</i></b></div><div style="font
 -family:Aptos\,Aptos_EmbeddedFont\,Aptos_MSFontService\,Calibri\,Helvetica
 \,sans-serif\; font-size:12pt\; color:rgb(0\,0\,0)"><br></div><div style="
 font-family:Aptos\,Aptos_EmbeddedFont\,Aptos_MSFontService\,Calibri\,Helve
 tica\,sans-serif\; font-size:12pt\; color:rgb(0\,0\,0)"><br></div></body><
 /html>
LOCATION:Spartanburg High School\, 2250 E Main St\, Spartanburg\, SC
SUMMARY:Adult Ed Graduation
END:VEVENT
END:VCALENDAR
