BEGIN:VCALENDAR
VERSION:2.0
PRODID:icalendar-ruby
CALSCALE:GREGORIAN
BEGIN:VTIMEZONE
TZID:America/New_York
BEGIN:DAYLIGHT
DTSTART:20260308T030000
TZOFFSETFROM:-0500
TZOFFSETTO:-0400
RRULE:FREQ=YEARLY;BYDAY=2SU;BYMONTH=3
TZNAME:EDT
END:DAYLIGHT
BEGIN:STANDARD
DTSTART:20261101T010000
TZOFFSETFROM:-0400
TZOFFSETTO:-0500
RRULE:FREQ=YEARLY;BYDAY=1SU;BYMONTH=11
TZNAME:EST
END:STANDARD
END:VTIMEZONE
BEGIN:VEVENT
DTSTAMP:20260425T102725Z
UID:6c95a1ae-7b1d-4ef5-b7aa-b230472c4b5a
DTSTART;VALUE=DATE:20260419
DTEND;VALUE=DATE:20260426
DESCRIPTION:
LOCATION:
SUMMARY:National School Library Week
END:VEVENT
BEGIN:VEVENT
DTSTAMP:20260425T102725Z
UID:20c214f7-ae30-4eba-9731-74f09c7ff3e6
DTSTART;VALUE=DATE:20260419
DTEND;VALUE=DATE:20260426
DESCRIPTION:
LOCATION:
SUMMARY:Public School Vounteer Week
END:VEVENT
BEGIN:VEVENT
DTSTAMP:20260425T102725Z
UID:087c1872-b24f-42df-ba46-b52b11401330
DTSTART:20260423T090000
DTEND:20260426T093000
DESCRIPTION:
LOCATION:
SUMMARY:D7 Musical
END:VEVENT
BEGIN:VEVENT
DTSTAMP:20260425T102725Z
UID:13c3562d-78e1-43a0-979e-716332782214
DTSTART:20260424T080000
DTEND:20260425T160000
DESCRIPTION:
LOCATION:
SUMMARY:Solo & Ensemble Festival Band
END:VEVENT
BEGIN:VEVENT
DTSTAMP:20260425T102725Z
UID:f60f3627-49af-4a5f-ba59-1cc39dfe4b3d
DTSTART:20260427T083000
DTEND:20260522T160000
DESCRIPTION:
LOCATION:
SUMMARY:State Testing Begins
END:VEVENT
BEGIN:VEVENT
DTSTAMP:20260425T102725Z
UID:3d313f11-c70c-4e15-8b4e-f141946e6225
DTSTART;VALUE=DATE:20260428
DTEND;VALUE=DATE:20260429
DESCRIPTION:
LOCATION:
SUMMARY:School Bus Driver Appreciation Day
END:VEVENT
BEGIN:VEVENT
DTSTAMP:20260425T102725Z
UID:78fb30de-3af9-4fbc-86a2-6e63962a605d
DTSTART:20260428T080000
DTEND:20260429T083000
DESCRIPTION:
LOCATION:
SUMMARY:Middle School Finale Orchestra Rehearsals @ SHS Arena
END:VEVENT
BEGIN:VEVENT
DTSTAMP:20260425T102725Z
UID:530e269c-50b1-426e-ac57-bfbefdb7a662
DTSTART;VALUE=DATE:20260429
DTEND;VALUE=DATE:20260430
DESCRIPTION:
LOCATION:
SUMMARY:Family First Night 
END:VEVENT
BEGIN:VEVENT
DTSTAMP:20260425T102725Z
UID:af46bacb-cf79-4d52-bbcf-a63ae78fd7d4
DTSTART:20260430T190000
DTEND:20260430T200000
DESCRIPTION:
LOCATION:
SUMMARY:D7 Orchestra Finale Concert @ SHS Arena 
END:VEVENT
BEGIN:VEVENT
DTSTAMP:20260425T102725Z
UID:973598be-2b11-46c8-bf38-dcc83220c308
DTSTART:20260501T080000
DTEND:20260502T150000
DESCRIPTION:
LOCATION:
SUMMARY:Orchestra Solo & Ensemble @ MMS Orchestra Room
END:VEVENT
BEGIN:VEVENT
DTSTAMP:20260425T102725Z
UID:c0e59dc6-67d3-4c7b-9ca4-46080fca328b
DTSTART:20260501T083000
DTEND:20260501T113000
DESCRIPTION:
LOCATION:
SUMMARY:8th grade bowling field trip
END:VEVENT
BEGIN:VEVENT
DTSTAMP:20260425T102725Z
UID:87c2586b-a3b5-4b75-88ce-5680360d6dc0
DTSTART:20260501T083000
DTEND:20260501T103000
DESCRIPTION:
LOCATION:
SUMMARY:Paradise Lanes / PE
END:VEVENT
BEGIN:VEVENT
DTSTAMP:20260425T102725Z
UID:d9cc8695-68ce-4608-baeb-e4dfb4c012ba
DTSTART;VALUE=DATE:20260504
DTEND;VALUE=DATE:20260509
DESCRIPTION:
LOCATION:
SUMMARY:Teacher Appreciation Week
END:VEVENT
BEGIN:VEVENT
DTSTAMP:20260425T102725Z
UID:9ddd6692-6ffa-4bbb-9e4a-ecc5a3ec0b49
DTSTART:20260504T180000
DTEND:20260504T200000
DESCRIPTION:
LOCATION:
SUMMARY:BAND CONCERT 
END:VEVENT
BEGIN:VEVENT
DTSTAMP:20260425T102725Z
UID:3b98a337-be04-4910-8820-52d9dc1ba4c0
DTSTART:20260505T180000
DTEND:20260505T200000
DESCRIPTION:
LOCATION:
SUMMARY:School Board Meeting
END:VEVENT
BEGIN:VEVENT
DTSTAMP:20260425T102725Z
UID:9fc8deb1-ee42-4a46-9fca-aa9e7d6c1e90
DTSTART;VALUE=DATE:20260506
DTEND;VALUE=DATE:20260507
DESCRIPTION:
LOCATION:
SUMMARY:National Bike to School Day
END:VEVENT
BEGIN:VEVENT
DTSTAMP:20260425T102725Z
UID:aa73965f-db98-4b8c-b2a0-b8941bdc5f3f
DTSTART;VALUE=DATE:20260506
DTEND;VALUE=DATE:20260507
DESCRIPTION:
LOCATION:
SUMMARY:National School Nurse Day
END:VEVENT
BEGIN:VEVENT
DTSTAMP:20260425T102725Z
UID:15b6fe76-6c74-41ab-a993-149f37944a3b
DTSTART:20260507T110000
DTEND:20260507T130000
DESCRIPTION:
LOCATION:
SUMMARY:Kona Ice 
END:VEVENT
BEGIN:VEVENT
DTSTAMP:20260425T102725Z
UID:d321c40e-0c85-4170-a9c0-bf68c87a7502
DTSTART;VALUE=DATE:20260508
DTEND;VALUE=DATE:20260509
DESCRIPTION:
LOCATION:
SUMMARY:School Communicators Day
END:VEVENT
BEGIN:VEVENT
DTSTAMP:20260425T102725Z
UID:c78f2b98-b9cc-4ed4-a04e-ce8dffd924b8
DTSTART:20260508T070000
DTEND:20260508T073000
DESCRIPTION:
LOCATION:
SUMMARY:All Pro Dads
END:VEVENT
BEGIN:VEVENT
DTSTAMP:20260425T102725Z
UID:dd5f1eca-42c2-40b7-9328-5db171432916
DTSTART:20260508T180000
DTEND:20260508T193000
DESCRIPTION:
LOCATION:
SUMMARY:MMS Choirs Spring Concert
END:VEVENT
BEGIN:VEVENT
DTSTAMP:20260425T102725Z
UID:242265b3-bcf6-4692-9216-cd135a20029d
DTSTART:20260509T080000
DTEND:20260509T200000
DESCRIPTION:
LOCATION:
SUMMARY:Field trip Carowinds kuntz
END:VEVENT
BEGIN:VEVENT
DTSTAMP:20260425T102725Z
UID:2dadd7df-0c42-4010-bda9-bc350b76247e
DTSTART:20260509T080000
DTEND:20260509T083000
DESCRIPTION:
LOCATION:
SUMMARY:Pigeon Forge TN Field Trip/ Anderson
END:VEVENT
BEGIN:VEVENT
DTSTAMP:20260425T102725Z
UID:bdf99324-87d8-4961-b88a-d743710004b4
DTSTART;VALUE=DATE:20260510
DTEND;VALUE=DATE:20260511
DESCRIPTION:
LOCATION:
SUMMARY:Mother's Day
END:VEVENT
BEGIN:VEVENT
DTSTAMP:20260425T102725Z
UID:fe1a1c42-494a-4f8d-9aa2-61ba2b8e7f09
DTSTART:20260511T180000
DTEND:20260511T200000
DESCRIPTION:
LOCATION:
SUMMARY:MMS Orchestra Spring Concert @ MMS Gym 
END:VEVENT
BEGIN:VEVENT
DTSTAMP:20260425T102725Z
UID:234f4e8e-6020-403d-8a80-e271ed5994ae
DTSTART:20260512T180000
DTEND:20260512T200000
DESCRIPTION:
LOCATION:
SUMMARY:Spring Band Concert @ MMS Gym
END:VEVENT
BEGIN:VEVENT
DTSTAMP:20260425T102725Z
UID:5e29b511-6fce-479a-bb9d-9e50052e37b5
DTSTART;VALUE=DATE:20260515
DTEND;VALUE=DATE:20260516
DESCRIPTION:<html><head><meta http-equiv="Content-Type" content="text/html\
 ; charset=utf-8"><meta name="Generator" content="Microsoft Exchange Server
 "><!-- converted from text --><style><!-- .EmailQuote { margin-left: 1pt\;
  padding-left: 4pt\; border-left: #800000 2px solid\; } --></style></head>
 <body><font size="2"><span style="font-size:11pt\;"><div class="PlainText"
 >Students must bring $25.00 and the form.</div></span></font></body></html
 >
LOCATION:
SUMMARY:Sports Physicals 
END:VEVENT
BEGIN:VEVENT
DTSTAMP:20260425T102725Z
UID:295d06f8-f292-4519-abbe-cc094210960f
DTSTART:20260515T080000
DTEND:20260515T160000
DESCRIPTION:
LOCATION:
SUMMARY:ReGenesis Sports physicals @ MMS
END:VEVENT
BEGIN:VEVENT
DTSTAMP:20260425T102725Z
UID:6fee72d4-f08f-4df8-8fdf-49ec804c9bf8
DTSTART:20260519T170000
DTEND:20260519T210000
DESCRIPTION:
LOCATION:
SUMMARY:McCracken. Night at the Spartanburgers
END:VEVENT
BEGIN:VEVENT
DTSTAMP:20260425T102725Z
UID:66aaff2c-bd3e-4d0b-87b2-236529de41ae
DTSTART:20260520T093000
DTEND:20260520T103000
DESCRIPTION:
LOCATION:
SUMMARY:8th Grade Awards Day 
END:VEVENT
BEGIN:VEVENT
DTSTAMP:20260425T102725Z
UID:163bdde7-fa93-464a-ae3c-949b936cb38b
DTSTART:20260520T170000
DTEND:20260520T190000
DESCRIPTION:
LOCATION:
SUMMARY:8th Grade Gala 
END:VEVENT
BEGIN:VEVENT
DTSTAMP:20260425T102725Z
UID:88abc2d0-9d9a-4051-9442-83cc9cc60487
DTSTART;VALUE=DATE:20260525
DTEND;VALUE=DATE:20260526
DESCRIPTION:
LOCATION:
SUMMARY:Memorial Day Holiday
END:VEVENT
BEGIN:VEVENT
DTSTAMP:20260425T102725Z
UID:7180707c-ff21-4bbe-a43a-c2b7366b5c1f
DTSTART;VALUE=DATE:20260526
DTEND;VALUE=DATE:20260527
DESCRIPTION:
LOCATION:
SUMMARY:Staff Development Day
END:VEVENT
BEGIN:VEVENT
DTSTAMP:20260425T102725Z
UID:d792e2a6-2da9-42ba-9155-31ca180a48d9
DTSTART:20260601T080000
DTEND:20260604T163000
DESCRIPTION:
LOCATION:
SUMMARY:Proof of Residency Drop Off 
END:VEVENT
BEGIN:VEVENT
DTSTAMP:20260425T102725Z
UID:c7c1069f-a640-4918-b45e-391b3e4e78f5
DTSTART:20260602T210000
DTEND:20260602T220000
DESCRIPTION:
LOCATION:
SUMMARY:School Board Meeting
END:VEVENT
BEGIN:VEVENT
DTSTAMP:20260425T102725Z
UID:351a6c84-50ed-4973-9311-0207aa7590de
DTSTART:20260614T030000
DTEND:20260614T040000
DESCRIPTION:
LOCATION:
SUMMARY:Flag Day
END:VEVENT
BEGIN:VEVENT
DTSTAMP:20260425T102725Z
UID:09f0d41f-4a78-47a6-ab89-f7180e3b4560
DTSTART:20260619T030000
DTEND:20260619T040000
DESCRIPTION:
LOCATION:
SUMMARY:Juneteenth
END:VEVENT
BEGIN:VEVENT
DTSTAMP:20260425T102725Z
UID:a3c4b3d9-b53d-4a2d-8822-68a632bc579a
DTSTART:20260621T030000
DTEND:20260621T040000
DESCRIPTION:
LOCATION:
SUMMARY:Father's Day
END:VEVENT
BEGIN:VEVENT
DTSTAMP:20260425T102725Z
UID:b3804642-dba2-4cf2-af41-f2778e822160
DTSTART:20260621T080000
DTEND:20260624T130000
DESCRIPTION:
LOCATION:
SUMMARY:SCASA 
END:VEVENT
BEGIN:VEVENT
DTSTAMP:20260425T102725Z
UID:d552bfd9-a936-4069-96c1-abb4b7058915
DTSTART:20260622T100000
DTEND:20260622T113000
DESCRIPTION:
LOCATION:
SUMMARY:Volleyball workouts in Gym 
END:VEVENT
BEGIN:VEVENT
DTSTAMP:20260425T102725Z
UID:1e246596-28c2-42b1-a1be-84199e7e4db8
DTSTART:20260623T100000
DTEND:20260623T113000
DESCRIPTION:
LOCATION:
SUMMARY:Volleyball workouts  in gym 
END:VEVENT
BEGIN:VEVENT
DTSTAMP:20260425T102725Z
UID:3cc60777-456a-48d8-a0c5-b8b2a029cd19
DTSTART:20260704T030000
DTEND:20260704T040000
DESCRIPTION:
LOCATION:
SUMMARY:Independence Day Holiday
END:VEVENT
BEGIN:VEVENT
DTSTAMP:20260425T102725Z
UID:6d59999b-bded-42be-827d-fdaaf95611e8
DTSTART:20260713T080000
DTEND:20260716T163000
DESCRIPTION:
LOCATION:
SUMMARY:Proof of Residency Drop Off 
END:VEVENT
BEGIN:VEVENT
DTSTAMP:20260425T102725Z
UID:0e350792-bbcb-49c6-b584-47e63edd6dfe
DTSTART:20260730T150000
DTEND:20260730T163000
DESCRIPTION:
LOCATION:
SUMMARY:Volleyball workouts in gym 
END:VEVENT
BEGIN:VEVENT
DTSTAMP:20260425T102725Z
UID:364acade-ed20-44e3-bab8-570df8c3e4ff
DTSTART:20260731T150000
DTEND:20260731T163000
DESCRIPTION:
LOCATION:
SUMMARY:Volleyball workouts in gym 
END:VEVENT
BEGIN:VEVENT
DTSTAMP:20260425T102725Z
UID:d4fa2ca8-992e-4542-b5f4-77786bb23eee
DTSTART:20260803T150000
DTEND:20260803T163000
DESCRIPTION:
LOCATION:
SUMMARY:volleyball tryouts in gym 
END:VEVENT
BEGIN:VEVENT
DTSTAMP:20260425T102725Z
UID:27c7a637-3aea-471c-ae16-001ca7567d51
DTSTART:20260804T150000
DTEND:20260804T163000
DESCRIPTION:
LOCATION:
SUMMARY:Volleyball tryouts in gym 
END:VEVENT
BEGIN:VEVENT
DTSTAMP:20260425T102725Z
UID:e1c47a47-8aa0-42bd-be49-f9a6544e9c79
DTSTART:20260827T080000
DTEND:20260827T083000
DESCRIPTION:
LOCATION:
SUMMARY:Picture Day
END:VEVENT
BEGIN:VEVENT
DTSTAMP:20260425T102725Z
UID:ca19f074-48bf-4c4c-9ef3-17ed2e3a6dd9
DTSTART:20260918T080000
DTEND:20260918T083000
DESCRIPTION:
LOCATION:
SUMMARY:Picture makeup day
END:VEVENT
BEGIN:VEVENT
DTSTAMP:20260425T102725Z
UID:9042125a-2ced-40fd-9715-526f9bad01f0
DTSTART:20261024T080000
DTEND:20261024T113000
DESCRIPTION:
LOCATION:
SUMMARY:MMS PTO 5k
END:VEVENT
BEGIN:VEVENT
DTSTAMP:20260425T102725Z
UID:a7ab656a-27af-4639-82d7-6859568490b9
DTSTART:20261119T080000
DTEND:20261119T190000
DESCRIPTION:
LOCATION:
SUMMARY:6th Grade- Biltmore House Field Trip
END:VEVENT
END:VCALENDAR
