BEGIN:VCALENDAR
VERSION:2.0
PRODID:icalendar-ruby
CALSCALE:GREGORIAN
BEGIN:VTIMEZONE
TZID:America/Chicago
BEGIN:DAYLIGHT
DTSTART:20260308T030000
TZOFFSETFROM:-0600
TZOFFSETTO:-0500
RRULE:FREQ=YEARLY;BYDAY=2SU;BYMONTH=3
TZNAME:CDT
END:DAYLIGHT
BEGIN:STANDARD
DTSTART:20261101T010000
TZOFFSETFROM:-0500
TZOFFSETTO:-0600
RRULE:FREQ=YEARLY;BYDAY=1SU;BYMONTH=11
TZNAME:CST
END:STANDARD
END:VTIMEZONE
BEGIN:VEVENT
DTSTAMP:20260424T183739Z
UID:7c870f34-c8c0-4cda-bec4-bbc2e4dc6db0
DTSTART:20260429T080000
DTEND:20260429T113000
DESCRIPTION:
LOCATION:
SUMMARY:Pastor's Appreciation Breakfast
END:VEVENT
BEGIN:VEVENT
DTSTAMP:20260424T183739Z
UID:b0f7bb25-c610-42f1-a61c-96c4fa313e42
DTSTART:20260512T170000
DTEND:20260512T190000
DESCRIPTION:
LOCATION:222 2nd St SE\, Wadena\, MN 56482\, USA
SUMMARY:City Council Meeting
END:VEVENT
BEGIN:VEVENT
DTSTAMP:20260424T183739Z
UID:c2877994-403f-42e9-9793-5f734fcf8b91
DTSTART:20260525T080000
DTEND:20260525T163000
DESCRIPTION:
LOCATION:
SUMMARY:Memorial Day - Offices Closed 
END:VEVENT
BEGIN:VEVENT
DTSTAMP:20260424T183739Z
UID:ae1aa367-389a-4877-917a-bc1092ec0571
DTSTART:20260609T170000
DTEND:20260609T190000
DESCRIPTION:
LOCATION:222 2nd St SE\, Wadena\, MN 56482\, USA
SUMMARY:City Council Meeting
END:VEVENT
BEGIN:VEVENT
DTSTAMP:20260424T183739Z
UID:248b9c9b-8b39-4a84-8137-bf1494983403
DTSTART:20260611T080000
DTEND:20260611T190000
DESCRIPTION:
LOCATION:
SUMMARY:June Jubilee Sidewalk Sales
END:VEVENT
BEGIN:VEVENT
DTSTAMP:20260424T183739Z
UID:e11ed25a-737e-4075-bb71-327e02c768da
DTSTART:20260611T193000
DTEND:20260611T220000
DESCRIPTION:
LOCATION:
SUMMARY:Thursday's the New Friday & Music in BN Park: Lydia Rose
END:VEVENT
BEGIN:VEVENT
DTSTAMP:20260424T183739Z
UID:a53b82a0-3847-4901-9805-b5a38a6c2a39
DTSTART:20260612T080000
DTEND:20260613T220000
DESCRIPTION:
LOCATION:
SUMMARY:June Jubilee - All Day Events
END:VEVENT
BEGIN:VEVENT
DTSTAMP:20260424T183739Z
UID:0d2baf8e-752c-4328-b394-bfe407286dcc
DTSTART:20260612T193000
DTEND:20260612T220000
DESCRIPTION:
LOCATION:
SUMMARY:June Jubilee Concert: Time Machine
END:VEVENT
BEGIN:VEVENT
DTSTAMP:20260424T183739Z
UID:5c669b0d-34ce-4e6f-87d8-d3e52c0959f0
DTSTART:20260613T193000
DTEND:20260613T220000
DESCRIPTION:
LOCATION:
SUMMARY:June Jubilee Concert: Aaron Simmons
END:VEVENT
BEGIN:VEVENT
DTSTAMP:20260424T183739Z
UID:e68d99d1-b48d-42d5-8c5f-7f97a5470e7c
DTSTART:20260615T173000
DTEND:20260615T190000
DESCRIPTION:
LOCATION:
SUMMARY:Business after Hours
END:VEVENT
BEGIN:VEVENT
DTSTAMP:20260424T183739Z
UID:04074dc7-6b18-4821-bbb9-39ee6642355b
DTSTART:20260619T080000
DTEND:20260619T163000
DESCRIPTION:
LOCATION:
SUMMARY:Juneteenth Holiday - Offices Closed
END:VEVENT
BEGIN:VEVENT
DTSTAMP:20260424T183739Z
UID:91d976f0-873b-4c27-a76d-f2a853337661
DTSTART:20260625T183000
DTEND:20260625T210000
DESCRIPTION:
LOCATION:
SUMMARY:Thursday's the New Friday & Music in BN Park: Scott Jasmin
END:VEVENT
BEGIN:VEVENT
DTSTAMP:20260424T183739Z
UID:30ffaafc-cccd-4ef4-87f6-ba6d6746edd8
DTSTART:20260706T080000
DTEND:20260706T163000
DESCRIPTION:
LOCATION:
SUMMARY:July 4th Holiday Observance - Offices Closed
END:VEVENT
BEGIN:VEVENT
DTSTAMP:20260424T183739Z
UID:86d526b1-e345-4623-b9e0-b7d6ace9f579
DTSTART:20260709T183000
DTEND:20260709T210000
DESCRIPTION:
LOCATION:
SUMMARY:Thursday's the New Friday & Music in BN Park: Rick Adams
END:VEVENT
BEGIN:VEVENT
DTSTAMP:20260424T183739Z
UID:ab8b33e0-2c22-4289-87f9-fda1c4a254cd
DTSTART:20260714T170000
DTEND:20260714T190000
DESCRIPTION:
LOCATION:222 2nd St SE\, Wadena\, MN 56482\, USA
SUMMARY:City Council Meeting
END:VEVENT
BEGIN:VEVENT
DTSTAMP:20260424T183739Z
UID:4566ef6a-1e2d-43dd-bba3-4edd5ab37849
DTSTART:20260723T183000
DTEND:20260723T210000
DESCRIPTION:
LOCATION:
SUMMARY:Thursday's the new Friday & Music in BN Park: Tim Eggebraaten
END:VEVENT
BEGIN:VEVENT
DTSTAMP:20260424T183739Z
UID:56197e08-225a-4913-add5-44306e5d8c65
DTSTART:20260806T080000
DTEND:20260806T193000
DESCRIPTION:
LOCATION:
SUMMARY:Wadena Crazy Days
END:VEVENT
BEGIN:VEVENT
DTSTAMP:20260424T183739Z
UID:7121442c-361e-49d6-822a-9135a6d79c31
DTSTART:20260806T183000
DTEND:20260806T210000
DESCRIPTION:
LOCATION:
SUMMARY:Thursday's the New Friday & Music in BN Park: Elvis
END:VEVENT
BEGIN:VEVENT
DTSTAMP:20260424T183739Z
UID:f80cc141-052b-4314-8936-f3aaea569305
DTSTART:20260807T180000
DTEND:20260807T230000
DESCRIPTION:
LOCATION:
SUMMARY:Leid Back Pub Crawl
END:VEVENT
BEGIN:VEVENT
DTSTAMP:20260424T183739Z
UID:2ec6a9f0-6e50-4514-90e9-0ca094f9ecb3
DTSTART:20260811T070000
DTEND:20260811T200000
DESCRIPTION:
LOCATION:17 5th St SW\, Wadena\, MN 56482\, USA
SUMMARY:Primary Election Day
END:VEVENT
BEGIN:VEVENT
DTSTAMP:20260424T183739Z
UID:fd0411d2-ae8d-45fc-acbf-4a36ea7b6ec5
DTSTART:20260811T170000
DTEND:20260811T190000
DESCRIPTION:
LOCATION:222 2nd St SE\, Wadena\, MN 56482\, USA
SUMMARY:City Council Meeting
END:VEVENT
BEGIN:VEVENT
DTSTAMP:20260424T183739Z
UID:e34a844a-acc5-4702-9ee6-e663046831b3
DTSTART:20260820T183000
DTEND:20260820T210000
DESCRIPTION:
LOCATION:
SUMMARY:Thursday's the New Friday & Music in BN Park: Caitlin Robertson & W
 ildrose Fox
END:VEVENT
BEGIN:VEVENT
DTSTAMP:20260424T183739Z
UID:740ba2b9-0a66-4d48-841d-6d2062ba4ab3
DTSTART:20260907T080000
DTEND:20260907T163000
DESCRIPTION:
LOCATION:
SUMMARY:Labor Day - Offices Closed
END:VEVENT
BEGIN:VEVENT
DTSTAMP:20260424T183739Z
UID:16fdb04d-e556-451c-8495-dc189d605ad2
DTSTART:20260908T080000
DTEND:20260908T090000
DESCRIPTION:
LOCATION:222 2nd St SE\, Wadena\, MN 56482\, USA
SUMMARY:City Council Meeting
END:VEVENT
BEGIN:VEVENT
DTSTAMP:20260424T183739Z
UID:85ccc4b6-1056-43ce-aaf1-9a0af8c0b027
DTSTART:20261013T170000
DTEND:20261013T190000
DESCRIPTION:
LOCATION:222 2nd St SE\, Wadena\, MN 56482\, USA
SUMMARY:City Council Meeting
END:VEVENT
BEGIN:VEVENT
DTSTAMP:20260424T183739Z
UID:278bad61-7cb7-46a9-9df6-4dbff1af8a29
DTSTART:20261031T080000
DTEND:20261031T190000
DESCRIPTION:
LOCATION:
SUMMARY:Happy Halloween!
END:VEVENT
BEGIN:VEVENT
DTSTAMP:20260424T183739Z
UID:92ff1dc3-e2ce-45ac-8d6c-c888a78b06d4
DTSTART:20261103T070000
DTEND:20261103T200000
DESCRIPTION:
LOCATION:17 5th St SW\, Wadena\, MN 56482\, USA
SUMMARY:Election Day 2026
END:VEVENT
BEGIN:VEVENT
DTSTAMP:20260424T183739Z
UID:a55be11f-7602-44cc-a03f-b83fb69aeb0f
DTSTART:20261110T170000
DTEND:20261110T190000
DESCRIPTION:
LOCATION:222 2nd St SE\, Wadena\, MN 56482\, USA
SUMMARY:City Council Meeting
END:VEVENT
BEGIN:VEVENT
DTSTAMP:20260424T183739Z
UID:8d9c13a0-da3c-4d46-b650-e85234c4f4f9
DTSTART:20261126T080000
DTEND:20261126T090000
DESCRIPTION:
LOCATION:
SUMMARY:Thanksgiving - Offices Closed
END:VEVENT
BEGIN:VEVENT
DTSTAMP:20260424T183739Z
UID:77a0e407-bdae-4776-a45d-3136918db7ac
DTSTART:20261208T170000
DTEND:20261208T190000
DESCRIPTION:
LOCATION:222 2nd St SE\, Wadena\, MN 56482\, USA
SUMMARY:City Council Meeting
END:VEVENT
END:VCALENDAR
