BEGIN:VCALENDAR
VERSION:2.0
PRODID:icalendar-ruby
CALSCALE:GREGORIAN
BEGIN:VTIMEZONE
TZID:America/Phoenix
BEGIN:STANDARD
DTSTART:19671029T010000
TZOFFSETFROM:-0600
TZOFFSETTO:-0700
TZNAME:MST
END:STANDARD
END:VTIMEZONE
BEGIN:VEVENT
DTSTAMP:20260425T211234Z
UID:bccadef2-25a2-40b4-a76f-13cb33d682b9
DTSTART;VALUE=DATE:20260501
DTEND;VALUE=DATE:20260502
DESCRIPTION:
LOCATION:
SUMMARY:School Lunch Hero Day
END:VEVENT
BEGIN:VEVENT
DTSTAMP:20260425T211234Z
UID:6d9911ee-8253-4709-9474-d1a41f369c67
DTSTART;VALUE=DATE:20260501
DTEND;VALUE=DATE:20260502
DESCRIPTION:
LOCATION:
SUMMARY:School Principals Appreciation Day
END:VEVENT
BEGIN:VEVENT
DTSTAMP:20260425T211234Z
UID:8a1967a7-1cc1-4d51-a99d-573478787b02
DTSTART;VALUE=DATE:20260504
DTEND;VALUE=DATE:20260509
DESCRIPTION:
LOCATION:
SUMMARY:Teacher Appreciation Week
END:VEVENT
BEGIN:VEVENT
DTSTAMP:20260425T211234Z
UID:eb404e53-73c4-4082-8557-b68f542f16c0
DTSTART;VALUE=DATE:20260506
DTEND;VALUE=DATE:20260507
DESCRIPTION:
LOCATION:
SUMMARY:School Nurse Appreciation Day
END:VEVENT
BEGIN:VEVENT
DTSTAMP:20260425T211234Z
UID:526e1d70-2bfb-4fec-9e35-2e45bbdd9dc9
DTSTART;VALUE=DATE:20260520
DTEND;VALUE=DATE:20260521
DESCRIPTION:Salida a las 11:15 AM
LOCATION:
SUMMARY:WWES Early Release at 11:15 AM
END:VEVENT
BEGIN:VEVENT
DTSTAMP:20260425T211234Z
UID:30dd2657-47a6-4d6b-9a58-a2945c0147ed
DTSTART;VALUE=DATE:20260522
DTEND;VALUE=DATE:20260523
DESCRIPTION:
LOCATION:
SUMMARY:Q4 Scorpions Day
END:VEVENT
BEGIN:VEVENT
DTSTAMP:20260425T211234Z
UID:ad173b5c-4ba3-4176-be4a-7e436c2a7f49
DTSTART;VALUE=DATE:20260522
DTEND;VALUE=DATE:20260523
DESCRIPTION:
LOCATION:
SUMMARY:WWES - End of Q4
END:VEVENT
BEGIN:VEVENT
DTSTAMP:20260425T211234Z
UID:46160475-6b0c-4b7d-9d1b-6ac7a5161183
DTSTART:20260522T080000
DTEND:20260522T090000
DESCRIPTION:
LOCATION:Gym
SUMMARY:Student of the Month Assembly 
END:VEVENT
BEGIN:VEVENT
DTSTAMP:20260425T211234Z
UID:60fa1bf4-334d-4f95-83cd-c7928668f340
DTSTART:20260527T080000
DTEND:20260527T100000
DESCRIPTION:
LOCATION:Cafeteria / Gym
SUMMARY:WWES - Kindergarten Promotion at TVHS auditorium
END:VEVENT
BEGIN:VEVENT
DTSTAMP:20260425T211234Z
UID:7d93b34b-31a6-4673-9784-c16f781e661f
DTSTART;VALUE=DATE:20260528
DTEND;VALUE=DATE:20260529
DESCRIPTION:Último día de clases\, salida a las 11:15 AM
LOCATION:
SUMMARY:WWES - Last Day for Students - Early Release at 11:15 AM
END:VEVENT
END:VCALENDAR
