BEGIN:VCALENDAR
VERSION:2.0
PRODID:icalendar-ruby
CALSCALE:GREGORIAN
BEGIN:VTIMEZONE
TZID:America/New_York
BEGIN:DAYLIGHT
DTSTART:20260308T030000
TZOFFSETFROM:-0500
TZOFFSETTO:-0400
RRULE:FREQ=YEARLY;BYDAY=2SU;BYMONTH=3
TZNAME:EDT
END:DAYLIGHT
BEGIN:STANDARD
DTSTART:20261101T010000
TZOFFSETFROM:-0400
TZOFFSETTO:-0500
RRULE:FREQ=YEARLY;BYDAY=1SU;BYMONTH=11
TZNAME:EST
END:STANDARD
END:VTIMEZONE
BEGIN:VEVENT
DTSTAMP:20260423T100736Z
UID:df4cee68-9f0d-425a-8cb9-5d8d4618a629
DTSTART;VALUE=DATE:20260501
DTEND;VALUE=DATE:20260502
DESCRIPTION:<blockquote style="padding-left: 24px\; border-left: 1px solid 
 rgba(0\, 0\, 0\, 0.1)\; font-style: italic\;" class="blockquote"><p>Thank 
 you for constant encouragement and belief in our students potential!</p></
 blockquote>
LOCATION:
SUMMARY:Principals Appreciation Day
END:VEVENT
BEGIN:VEVENT
DTSTAMP:20260423T100736Z
UID:90d5ac94-fc49-439c-aedc-79a0318bade2
DTSTART;VALUE=DATE:20260504
DTEND;VALUE=DATE:20260509
DESCRIPTION:<blockquote style="padding-left: 24px\; border-left: 1px solid 
 rgba(0\, 0\, 0\, 0.1)\; font-style: italic\;" class="blockquote"><p></p></
 blockquote><blockquote style="padding-left: 24px\; border-left: 1px solid 
 rgba(0\, 0\, 0\, 0.1)\; font-style: italic\;" class="blockquote"><p><stron
 g><em>Thank you for being such a patient and inspiring teachers for our WL
 MS students!</em></strong></p></blockquote>
LOCATION:
SUMMARY:Teachers Appreciation Week
END:VEVENT
BEGIN:VEVENT
DTSTAMP:20260423T100736Z
UID:51373098-ccde-4797-9e44-030121cedacf
DTSTART;VALUE=DATE:20260506
DTEND;VALUE=DATE:20260507
DESCRIPTION:<blockquote style="padding-left: 24px\; border-left: 1px solid 
 rgba(0\, 0\, 0\, 0.1)\; font-style: italic\;" class="blockquote"><p><stron
 g>Thank you for the compassion\, care and support you provide to our WLMS 
 students!</strong></p></blockquote>
LOCATION:
SUMMARY:School Nurse Appreciation Day
END:VEVENT
BEGIN:VEVENT
DTSTAMP:20260423T100736Z
UID:0d5f7767-3fb2-4e45-a583-b68d1493f955
DTSTART:20260522T073000
DTEND:20260522T121500
DESCRIPTION:
LOCATION:
SUMMARY:Early Dismissal / Last Day for Students
END:VEVENT
BEGIN:VEVENT
DTSTAMP:20260423T100736Z
UID:443c6978-0f24-4e4d-962f-693b3d7fc432
DTSTART;VALUE=DATE:20260525
DTEND;VALUE=DATE:20260526
DESCRIPTION:
LOCATION:
SUMMARY:Memorial Day  
END:VEVENT
BEGIN:VEVENT
DTSTAMP:20260423T100736Z
UID:ab9886d8-3da7-4a70-903b-274444250b68
DTSTART;VALUE=DATE:20260526
DTEND;VALUE=DATE:20260528
DESCRIPTION:
LOCATION:
SUMMARY:Workdays for Staff : Optional 
END:VEVENT
BEGIN:VEVENT
DTSTAMP:20260423T100736Z
UID:e7c55190-c656-44f3-a4b2-50f41d7f081c
DTSTART;VALUE=DATE:20260528
DTEND;VALUE=DATE:20260530
DESCRIPTION:
LOCATION:
SUMMARY:Workdays for Staff : Required 
END:VEVENT
END:VCALENDAR
