BEGIN:VCALENDAR
VERSION:2.0
PRODID:icalendar-ruby
CALSCALE:GREGORIAN
BEGIN:VTIMEZONE
TZID:America/New_York
BEGIN:DAYLIGHT
DTSTART:20260308T030000
TZOFFSETFROM:-0500
TZOFFSETTO:-0400
RRULE:FREQ=YEARLY;BYDAY=2SU;BYMONTH=3
TZNAME:EDT
END:DAYLIGHT
BEGIN:STANDARD
DTSTART:20261101T010000
TZOFFSETFROM:-0400
TZOFFSETTO:-0500
RRULE:FREQ=YEARLY;BYDAY=1SU;BYMONTH=11
TZNAME:EST
END:STANDARD
END:VTIMEZONE
BEGIN:VEVENT
DTSTAMP:20260423T101933Z
UID:2070faf6-7890-468b-84e6-50a3c10ac1d2
DTSTART:20260427T151500
DTEND:20260427T160000
DESCRIPTION:<p>For Safety\, Cheer and MTSS</p>
LOCATION:
SUMMARY:Committee Meetings
END:VEVENT
BEGIN:VEVENT
DTSTAMP:20260423T101933Z
UID:c412f3ef-fbac-4324-8854-482fa09b4641
DTSTART:20260501T080000
DTEND:20260501T111500
DESCRIPTION:
LOCATION:
SUMMARY:Senior Walk At Elementary Schools 
END:VEVENT
BEGIN:VEVENT
DTSTAMP:20260423T101933Z
UID:e242dd43-839b-46e2-9398-185f929d9f63
DTSTART;VALUE=DATE:20260502
DTEND;VALUE=DATE:20260503
DESCRIPTION:
LOCATION:
SUMMARY:SAT Test
END:VEVENT
BEGIN:VEVENT
DTSTAMP:20260423T101933Z
UID:6461f464-b729-47db-bfd7-0cdff302b92c
DTSTART:20260502T200000
DTEND:20260503T000000
DESCRIPTION:
LOCATION:2301 Tramway Rd\, Sanford\, NC 27332\, USA
SUMMARY:Prom
END:VEVENT
BEGIN:VEVENT
DTSTAMP:20260423T101933Z
UID:43a9f052-b4c4-4b9d-aedf-1a9c72a3c566
DTSTART:20260504T151500
DTEND:20260504T160000
DESCRIPTION:
LOCATION:
SUMMARY:Staff Meeting
END:VEVENT
BEGIN:VEVENT
DTSTAMP:20260423T101933Z
UID:3358eb48-14be-48da-a9d7-d4261b9cadb5
DTSTART:20260511T151500
DTEND:20260511T161500
DESCRIPTION:
LOCATION:
SUMMARY:SIT Meeting
END:VEVENT
BEGIN:VEVENT
DTSTAMP:20260423T101933Z
UID:a440e895-17cc-441f-a8a8-c394aab535ea
DTSTART:20260514T183000
DTEND:20260514T200000
DESCRIPTION:
LOCATION:2301 Tramway Rd\, Sanford\, NC 27332\, USA
SUMMARY:Senior Scholarship Night 
END:VEVENT
BEGIN:VEVENT
DTSTAMP:20260423T101933Z
UID:ba3edbd4-6985-4a5e-8005-89744e38340e
DTSTART:20260518T151500
DTEND:20260518T160000
DESCRIPTION:<p>For Safety\, Cheer and MTSS</p>
LOCATION:
SUMMARY:Committee Meetings
END:VEVENT
BEGIN:VEVENT
DTSTAMP:20260423T101933Z
UID:55791b9c-36ee-4e2d-ad4e-5927afbfd01c
DTSTART:20260521T190000
DTEND:20260521T210000
DESCRIPTION:
LOCATION:2301 Tramway Rd\, Sanford\, NC 27332\, USA
SUMMARY:Senior Sunset & Signing Day 
END:VEVENT
BEGIN:VEVENT
DTSTAMP:20260423T101933Z
UID:8fc7a074-12a1-41ff-b927-9d2482e579fd
DTSTART:20260522T080000
DTEND:20260522T123000
DESCRIPTION:
LOCATION:
SUMMARY:Early Dismissal/Last Day for Students
END:VEVENT
BEGIN:VEVENT
DTSTAMP:20260423T101933Z
UID:6dee421b-14c4-4fa6-bb38-a771792506f3
DTSTART:20260525T000000
DTEND:20260525T234500
DESCRIPTION:
LOCATION:
SUMMARY:Memorial Day
END:VEVENT
BEGIN:VEVENT
DTSTAMP:20260423T101933Z
UID:6165ddae-0caa-4846-b647-02eed899287d
DTSTART:20260526T080000
DTEND:20260526T150000
DESCRIPTION:
LOCATION:
SUMMARY:Workday for Staff (Optional)
END:VEVENT
BEGIN:VEVENT
DTSTAMP:20260423T101933Z
UID:3ad1a596-74a5-467b-958c-eb5f39359de9
DTSTART:20260527T080000
DTEND:20260527T150000
DESCRIPTION:
LOCATION:
SUMMARY:Workday for Staff (Optional)
END:VEVENT
BEGIN:VEVENT
DTSTAMP:20260423T101933Z
UID:80e9356a-af3f-4c1d-ac7d-2e0d407ab358
DTSTART:20260528T080000
DTEND:20260528T103000
DESCRIPTION:
LOCATION:2301 Tramway Rd\, Sanford\, NC 27332\, USA
SUMMARY:Breakfast & Graduation Practice 
END:VEVENT
BEGIN:VEVENT
DTSTAMP:20260423T101933Z
UID:f0893c52-93c7-4be0-b3ed-f3732fb026d3
DTSTART:20260528T080000
DTEND:20260528T150000
DESCRIPTION:
LOCATION:
SUMMARY:Workday for Staff (Required)
END:VEVENT
BEGIN:VEVENT
DTSTAMP:20260423T101933Z
UID:551bb867-0391-448d-92b7-d4ddf2577a63
DTSTART:20260528T193000
DTEND:20260528T210000
DESCRIPTION:
LOCATION:
SUMMARY:Class of '26 Graduation
END:VEVENT
BEGIN:VEVENT
DTSTAMP:20260423T101933Z
UID:474e12aa-c14c-46c2-9f9b-80a5d7f00250
DTSTART:20260529T080000
DTEND:20260529T150000
DESCRIPTION:
LOCATION:
SUMMARY:Workday for Staff (Required)
END:VEVENT
BEGIN:VEVENT
DTSTAMP:20260423T101933Z
UID:d52244b1-c6be-4005-ae35-18f35c9b1504
DTSTART;VALUE=DATE:20260606
DTEND;VALUE=DATE:20260607
DESCRIPTION:
LOCATION:
SUMMARY:SAT Test
END:VEVENT
BEGIN:VEVENT
DTSTAMP:20260423T101933Z
UID:dc867526-b920-4382-9017-f03f241ece7e
DTSTART;VALUE=DATE:20260613
DTEND;VALUE=DATE:20260614
DESCRIPTION:
LOCATION:
SUMMARY:ACT Test
END:VEVENT
BEGIN:VEVENT
DTSTAMP:20260423T101933Z
UID:6b2d4e76-87e7-4f87-8e62-daa24111a638
DTSTART;VALUE=DATE:20260711
DTEND;VALUE=DATE:20260712
DESCRIPTION:
LOCATION:
SUMMARY:ACT Test
END:VEVENT
END:VCALENDAR
