BEGIN:VCALENDAR
VERSION:2.0
PRODID:icalendar-ruby
CALSCALE:GREGORIAN
BEGIN:VTIMEZONE
TZID:America/New_York
BEGIN:DAYLIGHT
DTSTART:20260308T030000
TZOFFSETFROM:-0500
TZOFFSETTO:-0400
RRULE:FREQ=YEARLY;BYDAY=2SU;BYMONTH=3
TZNAME:EDT
END:DAYLIGHT
BEGIN:STANDARD
DTSTART:20261101T010000
TZOFFSETFROM:-0400
TZOFFSETTO:-0500
RRULE:FREQ=YEARLY;BYDAY=1SU;BYMONTH=11
TZNAME:EST
END:STANDARD
END:VTIMEZONE
BEGIN:VEVENT
DTSTAMP:20260423T130121Z
UID:e32bb731-700f-4731-9384-bdf003ab1fe3
DTSTART;VALUE=DATE:20260522
DTEND;VALUE=DATE:20260523
DESCRIPTION:
LOCATION:
SUMMARY:Last Day for Students-Early Dismissal
END:VEVENT
BEGIN:VEVENT
DTSTAMP:20260423T130121Z
UID:ff1449d2-ea39-4bc7-8028-60b2b890f0b0
DTSTART:20260527T190000
DTEND:20260527T200000
DESCRIPTION:
LOCATION:
SUMMARY:LEC Graduation
END:VEVENT
BEGIN:VEVENT
DTSTAMP:20260423T130121Z
UID:f6a4ef1d-13cf-4610-859e-376ceeecfab0
DTSTART;VALUE=DATE:20261002
DTEND;VALUE=DATE:20261003
DESCRIPTION:
LOCATION:
SUMMARY:National School Custodian Day
END:VEVENT
BEGIN:VEVENT
DTSTAMP:20260423T130121Z
UID:4db154c6-6cac-4daa-a123-a96dccc0209f
DTSTART;VALUE=DATE:20271002
DTEND;VALUE=DATE:20271003
DESCRIPTION:
LOCATION:
SUMMARY:National School Custodian Day
END:VEVENT
BEGIN:VEVENT
DTSTAMP:20260423T130121Z
UID:0e0b7e57-d4ce-4875-b511-f4dc200dce15
DTSTART;VALUE=DATE:20281002
DTEND;VALUE=DATE:20281003
DESCRIPTION:
LOCATION:
SUMMARY:National School Custodian Day
END:VEVENT
BEGIN:VEVENT
DTSTAMP:20260423T130121Z
UID:3c6bdd63-40b2-4284-96ee-1f734d22aafd
DTSTART;VALUE=DATE:20291002
DTEND;VALUE=DATE:20291003
DESCRIPTION:
LOCATION:
SUMMARY:National School Custodian Day
END:VEVENT
BEGIN:VEVENT
DTSTAMP:20260423T130121Z
UID:00e822f4-5639-4335-a43f-7f5e16268b30
DTSTART;VALUE=DATE:20301002
DTEND;VALUE=DATE:20301003
DESCRIPTION:
LOCATION:
SUMMARY:National School Custodian Day
END:VEVENT
BEGIN:VEVENT
DTSTAMP:20260423T130121Z
UID:e9dab1c5-235c-43bd-80f4-fc1b67c00e59
DTSTART;VALUE=DATE:20311002
DTEND;VALUE=DATE:20311003
DESCRIPTION:
LOCATION:
SUMMARY:National School Custodian Day
END:VEVENT
BEGIN:VEVENT
DTSTAMP:20260423T130121Z
UID:c8194e56-3db7-48c6-9819-0d355491d607
DTSTART;VALUE=DATE:20321002
DTEND;VALUE=DATE:20321003
DESCRIPTION:
LOCATION:
SUMMARY:National School Custodian Day
END:VEVENT
BEGIN:VEVENT
DTSTAMP:20260423T130121Z
UID:6b7edd4b-a132-4273-b78e-05fd159a8575
DTSTART;VALUE=DATE:20331002
DTEND;VALUE=DATE:20331003
DESCRIPTION:
LOCATION:
SUMMARY:National School Custodian Day
END:VEVENT
BEGIN:VEVENT
DTSTAMP:20260423T130121Z
UID:961e277e-6099-4288-bc5a-2d3e44b12d31
DTSTART;VALUE=DATE:20341002
DTEND;VALUE=DATE:20341003
DESCRIPTION:
LOCATION:
SUMMARY:National School Custodian Day
END:VEVENT
BEGIN:VEVENT
DTSTAMP:20260423T130121Z
UID:d9661f5f-52c5-438c-9eb7-209f92271dd2
DTSTART;VALUE=DATE:20351002
DTEND;VALUE=DATE:20351003
DESCRIPTION:
LOCATION:
SUMMARY:National School Custodian Day
END:VEVENT
BEGIN:VEVENT
DTSTAMP:20260423T130121Z
UID:f439e4ca-d51c-4525-bacb-eea9f17409e4
DTSTART;VALUE=DATE:20361002
DTEND;VALUE=DATE:20361003
DESCRIPTION:
LOCATION:
SUMMARY:National School Custodian Day
END:VEVENT
BEGIN:VEVENT
DTSTAMP:20260423T130121Z
UID:c0384e63-2043-43bd-a009-19ce865a25f6
DTSTART;VALUE=DATE:20371002
DTEND;VALUE=DATE:20371003
DESCRIPTION:
LOCATION:
SUMMARY:National School Custodian Day
END:VEVENT
BEGIN:VEVENT
DTSTAMP:20260423T130121Z
UID:aca6d44b-ab6c-4e72-8165-3ffaca57d690
DTSTART;VALUE=DATE:20381002
DTEND;VALUE=DATE:20381003
DESCRIPTION:
LOCATION:
SUMMARY:National School Custodian Day
END:VEVENT
BEGIN:VEVENT
DTSTAMP:20260423T130121Z
UID:5d49d84c-e9c1-43e8-b523-a0e8181d31f6
DTSTART;VALUE=DATE:20391002
DTEND;VALUE=DATE:20391003
DESCRIPTION:
LOCATION:
SUMMARY:National School Custodian Day
END:VEVENT
BEGIN:VEVENT
DTSTAMP:20260423T130121Z
UID:334506ba-9e04-41d4-96b7-70c0b134deb8
DTSTART;VALUE=DATE:20401002
DTEND;VALUE=DATE:20401003
DESCRIPTION:
LOCATION:
SUMMARY:National School Custodian Day
END:VEVENT
BEGIN:VEVENT
DTSTAMP:20260423T130121Z
UID:fcf9656f-bf71-48f1-8a48-8490101e51e0
DTSTART;VALUE=DATE:20411002
DTEND;VALUE=DATE:20411003
DESCRIPTION:
LOCATION:
SUMMARY:National School Custodian Day
END:VEVENT
BEGIN:VEVENT
DTSTAMP:20260423T130121Z
UID:720dcffa-41c9-46e7-85c3-f6922e447e95
DTSTART;VALUE=DATE:20421002
DTEND;VALUE=DATE:20421003
DESCRIPTION:
LOCATION:
SUMMARY:National School Custodian Day
END:VEVENT
BEGIN:VEVENT
DTSTAMP:20260423T130121Z
UID:ababb9e3-37a4-4736-b646-6fbd2835fb2c
DTSTART;VALUE=DATE:20431002
DTEND;VALUE=DATE:20431003
DESCRIPTION:
LOCATION:
SUMMARY:National School Custodian Day
END:VEVENT
BEGIN:VEVENT
DTSTAMP:20260423T130121Z
UID:4dff59b1-f4db-49fd-9595-29c7b6c0f942
DTSTART;VALUE=DATE:20441002
DTEND;VALUE=DATE:20441003
DESCRIPTION:
LOCATION:
SUMMARY:National School Custodian Day
END:VEVENT
BEGIN:VEVENT
DTSTAMP:20260423T130121Z
UID:6bfa576d-63be-4a37-9bbd-ac00d2dab933
DTSTART;VALUE=DATE:20451002
DTEND;VALUE=DATE:20451003
DESCRIPTION:
LOCATION:
SUMMARY:National School Custodian Day
END:VEVENT
BEGIN:VEVENT
DTSTAMP:20260423T130121Z
UID:8895cfda-1b62-4801-9786-b7cdfae8c7ec
DTSTART;VALUE=DATE:20461002
DTEND;VALUE=DATE:20461003
DESCRIPTION:
LOCATION:
SUMMARY:National School Custodian Day
END:VEVENT
BEGIN:VEVENT
DTSTAMP:20260423T130121Z
UID:2a7bc436-f15e-4281-b560-557b315d7e17
DTSTART;VALUE=DATE:20471002
DTEND;VALUE=DATE:20471003
DESCRIPTION:
LOCATION:
SUMMARY:National School Custodian Day
END:VEVENT
BEGIN:VEVENT
DTSTAMP:20260423T130121Z
UID:499205dc-3c77-4b7c-b6fc-f1e2541c837f
DTSTART;VALUE=DATE:20481002
DTEND;VALUE=DATE:20481003
DESCRIPTION:
LOCATION:
SUMMARY:National School Custodian Day
END:VEVENT
BEGIN:VEVENT
DTSTAMP:20260423T130121Z
UID:78ce71f3-e266-4734-99e4-0657803b14ca
DTSTART;VALUE=DATE:20491002
DTEND;VALUE=DATE:20491003
DESCRIPTION:
LOCATION:
SUMMARY:National School Custodian Day
END:VEVENT
BEGIN:VEVENT
DTSTAMP:20260423T130121Z
UID:a4386cb7-c398-40a3-af5d-88426c675221
DTSTART;VALUE=DATE:20501002
DTEND;VALUE=DATE:20501003
DESCRIPTION:
LOCATION:
SUMMARY:National School Custodian Day
END:VEVENT
BEGIN:VEVENT
DTSTAMP:20260423T130121Z
UID:565e88a8-072e-40b8-a0c0-0dce0979e138
DTSTART;VALUE=DATE:20511002
DTEND;VALUE=DATE:20511003
DESCRIPTION:
LOCATION:
SUMMARY:National School Custodian Day
END:VEVENT
BEGIN:VEVENT
DTSTAMP:20260423T130121Z
UID:e8b35378-8c15-4b0d-a27e-388910872eb5
DTSTART;VALUE=DATE:20521002
DTEND;VALUE=DATE:20521003
DESCRIPTION:
LOCATION:
SUMMARY:National School Custodian Day
END:VEVENT
BEGIN:VEVENT
DTSTAMP:20260423T130121Z
UID:679c09ee-985c-4425-9e33-2156b4b4160a
DTSTART;VALUE=DATE:20531002
DTEND;VALUE=DATE:20531003
DESCRIPTION:
LOCATION:
SUMMARY:National School Custodian Day
END:VEVENT
BEGIN:VEVENT
DTSTAMP:20260423T130121Z
UID:2332baf2-14cc-4d52-9890-d89158c38bf2
DTSTART;VALUE=DATE:20541002
DTEND;VALUE=DATE:20541003
DESCRIPTION:
LOCATION:
SUMMARY:National School Custodian Day
END:VEVENT
BEGIN:VEVENT
DTSTAMP:20260423T130121Z
UID:23233883-2cab-4d78-b6a6-89c66c5c3279
DTSTART;VALUE=DATE:20551002
DTEND;VALUE=DATE:20551003
DESCRIPTION:
LOCATION:
SUMMARY:National School Custodian Day
END:VEVENT
BEGIN:VEVENT
DTSTAMP:20260423T130121Z
UID:0b004dba-0f3e-4ebe-a4ac-05ba31183412
DTSTART;VALUE=DATE:20561002
DTEND;VALUE=DATE:20561003
DESCRIPTION:
LOCATION:
SUMMARY:National School Custodian Day
END:VEVENT
BEGIN:VEVENT
DTSTAMP:20260423T130121Z
UID:91858bdc-2457-4cc4-8159-a72f97c7aea9
DTSTART;VALUE=DATE:20571002
DTEND;VALUE=DATE:20571003
DESCRIPTION:
LOCATION:
SUMMARY:National School Custodian Day
END:VEVENT
BEGIN:VEVENT
DTSTAMP:20260423T130121Z
UID:a93c482d-acab-4772-aab6-08ff0916180f
DTSTART;VALUE=DATE:20581002
DTEND;VALUE=DATE:20581003
DESCRIPTION:
LOCATION:
SUMMARY:National School Custodian Day
END:VEVENT
BEGIN:VEVENT
DTSTAMP:20260423T130121Z
UID:a7228a67-1c0a-4125-ab29-2276d51e7600
DTSTART;VALUE=DATE:20591002
DTEND;VALUE=DATE:20591003
DESCRIPTION:
LOCATION:
SUMMARY:National School Custodian Day
END:VEVENT
BEGIN:VEVENT
DTSTAMP:20260423T130121Z
UID:5afb679f-7c29-4b3d-90fe-9e4f5e5d78cb
DTSTART;VALUE=DATE:20601002
DTEND;VALUE=DATE:20601003
DESCRIPTION:
LOCATION:
SUMMARY:National School Custodian Day
END:VEVENT
BEGIN:VEVENT
DTSTAMP:20260423T130121Z
UID:2e76634f-0fe5-4f6e-8a4f-ca39d253dd23
DTSTART;VALUE=DATE:20611002
DTEND;VALUE=DATE:20611003
DESCRIPTION:
LOCATION:
SUMMARY:National School Custodian Day
END:VEVENT
BEGIN:VEVENT
DTSTAMP:20260423T130121Z
UID:10affcfa-de1e-4df3-83a2-e7904fa16bd1
DTSTART;VALUE=DATE:20621002
DTEND;VALUE=DATE:20621003
DESCRIPTION:
LOCATION:
SUMMARY:National School Custodian Day
END:VEVENT
BEGIN:VEVENT
DTSTAMP:20260423T130121Z
UID:cae99727-5e84-496c-96b1-4b4b15d876da
DTSTART;VALUE=DATE:20631002
DTEND;VALUE=DATE:20631003
DESCRIPTION:
LOCATION:
SUMMARY:National School Custodian Day
END:VEVENT
BEGIN:VEVENT
DTSTAMP:20260423T130121Z
UID:faad3195-4cf8-486c-9573-4e04f90e1f27
DTSTART;VALUE=DATE:20641002
DTEND;VALUE=DATE:20641003
DESCRIPTION:
LOCATION:
SUMMARY:National School Custodian Day
END:VEVENT
BEGIN:VEVENT
DTSTAMP:20260423T130121Z
UID:3b80e451-0cf1-4899-86f7-d8cfbf7ade51
DTSTART;VALUE=DATE:20651002
DTEND;VALUE=DATE:20651003
DESCRIPTION:
LOCATION:
SUMMARY:National School Custodian Day
END:VEVENT
BEGIN:VEVENT
DTSTAMP:20260423T130121Z
UID:cf18b571-ba61-436c-b749-b352ef25597a
DTSTART;VALUE=DATE:20661002
DTEND;VALUE=DATE:20661003
DESCRIPTION:
LOCATION:
SUMMARY:National School Custodian Day
END:VEVENT
BEGIN:VEVENT
DTSTAMP:20260423T130121Z
UID:e61ec50b-f772-4b7d-a236-73b6f2eaf0c2
DTSTART;VALUE=DATE:20671002
DTEND;VALUE=DATE:20671003
DESCRIPTION:
LOCATION:
SUMMARY:National School Custodian Day
END:VEVENT
BEGIN:VEVENT
DTSTAMP:20260423T130121Z
UID:bab278e9-003d-4257-ba8f-7cc27b1f79ff
DTSTART;VALUE=DATE:20681002
DTEND;VALUE=DATE:20681003
DESCRIPTION:
LOCATION:
SUMMARY:National School Custodian Day
END:VEVENT
BEGIN:VEVENT
DTSTAMP:20260423T130121Z
UID:0575d557-5a19-45bf-82f1-f983790a0041
DTSTART;VALUE=DATE:20691002
DTEND;VALUE=DATE:20691003
DESCRIPTION:
LOCATION:
SUMMARY:National School Custodian Day
END:VEVENT
BEGIN:VEVENT
DTSTAMP:20260423T130121Z
UID:37b479a8-f1e8-4203-8eab-f984f45c44e8
DTSTART;VALUE=DATE:20701002
DTEND;VALUE=DATE:20701003
DESCRIPTION:
LOCATION:
SUMMARY:National School Custodian Day
END:VEVENT
BEGIN:VEVENT
DTSTAMP:20260423T130121Z
UID:7aedaa77-1576-40b4-8573-277c0e715c15
DTSTART;VALUE=DATE:20711002
DTEND;VALUE=DATE:20711003
DESCRIPTION:
LOCATION:
SUMMARY:National School Custodian Day
END:VEVENT
BEGIN:VEVENT
DTSTAMP:20260423T130121Z
UID:2871a8e9-663d-4e1b-9651-5893449ccb18
DTSTART;VALUE=DATE:20721002
DTEND;VALUE=DATE:20721003
DESCRIPTION:
LOCATION:
SUMMARY:National School Custodian Day
END:VEVENT
BEGIN:VEVENT
DTSTAMP:20260423T130121Z
UID:a9c52ebb-8c55-4bad-91fc-abb213f65f1a
DTSTART;VALUE=DATE:20731002
DTEND;VALUE=DATE:20731003
DESCRIPTION:
LOCATION:
SUMMARY:National School Custodian Day
END:VEVENT
BEGIN:VEVENT
DTSTAMP:20260423T130121Z
UID:325f5620-5369-4c46-bb58-2ada76e800dc
DTSTART;VALUE=DATE:20741002
DTEND;VALUE=DATE:20741003
DESCRIPTION:
LOCATION:
SUMMARY:National School Custodian Day
END:VEVENT
BEGIN:VEVENT
DTSTAMP:20260423T130121Z
UID:50685ffa-f3fb-4149-b35b-1003fef377ca
DTSTART;VALUE=DATE:20751002
DTEND;VALUE=DATE:20751003
DESCRIPTION:
LOCATION:
SUMMARY:National School Custodian Day
END:VEVENT
BEGIN:VEVENT
DTSTAMP:20260423T130121Z
UID:6b65e0cb-f33f-4b23-819d-718116970cdb
DTSTART;VALUE=DATE:20761002
DTEND;VALUE=DATE:20761003
DESCRIPTION:
LOCATION:
SUMMARY:National School Custodian Day
END:VEVENT
BEGIN:VEVENT
DTSTAMP:20260423T130121Z
UID:ee297d3b-5d23-4254-a2f0-d3ce42bcdb16
DTSTART;VALUE=DATE:20771002
DTEND;VALUE=DATE:20771003
DESCRIPTION:
LOCATION:
SUMMARY:National School Custodian Day
END:VEVENT
BEGIN:VEVENT
DTSTAMP:20260423T130121Z
UID:ae9de0a9-f3b5-452a-805c-15231af9889b
DTSTART;VALUE=DATE:20781002
DTEND;VALUE=DATE:20781003
DESCRIPTION:
LOCATION:
SUMMARY:National School Custodian Day
END:VEVENT
BEGIN:VEVENT
DTSTAMP:20260423T130121Z
UID:a1bc2fcc-ec31-483e-a5e4-d1ecc4214b57
DTSTART;VALUE=DATE:20791002
DTEND;VALUE=DATE:20791003
DESCRIPTION:
LOCATION:
SUMMARY:National School Custodian Day
END:VEVENT
BEGIN:VEVENT
DTSTAMP:20260423T130121Z
UID:03d9ed1f-be75-400e-b04f-0c52cd5c70ad
DTSTART;VALUE=DATE:20801002
DTEND;VALUE=DATE:20801003
DESCRIPTION:
LOCATION:
SUMMARY:National School Custodian Day
END:VEVENT
BEGIN:VEVENT
DTSTAMP:20260423T130121Z
UID:02653d4a-39bb-4f2d-acd6-27675637f5fe
DTSTART;VALUE=DATE:20811002
DTEND;VALUE=DATE:20811003
DESCRIPTION:
LOCATION:
SUMMARY:National School Custodian Day
END:VEVENT
BEGIN:VEVENT
DTSTAMP:20260423T130121Z
UID:776b8bc3-524b-4858-bbb8-2f235ccf6bd8
DTSTART;VALUE=DATE:20821002
DTEND;VALUE=DATE:20821003
DESCRIPTION:
LOCATION:
SUMMARY:National School Custodian Day
END:VEVENT
BEGIN:VEVENT
DTSTAMP:20260423T130121Z
UID:c1c6ef16-5bd6-49e5-9c2b-af92e3052d71
DTSTART;VALUE=DATE:20831002
DTEND;VALUE=DATE:20831003
DESCRIPTION:
LOCATION:
SUMMARY:National School Custodian Day
END:VEVENT
BEGIN:VEVENT
DTSTAMP:20260423T130121Z
UID:901c0899-4bd7-4e99-a96e-74cfc3fdb4ea
DTSTART;VALUE=DATE:20841002
DTEND;VALUE=DATE:20841003
DESCRIPTION:
LOCATION:
SUMMARY:National School Custodian Day
END:VEVENT
BEGIN:VEVENT
DTSTAMP:20260423T130121Z
UID:6f50dae9-71d8-4d69-b63e-987dc9567790
DTSTART;VALUE=DATE:20851002
DTEND;VALUE=DATE:20851003
DESCRIPTION:
LOCATION:
SUMMARY:National School Custodian Day
END:VEVENT
BEGIN:VEVENT
DTSTAMP:20260423T130121Z
UID:50a4c5c7-3194-4eec-8fee-05e654466528
DTSTART;VALUE=DATE:20861002
DTEND;VALUE=DATE:20861003
DESCRIPTION:
LOCATION:
SUMMARY:National School Custodian Day
END:VEVENT
BEGIN:VEVENT
DTSTAMP:20260423T130121Z
UID:18025054-e411-4985-9e3f-ba0699a18ad3
DTSTART;VALUE=DATE:20871002
DTEND;VALUE=DATE:20871003
DESCRIPTION:
LOCATION:
SUMMARY:National School Custodian Day
END:VEVENT
BEGIN:VEVENT
DTSTAMP:20260423T130121Z
UID:489b5852-89e9-43fd-8f6f-1c578eb7e819
DTSTART;VALUE=DATE:20881002
DTEND;VALUE=DATE:20881003
DESCRIPTION:
LOCATION:
SUMMARY:National School Custodian Day
END:VEVENT
BEGIN:VEVENT
DTSTAMP:20260423T130121Z
UID:1025784e-4f77-4959-85a0-75cda7c43b6c
DTSTART;VALUE=DATE:20891002
DTEND;VALUE=DATE:20891003
DESCRIPTION:
LOCATION:
SUMMARY:National School Custodian Day
END:VEVENT
BEGIN:VEVENT
DTSTAMP:20260423T130121Z
UID:809b2867-2452-4867-b7dc-e0c32c4b3d79
DTSTART;VALUE=DATE:20901002
DTEND;VALUE=DATE:20901003
DESCRIPTION:
LOCATION:
SUMMARY:National School Custodian Day
END:VEVENT
BEGIN:VEVENT
DTSTAMP:20260423T130121Z
UID:d6f037d6-6488-44fe-bfee-8d9df451073a
DTSTART;VALUE=DATE:20911002
DTEND;VALUE=DATE:20911003
DESCRIPTION:
LOCATION:
SUMMARY:National School Custodian Day
END:VEVENT
BEGIN:VEVENT
DTSTAMP:20260423T130121Z
UID:dcdd6999-17d3-49df-a578-b4908571a994
DTSTART;VALUE=DATE:20921002
DTEND;VALUE=DATE:20921003
DESCRIPTION:
LOCATION:
SUMMARY:National School Custodian Day
END:VEVENT
BEGIN:VEVENT
DTSTAMP:20260423T130121Z
UID:2eb40831-91d1-461d-8831-5d8156d5f02a
DTSTART;VALUE=DATE:20931002
DTEND;VALUE=DATE:20931003
DESCRIPTION:
LOCATION:
SUMMARY:National School Custodian Day
END:VEVENT
BEGIN:VEVENT
DTSTAMP:20260423T130121Z
UID:ecf84ae9-3c06-4e65-9ecd-d505978aae93
DTSTART;VALUE=DATE:20941002
DTEND;VALUE=DATE:20941003
DESCRIPTION:
LOCATION:
SUMMARY:National School Custodian Day
END:VEVENT
BEGIN:VEVENT
DTSTAMP:20260423T130121Z
UID:abdf163f-43bc-42e7-99f9-710393baf283
DTSTART;VALUE=DATE:20951002
DTEND;VALUE=DATE:20951003
DESCRIPTION:
LOCATION:
SUMMARY:National School Custodian Day
END:VEVENT
BEGIN:VEVENT
DTSTAMP:20260423T130121Z
UID:3fe7e6a8-96aa-4cdc-bd2f-b36c54457a64
DTSTART;VALUE=DATE:20961002
DTEND;VALUE=DATE:20961003
DESCRIPTION:
LOCATION:
SUMMARY:National School Custodian Day
END:VEVENT
BEGIN:VEVENT
DTSTAMP:20260423T130121Z
UID:5464bc64-1bca-4729-91fb-ec5d31d6d955
DTSTART;VALUE=DATE:20971002
DTEND;VALUE=DATE:20971003
DESCRIPTION:
LOCATION:
SUMMARY:National School Custodian Day
END:VEVENT
BEGIN:VEVENT
DTSTAMP:20260423T130121Z
UID:17404b4a-211e-4b8f-9146-1200311efc35
DTSTART;VALUE=DATE:20981002
DTEND;VALUE=DATE:20981003
DESCRIPTION:
LOCATION:
SUMMARY:National School Custodian Day
END:VEVENT
BEGIN:VEVENT
DTSTAMP:20260423T130121Z
UID:4b77e557-b1e9-4857-8204-800592532f2d
DTSTART;VALUE=DATE:20991002
DTEND;VALUE=DATE:20991003
DESCRIPTION:
LOCATION:
SUMMARY:National School Custodian Day
END:VEVENT
END:VCALENDAR
