BEGIN:VCALENDAR
VERSION:2.0
PRODID:icalendar-ruby
CALSCALE:GREGORIAN
BEGIN:VTIMEZONE
TZID:America/New_York
BEGIN:DAYLIGHT
DTSTART:20260308T030000
TZOFFSETFROM:-0500
TZOFFSETTO:-0400
RRULE:FREQ=YEARLY;BYDAY=2SU;BYMONTH=3
TZNAME:EDT
END:DAYLIGHT
BEGIN:STANDARD
DTSTART:20261101T010000
TZOFFSETFROM:-0400
TZOFFSETTO:-0500
RRULE:FREQ=YEARLY;BYDAY=1SU;BYMONTH=11
TZNAME:EST
END:STANDARD
END:VTIMEZONE
BEGIN:VEVENT
DTSTAMP:20260423T130228Z
UID:861e7f95-c226-4e7e-8427-10d3346cd788
DTSTART;VALUE=DATE:20260423
DTEND;VALUE=DATE:20260424
DESCRIPTION:
LOCATION:
SUMMARY:Spring Fling
END:VEVENT
BEGIN:VEVENT
DTSTAMP:20260423T130228Z
UID:ad6d0adb-63c5-4058-838d-8d393a9d9e24
DTSTART;VALUE=DATE:20260514
DTEND;VALUE=DATE:20260515
DESCRIPTION:
LOCATION:
SUMMARY:Preschool Graduation
END:VEVENT
BEGIN:VEVENT
DTSTAMP:20260423T130228Z
UID:ee11f3d4-3950-4f3c-897d-e37ff609dbc9
DTSTART;VALUE=DATE:20260515
DTEND;VALUE=DATE:20260516
DESCRIPTION:
LOCATION:
SUMMARY:High School Graduation
END:VEVENT
BEGIN:VEVENT
DTSTAMP:20260423T130228Z
UID:dadbd3e8-5cdc-4983-9f22-cec6ad67f5cb
DTSTART;VALUE=DATE:20260520
DTEND;VALUE=DATE:20260521
DESCRIPTION:
LOCATION:
SUMMARY:Awards Day
END:VEVENT
BEGIN:VEVENT
DTSTAMP:20260423T130228Z
UID:1c569748-70a9-4128-add8-e6b7fb5dd851
DTSTART;VALUE=DATE:20260522
DTEND;VALUE=DATE:20260523
DESCRIPTION:
LOCATION:
SUMMARY:Last Day of School-Early Dismissal/Report Cards
END:VEVENT
BEGIN:VEVENT
DTSTAMP:20260423T130228Z
UID:26cff2e6-8cfd-4e8c-a7e8-7a56d5812fd7
DTSTART;VALUE=DATE:20260526
DTEND;VALUE=DATE:20260530
DESCRIPTION:
LOCATION:
SUMMARY:Teacher Workday-No School
END:VEVENT
END:VCALENDAR
