BEGIN:VCALENDAR
VERSION:2.0
PRODID:icalendar-ruby
CALSCALE:GREGORIAN
BEGIN:VTIMEZONE
TZID:America/New_York
BEGIN:DAYLIGHT
DTSTART:20260308T030000
TZOFFSETFROM:-0500
TZOFFSETTO:-0400
RRULE:FREQ=YEARLY;BYDAY=2SU;BYMONTH=3
TZNAME:EDT
END:DAYLIGHT
BEGIN:STANDARD
DTSTART:20261101T010000
TZOFFSETFROM:-0400
TZOFFSETTO:-0500
RRULE:FREQ=YEARLY;BYDAY=1SU;BYMONTH=11
TZNAME:EST
END:STANDARD
END:VTIMEZONE
BEGIN:VEVENT
DTSTAMP:20260425T151429Z
UID:91daf5b0-b334-4d61-a72d-c0633d16213b
DTSTART:20260428T180000
DTEND:20260428T210000
DESCRIPTION:
LOCATION:Wade Administration Building 
SUMMARY:Board of Education Meeting
END:VEVENT
BEGIN:VEVENT
DTSTAMP:20260425T151429Z
UID:b580e0d8-c9f1-4429-88db-22cb3f8e67f0
DTSTART;VALUE=DATE:20260504
DTEND;VALUE=DATE:20260509
DESCRIPTION:
LOCATION:
SUMMARY:Teacher Appreciation Week
END:VEVENT
BEGIN:VEVENT
DTSTAMP:20260425T151429Z
UID:149a303c-a956-4bfe-a403-d9b2c37796c2
DTSTART;VALUE=DATE:20260508
DTEND;VALUE=DATE:20260509
DESCRIPTION:
LOCATION:
SUMMARY:Spring Plant Sale
END:VEVENT
BEGIN:VEVENT
DTSTAMP:20260425T151429Z
UID:6ecf2497-d26a-4136-a3fa-6219b3f1d23e
DTSTART;VALUE=DATE:20260513
DTEND;VALUE=DATE:20260516
DESCRIPTION:
LOCATION:
SUMMARY:NJSLA-A Testing (3rd & 4th Grades)
END:VEVENT
BEGIN:VEVENT
DTSTAMP:20260425T151429Z
UID:a0a6f67b-bf1a-47e2-8cdc-c11fa8ed3629
DTSTART:20260515T180000
DTEND:20260515T200000
DESCRIPTION:
LOCATION:
SUMMARY:PTO Talent Show
END:VEVENT
BEGIN:VEVENT
DTSTAMP:20260425T151429Z
UID:cf3fa075-88ae-4bde-a62d-7834632f3c8e
DTSTART:20260519T190000
DTEND:20260519T210000
DESCRIPTION:
LOCATION:Wade Administration Building 
SUMMARY:Board of Education Meeting
END:VEVENT
BEGIN:VEVENT
DTSTAMP:20260425T151429Z
UID:80d21e9c-0b2d-4f78-9fc8-c573d196a545
DTSTART;VALUE=DATE:20260525
DTEND;VALUE=DATE:20260526
DESCRIPTION:
LOCATION:
SUMMARY:Schools Closed ~ Memorial Day
END:VEVENT
BEGIN:VEVENT
DTSTAMP:20260425T151429Z
UID:5b8fcd5a-dba0-4367-9799-e997a820949e
DTSTART;VALUE=DATE:20260529
DTEND;VALUE=DATE:20260530
DESCRIPTION:
LOCATION:
SUMMARY:Family Festival (Time TBD)
END:VEVENT
BEGIN:VEVENT
DTSTAMP:20260425T151429Z
UID:01953dca-c1a1-409a-9385-968c17129c01
DTSTART:20260601T090000
DTEND:20260601T100000
DESCRIPTION:
LOCATION:
SUMMARY:1st Grade Orientation
END:VEVENT
BEGIN:VEVENT
DTSTAMP:20260425T151429Z
UID:bcb10a63-8212-4afb-bb7d-4de67ef0a446
DTSTART:20260603T090000
DTEND:20260603T100000
DESCRIPTION:
LOCATION:
SUMMARY:Kindergarten Orientation
END:VEVENT
BEGIN:VEVENT
DTSTAMP:20260425T151429Z
UID:7559b157-c4c5-4f51-bc42-a8f834d72b13
DTSTART;VALUE=DATE:20260604
DTEND;VALUE=DATE:20260605
DESCRIPTION:
LOCATION:
SUMMARY:Field Day
END:VEVENT
BEGIN:VEVENT
DTSTAMP:20260425T151429Z
UID:05f72ad8-1dfc-4092-b1b6-98cd73436825
DTSTART:20260610T180000
DTEND:20260610T190000
DESCRIPTION:
LOCATION:
SUMMARY:PTO Meeting
END:VEVENT
BEGIN:VEVENT
DTSTAMP:20260425T151429Z
UID:6a50e283-bbe5-41db-bdb9-ec64c36f38af
DTSTART:20260616T190000
DTEND:20260616T210000
DESCRIPTION:
LOCATION:Wade Administration Building 
SUMMARY:Board of Education Meeting
END:VEVENT
BEGIN:VEVENT
DTSTAMP:20260425T151429Z
UID:511de8ce-090c-4d19-a488-a3f0bc6d6126
DTSTART;VALUE=DATE:20260617
DTEND;VALUE=DATE:20260618
DESCRIPTION:
LOCATION:
SUMMARY:4 Hour Session Day ~ ALL SCHOOLS
END:VEVENT
BEGIN:VEVENT
DTSTAMP:20260425T151429Z
UID:136746b0-d73b-4c1c-ae4e-c594828e5768
DTSTART;VALUE=DATE:20260618
DTEND;VALUE=DATE:20260619
DESCRIPTION:
LOCATION:
SUMMARY:4 Hour Session Day ~ ALL SCHOOLS
END:VEVENT
BEGIN:VEVENT
DTSTAMP:20260425T151429Z
UID:5929fd22-66ed-4ef7-ace6-44508f12f059
DTSTART;VALUE=DATE:20260618
DTEND;VALUE=DATE:20260619
DESCRIPTION:
LOCATION:
SUMMARY:LAST DAY OF SCHOOL
END:VEVENT
BEGIN:VEVENT
DTSTAMP:20260425T151429Z
UID:22665b21-0085-41fb-bd05-7e7701bd0684
DTSTART:20260721T190000
DTEND:20260721T210000
DESCRIPTION:
LOCATION:Wade Administration Building 
SUMMARY:Board of Education Meeting
END:VEVENT
BEGIN:VEVENT
DTSTAMP:20260425T151429Z
UID:5cc74f5b-074f-4be5-a851-7c75d47cead2
DTSTART:20260825T190000
DTEND:20260825T210000
DESCRIPTION:
LOCATION:Wade Administration Building 
SUMMARY:Board of Education Meeting
END:VEVENT
BEGIN:VEVENT
DTSTAMP:20260425T151429Z
UID:d7678bc5-e62c-4086-882a-d55d0a1cd77b
DTSTART:20260915T190000
DTEND:20260915T210000
DESCRIPTION:
LOCATION:Wade Administration Building 
SUMMARY:Board of Education Meeting
END:VEVENT
BEGIN:VEVENT
DTSTAMP:20260425T151429Z
UID:c07ceba4-aedd-42ce-a701-8be343ec228e
DTSTART:20261013T190000
DTEND:20261013T210000
DESCRIPTION:
LOCATION:Wade Administration Building 
SUMMARY:Board of Education Meeting
END:VEVENT
BEGIN:VEVENT
DTSTAMP:20260425T151429Z
UID:aa2a6911-53cc-4a8a-b697-bf3608911166
DTSTART:20261117T190000
DTEND:20261117T210000
DESCRIPTION:
LOCATION:Wade Administration Building 
SUMMARY:Board of Education Meeting
END:VEVENT
BEGIN:VEVENT
DTSTAMP:20260425T151429Z
UID:f04b1ffd-ba2e-4fcc-af1d-ce861ba60a05
DTSTART:20261215T190000
DTEND:20261215T210000
DESCRIPTION:
LOCATION:Wade Administration Building 
SUMMARY:Board of Education Meeting
END:VEVENT
BEGIN:VEVENT
DTSTAMP:20260425T151429Z
UID:1a4fa37d-450c-48d7-8dd2-72519f56725d
DTSTART:20270105T190000
DTEND:20270105T210000
DESCRIPTION:
LOCATION:Wade Administration Building 
SUMMARY:Board of Education Reorganization Meeting
END:VEVENT
END:VCALENDAR
