BEGIN:VCALENDAR
VERSION:2.0
PRODID:icalendar-ruby
CALSCALE:GREGORIAN
BEGIN:VTIMEZONE
TZID:America/New_York
BEGIN:DAYLIGHT
DTSTART:20260308T030000
TZOFFSETFROM:-0500
TZOFFSETTO:-0400
RRULE:FREQ=YEARLY;BYDAY=2SU;BYMONTH=3
TZNAME:EDT
END:DAYLIGHT
BEGIN:STANDARD
DTSTART:20261101T010000
TZOFFSETFROM:-0400
TZOFFSETTO:-0500
RRULE:FREQ=YEARLY;BYDAY=1SU;BYMONTH=11
TZNAME:EST
END:STANDARD
END:VTIMEZONE
BEGIN:VEVENT
DTSTAMP:20260421T073522Z
UID:5054eb69-d6cb-4d6c-b8f1-18ec350dedcf
DTSTART;VALUE=DATE:20260429
DTEND;VALUE=DATE:20260430
DESCRIPTION:
LOCATION:
SUMMARY:Progress Reports Available
END:VEVENT
BEGIN:VEVENT
DTSTAMP:20260421T073522Z
UID:b605c71f-35a4-45e9-ac7c-05a11d05a0fc
DTSTART;VALUE=DATE:20260522
DTEND;VALUE=DATE:20260523
DESCRIPTION:
LOCATION:
SUMMARY:Graduation
END:VEVENT
BEGIN:VEVENT
DTSTAMP:20260421T073522Z
UID:aa17c8d1-483f-4cdd-81e7-8fda64d10ab6
DTSTART;VALUE=DATE:20260525
DTEND;VALUE=DATE:20260526
DESCRIPTION:
LOCATION:
SUMMARY:School Closed: Memorial Day
END:VEVENT
BEGIN:VEVENT
DTSTAMP:20260421T073522Z
UID:0658dbe1-28ba-464e-a961-c067f9a0da73
DTSTART;VALUE=DATE:20260529
DTEND;VALUE=DATE:20260530
DESCRIPTION:
LOCATION:
SUMMARY:Early Release 11:15 a.m.: Last Day for Students
END:VEVENT
BEGIN:VEVENT
DTSTAMP:20260421T073522Z
UID:4efbbd28-9904-4e97-a847-a7d488b91687
DTSTART;VALUE=DATE:20260529
DTEND;VALUE=DATE:20260530
DESCRIPTION:
LOCATION:
SUMMARY:Quarter 4 Ends
END:VEVENT
BEGIN:VEVENT
DTSTAMP:20260421T073522Z
UID:e6a1c89f-721a-47d5-8b80-ff745abe1146
DTSTART;VALUE=DATE:20260604
DTEND;VALUE=DATE:20260605
DESCRIPTION:
LOCATION:
SUMMARY:Report Cards Available
END:VEVENT
END:VCALENDAR
