BEGIN:VCALENDAR
VERSION:2.0
PRODID:icalendar-ruby
CALSCALE:GREGORIAN
BEGIN:VTIMEZONE
TZID:America/Chicago
BEGIN:DAYLIGHT
DTSTART:20260308T030000
TZOFFSETFROM:-0600
TZOFFSETTO:-0500
RRULE:FREQ=YEARLY;BYDAY=2SU;BYMONTH=3
TZNAME:CDT
END:DAYLIGHT
BEGIN:STANDARD
DTSTART:20261101T010000
TZOFFSETFROM:-0500
TZOFFSETTO:-0600
RRULE:FREQ=YEARLY;BYDAY=1SU;BYMONTH=11
TZNAME:CST
END:STANDARD
END:VTIMEZONE
BEGIN:VEVENT
DTSTAMP:20260419T125549Z
UID:2e30575e-d909-492a-9435-9b02a1249eb2
DTSTART;VALUE=DATE:20260420
DTEND;VALUE=DATE:20260421
DESCRIPTION:<p>EISD Enrollment for the 2026-2027 school year is now open. <
 /p><p>Make sure you save your student's spot at the campus of their choosi
 ng: <a target="_blank" rel="noopener noreferrer nofollow" href="https://ww
 w.eisd.net/page/enrollment">https://www.eisd.net/page/enrollment</a></p>
LOCATION:
SUMMARY:2026-2027 Enrollment Now Open
END:VEVENT
BEGIN:VEVENT
DTSTAMP:20260419T125549Z
UID:d75649e7-d565-47e8-94d6-f3f1eb9e7128
DTSTART;VALUE=DATE:20260421
DTEND;VALUE=DATE:20260422
DESCRIPTION:<p>High School: EOC US History</p><p>Middle School: Science\, G
 rade 8 and EOC Biology Grade 8</p><p>Elementary School: Science\, Grade 5<
 /p>
LOCATION:
SUMMARY:STAAR Testing: High School\, Middle School & Elementary School
END:VEVENT
BEGIN:VEVENT
DTSTAMP:20260419T125549Z
UID:1b9d0448-0c85-4e18-b998-25456225eced
DTSTART:20260421T100000
DTEND:20260421T110000
DESCRIPTION:<p>Room 101  </p><p></p><p>Come meet &amp\; talk with EISD Spec
 ial Education Director Jennifer Bernal</p>
LOCATION:534 Cordelia St building 2\, San Antonio\, TX 78237\, USA
SUMMARY:Donuts with the Special Education Director
END:VEVENT
BEGIN:VEVENT
DTSTAMP:20260419T125549Z
UID:1900df94-b8ab-4063-91b3-b68f7a0e6a9f
DTSTART:20260421T180000
DTEND:20260421T200000
DESCRIPTION:
LOCATION:1930 Herbert Ln\, San Antonio\, TX 78227\, USA
SUMMARY:EISD Board of Trustees Meeting (Regular Meeting)
END:VEVENT
BEGIN:VEVENT
DTSTAMP:20260419T125549Z
UID:f3e5779c-10f7-4efd-9767-4a83f3f37fbc
DTSTART;VALUE=DATE:20260422
DTEND;VALUE=DATE:20260423
DESCRIPTION:<p>Middle Schools: Social Studies\, Grade 8 and EOC US History\
 , Grade 8</p>
LOCATION:
SUMMARY:STAAR Testing: Middle School
END:VEVENT
BEGIN:VEVENT
DTSTAMP:20260419T125549Z
UID:5423bca3-b910-4703-83bd-c2d9a7769ec7
DTSTART:20260423T173000
DTEND:20260423T183000
DESCRIPTION:<p>Room 101</p>
LOCATION:534 Cordelia St building 2\, San Antonio\, TX 78237\, USA
SUMMARY:Building Communication & Independence: Parent Training for Autism a
 nd Low Incidence Disabilites
END:VEVENT
BEGIN:VEVENT
DTSTAMP:20260419T125549Z
UID:d05be3c3-639d-425a-9b39-b97868cb3327
DTSTART;VALUE=DATE:20260424
DTEND;VALUE=DATE:20260425
DESCRIPTION:
LOCATION:
SUMMARY:EISD Student/Staff Holiday
END:VEVENT
BEGIN:VEVENT
DTSTAMP:20260419T125549Z
UID:d74a0003-5b6a-45b9-97d0-9515c9501be2
DTSTART;VALUE=DATE:20260427
DTEND;VALUE=DATE:20260428
DESCRIPTION:<p>EISD Enrollment for the 2026-2027 school year is now open. <
 /p><p>Make sure you save your student's spot at the campus of their choosi
 ng: <a target="_blank" rel="noopener noreferrer nofollow" href="https://ww
 w.eisd.net/page/enrollment">https://www.eisd.net/page/enrollment</a></p>
LOCATION:
SUMMARY:2026-2027 Enrollment Now Open
END:VEVENT
BEGIN:VEVENT
DTSTAMP:20260419T125549Z
UID:41f3bcba-0cb3-484f-a1f8-4c9dc62fb0c5
DTSTART;VALUE=DATE:20260428
DTEND;VALUE=DATE:20260429
DESCRIPTION:<p>High Schools: EOC Algebra I</p><p>Middle Schools: Math Grade
 s 6-8\, EOC Algebra I</p><p>Elementary Schools: Math Grades 3-5</p>
LOCATION:
SUMMARY:STAAR Testing: High School\, Middle School & Elementary School
END:VEVENT
BEGIN:VEVENT
DTSTAMP:20260419T125549Z
UID:d90b1433-30ec-4bcd-88b4-23274038ccd9
DTSTART;VALUE=DATE:20260504
DTEND;VALUE=DATE:20260505
DESCRIPTION:<p>EISD Enrollment for the 2026-2027 school year is now open. <
 /p><p>Make sure you save your student's spot at the campus of their choosi
 ng: <a target="_blank" rel="noopener noreferrer nofollow" href="https://ww
 w.eisd.net/page/enrollment">https://www.eisd.net/page/enrollment</a></p>
LOCATION:
SUMMARY:2026-2027 Enrollment Now Open
END:VEVENT
BEGIN:VEVENT
DTSTAMP:20260419T125549Z
UID:333a2703-ae05-44d5-bffb-158a94086e84
DTSTART:20260506T100000
DTEND:20260506T110000
DESCRIPTION:<p>Room 101</p>
LOCATION:534 Cordelia St building 2\, San Antonio\, TX 78237\, USA
SUMMARY:Special Education Parent Training Series: Building Community Connec
 tions for Teens
END:VEVENT
BEGIN:VEVENT
DTSTAMP:20260419T125549Z
UID:2711ef67-3937-43c5-a1d5-fbf0cac8752e
DTSTART:20260507T130000
DTEND:20260507T150000
DESCRIPTION:<p>Room 101</p>
LOCATION:534 Cordelia St building 2\, San Antonio\, TX 78237\, USA
SUMMARY:ABA Parent Training Seriesunctional Communication Training (Special
  Education Department) 
END:VEVENT
BEGIN:VEVENT
DTSTAMP:20260419T125549Z
UID:6dff3be7-5acd-4595-a0fa-a81b8cfc293c
DTSTART:20260507T163000
DTEND:20260507T180000
DESCRIPTION:<p><span>Connect with community resources\, celebrate emerging 
 talent\, and enjoy an evening with Edgewood ISD!</span></p>
LOCATION:607 SW 34th St\, San Antonio\, TX 78237\, USA
SUMMARY:EISD Unidos Resource Fair & EISD Emerging Talent of Edgewood 
END:VEVENT
BEGIN:VEVENT
DTSTAMP:20260419T125549Z
UID:317482ed-dff2-467b-a62f-901e45dbc094
DTSTART:20260519T180000
DTEND:20260519T200000
DESCRIPTION:
LOCATION:1930 Herbert Ln\, San Antonio\, TX 78227\, USA
SUMMARY:EISD Board of Trustees Meeting (Regular Meeting)
END:VEVENT
BEGIN:VEVENT
DTSTAMP:20260419T125549Z
UID:493a3e29-2744-4bd1-b867-9eb7b8f11654
DTSTART;VALUE=DATE:20260525
DTEND;VALUE=DATE:20260526
DESCRIPTION:
LOCATION:
SUMMARY:Memorial Day Holiday (Students & Staff)
END:VEVENT
BEGIN:VEVENT
DTSTAMP:20260419T125549Z
UID:0ca73796-1da8-41f8-b652-b030d7a77e34
DTSTART:20260527T150000
DTEND:20260527T170000
DESCRIPTION:
LOCATION:402 Lance St\, San Antonio\, TX 78237\, USA
SUMMARY:Learn 4 Life Edgewood Graduation
END:VEVENT
BEGIN:VEVENT
DTSTAMP:20260419T125549Z
UID:12039c73-b5c1-49a1-a680-f69a0ad9973e
DTSTART;VALUE=DATE:20260528
DTEND;VALUE=DATE:20260529
DESCRIPTION:
LOCATION:
SUMMARY:Last Day of 2025-2026 School Year (Students)
END:VEVENT
BEGIN:VEVENT
DTSTAMP:20260419T125549Z
UID:61496d45-318f-4b60-90b1-d11060b9a210
DTSTART;VALUE=DATE:20260529
DTEND;VALUE=DATE:20260530
DESCRIPTION:
LOCATION:
SUMMARY:Last Day of 2025-2026 School Year (Teachers)
END:VEVENT
BEGIN:VEVENT
DTSTAMP:20260419T125549Z
UID:c291d910-2ce8-4bde-9e96-8e79ec0fa44f
DTSTART:20260529T203000
DTEND:20260529T230000
DESCRIPTION:
LOCATION:1650 W Thompson Pl\, San Antonio\, TX 78226\, USA
SUMMARY:Kennedy High School Class of 2026 Graduation
END:VEVENT
BEGIN:VEVENT
DTSTAMP:20260419T125549Z
UID:65798a45-aef5-4890-8797-bb07f720b888
DTSTART:20260601T140000
DTEND:20260601T160000
DESCRIPTION:
LOCATION:402 Lance St\, San Antonio\, TX 78237\, USA
SUMMARY:Edgewood Fine Arts Academy Class of 2026 Graduation
END:VEVENT
BEGIN:VEVENT
DTSTAMP:20260419T125549Z
UID:fa25eb31-ae7a-4a59-b96f-2e8589175141
DTSTART:20260601T203000
DTEND:20260601T230000
DESCRIPTION:
LOCATION:1650 W Thompson Pl\, San Antonio\, TX 78226\, USA
SUMMARY:Memorial High School Class of 2026 Graduation
END:VEVENT
BEGIN:VEVENT
DTSTAMP:20260419T125549Z
UID:af936d36-a251-4d20-b390-2c2e30aa74c1
DTSTART:20260616T180000
DTEND:20260616T200000
DESCRIPTION:
LOCATION:1930 Herbert Ln\, San Antonio\, TX 78227\, USA
SUMMARY:EISD Board of Trustees Meeting (Regular Meeting)
END:VEVENT
BEGIN:VEVENT
DTSTAMP:20260419T125549Z
UID:e137679b-0dd9-4707-b3c1-233f0eac40a3
DTSTART;VALUE=DATE:20260619
DTEND;VALUE=DATE:20260620
DESCRIPTION:
LOCATION:
SUMMARY:EISD District Holiday: Juneteenth
END:VEVENT
BEGIN:VEVENT
DTSTAMP:20260419T125549Z
UID:2403c3fb-e57e-46ca-aef4-1cbcab12d099
DTSTART;VALUE=DATE:20260703
DTEND;VALUE=DATE:20260704
DESCRIPTION:
LOCATION:
SUMMARY:EISD Student/Staff Holiday: July 4th
END:VEVENT
BEGIN:VEVENT
DTSTAMP:20260419T125549Z
UID:20b59cb4-abde-4e18-8bf2-a843372932da
DTSTART;VALUE=DATE:20260803
DTEND;VALUE=DATE:20260808
DESCRIPTION:
LOCATION:
SUMMARY:EISD Staff Development 
END:VEVENT
BEGIN:VEVENT
DTSTAMP:20260419T125549Z
UID:8b625367-fa94-4f13-a8fd-9f7fc34aa2b4
DTSTART;VALUE=DATE:20260810
DTEND;VALUE=DATE:20260811
DESCRIPTION:
LOCATION:
SUMMARY:EISD Staff Development 
END:VEVENT
BEGIN:VEVENT
DTSTAMP:20260419T125549Z
UID:252757ee-458a-4ce8-9cba-407906bf7358
DTSTART;VALUE=DATE:20260811
DTEND;VALUE=DATE:20260812
DESCRIPTION:
LOCATION:
SUMMARY:First Day of the 2026-2027 School Year
END:VEVENT
BEGIN:VEVENT
DTSTAMP:20260419T125549Z
UID:85b3d7c1-55c0-4077-896c-04cb5e918203
DTSTART;VALUE=DATE:20260907
DTEND;VALUE=DATE:20260908
DESCRIPTION:
LOCATION:
SUMMARY:EISD Student/Staff Holiday
END:VEVENT
BEGIN:VEVENT
DTSTAMP:20260419T125549Z
UID:50333319-604f-42a1-b283-536c005bc434
DTSTART;VALUE=DATE:20260918
DTEND;VALUE=DATE:20260919
DESCRIPTION:
LOCATION:
SUMMARY:Student Holiday/Staff Development
END:VEVENT
BEGIN:VEVENT
DTSTAMP:20260419T125549Z
UID:d99e5dc4-9011-4a1a-a5fd-d2aaba710f6f
DTSTART;VALUE=DATE:20261009
DTEND;VALUE=DATE:20261010
DESCRIPTION:
LOCATION:
SUMMARY:Student Holiday/Staff Development
END:VEVENT
BEGIN:VEVENT
DTSTAMP:20260419T125549Z
UID:4db03b58-b917-472a-80be-18df3cf76ad1
DTSTART;VALUE=DATE:20261012
DTEND;VALUE=DATE:20261013
DESCRIPTION:
LOCATION:
SUMMARY:Student/Staff Holiday
END:VEVENT
BEGIN:VEVENT
DTSTAMP:20260419T125549Z
UID:9b8fd57f-d09f-41ea-aad9-3d9a723f0418
DTSTART;VALUE=DATE:20261102
DTEND;VALUE=DATE:20261103
DESCRIPTION:
LOCATION:
SUMMARY:Student Holiday/Staff Development
END:VEVENT
BEGIN:VEVENT
DTSTAMP:20260419T125549Z
UID:c003877d-c7a1-45d9-bf52-fd0e08d5356c
DTSTART;VALUE=DATE:20261123
DTEND;VALUE=DATE:20261128
DESCRIPTION:
LOCATION:
SUMMARY:EISD Thanksgiving Break
END:VEVENT
BEGIN:VEVENT
DTSTAMP:20260419T125549Z
UID:8c48e38a-14a5-4c4d-a5fc-4e7b407fb8f8
DTSTART;VALUE=DATE:20261221
DTEND;VALUE=DATE:20270102
DESCRIPTION:
LOCATION:
SUMMARY:Winter Break
END:VEVENT
BEGIN:VEVENT
DTSTAMP:20260419T125549Z
UID:0c5da265-ad12-4425-9ad4-b9cc8ca4a800
DTSTART;VALUE=DATE:20270101
DTEND;VALUE=DATE:20270102
DESCRIPTION:
LOCATION:
SUMMARY:Happy birthday!
END:VEVENT
BEGIN:VEVENT
DTSTAMP:20260419T125549Z
UID:835a0750-90bc-4cd6-845a-5232348d0882
DTSTART;VALUE=DATE:20270104
DTEND;VALUE=DATE:20270105
DESCRIPTION:
LOCATION:
SUMMARY:Student Holiday/Staff Development
END:VEVENT
BEGIN:VEVENT
DTSTAMP:20260419T125549Z
UID:e45da1ff-a689-4eed-9d08-8559ef9d8385
DTSTART;VALUE=DATE:20270105
DTEND;VALUE=DATE:20270106
DESCRIPTION:
LOCATION:
SUMMARY:First Day of 2026-2027 Second Semester
END:VEVENT
BEGIN:VEVENT
DTSTAMP:20260419T125549Z
UID:52d38f93-0ba0-49cc-8087-612de87a4709
DTSTART;VALUE=DATE:20280101
DTEND;VALUE=DATE:20280102
DESCRIPTION:
LOCATION:
SUMMARY:Happy birthday!
END:VEVENT
BEGIN:VEVENT
DTSTAMP:20260419T125549Z
UID:efab5caa-552c-4cfe-b8ac-1768b836ab6f
DTSTART;VALUE=DATE:20290101
DTEND;VALUE=DATE:20290102
DESCRIPTION:
LOCATION:
SUMMARY:Happy birthday!
END:VEVENT
BEGIN:VEVENT
DTSTAMP:20260419T125549Z
UID:40274d30-f2e5-4fb1-8403-73e7e75ce710
DTSTART;VALUE=DATE:20300101
DTEND;VALUE=DATE:20300102
DESCRIPTION:
LOCATION:
SUMMARY:Happy birthday!
END:VEVENT
BEGIN:VEVENT
DTSTAMP:20260419T125549Z
UID:b49e1d95-1b08-46eb-b424-721fc343a8e4
DTSTART;VALUE=DATE:20310101
DTEND;VALUE=DATE:20310102
DESCRIPTION:
LOCATION:
SUMMARY:Happy birthday!
END:VEVENT
BEGIN:VEVENT
DTSTAMP:20260419T125549Z
UID:ed8b5ccc-9989-4c5c-97de-578e7bef3b06
DTSTART;VALUE=DATE:20320101
DTEND;VALUE=DATE:20320102
DESCRIPTION:
LOCATION:
SUMMARY:Happy birthday!
END:VEVENT
BEGIN:VEVENT
DTSTAMP:20260419T125549Z
UID:3e366960-82f6-412e-bb31-b8d21a6ce1b8
DTSTART;VALUE=DATE:20330101
DTEND;VALUE=DATE:20330102
DESCRIPTION:
LOCATION:
SUMMARY:Happy birthday!
END:VEVENT
BEGIN:VEVENT
DTSTAMP:20260419T125549Z
UID:c90e36f3-ea37-440f-a92c-51c087915dc8
DTSTART;VALUE=DATE:20340101
DTEND;VALUE=DATE:20340102
DESCRIPTION:
LOCATION:
SUMMARY:Happy birthday!
END:VEVENT
BEGIN:VEVENT
DTSTAMP:20260419T125549Z
UID:99a6be94-4e76-4608-9313-df0077011877
DTSTART;VALUE=DATE:20350101
DTEND;VALUE=DATE:20350102
DESCRIPTION:
LOCATION:
SUMMARY:Happy birthday!
END:VEVENT
BEGIN:VEVENT
DTSTAMP:20260419T125549Z
UID:ed381696-da09-420e-bdc0-95158ce202c3
DTSTART;VALUE=DATE:20360101
DTEND;VALUE=DATE:20360102
DESCRIPTION:
LOCATION:
SUMMARY:Happy birthday!
END:VEVENT
BEGIN:VEVENT
DTSTAMP:20260419T125549Z
UID:e25850c5-6102-403b-9c8f-c1c0201c18c5
DTSTART;VALUE=DATE:20370101
DTEND;VALUE=DATE:20370102
DESCRIPTION:
LOCATION:
SUMMARY:Happy birthday!
END:VEVENT
BEGIN:VEVENT
DTSTAMP:20260419T125549Z
UID:ef855609-e43d-47cb-9459-3a30b6a62d1b
DTSTART;VALUE=DATE:20380101
DTEND;VALUE=DATE:20380102
DESCRIPTION:
LOCATION:
SUMMARY:Happy birthday!
END:VEVENT
BEGIN:VEVENT
DTSTAMP:20260419T125549Z
UID:9f2e250a-5e92-4b04-9960-e68c1296623d
DTSTART;VALUE=DATE:20390101
DTEND;VALUE=DATE:20390102
DESCRIPTION:
LOCATION:
SUMMARY:Happy birthday!
END:VEVENT
BEGIN:VEVENT
DTSTAMP:20260419T125549Z
UID:a36eb207-5796-4c67-8737-9e3cea8e02be
DTSTART;VALUE=DATE:20400101
DTEND;VALUE=DATE:20400102
DESCRIPTION:
LOCATION:
SUMMARY:Happy birthday!
END:VEVENT
BEGIN:VEVENT
DTSTAMP:20260419T125549Z
UID:cbff5efd-95fa-40e6-87dd-62123d39775f
DTSTART;VALUE=DATE:20410101
DTEND;VALUE=DATE:20410102
DESCRIPTION:
LOCATION:
SUMMARY:Happy birthday!
END:VEVENT
BEGIN:VEVENT
DTSTAMP:20260419T125549Z
UID:2189840c-602e-4304-9ae2-373118c7cdf1
DTSTART;VALUE=DATE:20420101
DTEND;VALUE=DATE:20420102
DESCRIPTION:
LOCATION:
SUMMARY:Happy birthday!
END:VEVENT
BEGIN:VEVENT
DTSTAMP:20260419T125549Z
UID:fc988786-b473-4856-873a-9c02418fb08c
DTSTART;VALUE=DATE:20430101
DTEND;VALUE=DATE:20430102
DESCRIPTION:
LOCATION:
SUMMARY:Happy birthday!
END:VEVENT
BEGIN:VEVENT
DTSTAMP:20260419T125549Z
UID:af8f0efa-61c5-4917-aeed-e873cfa6a52f
DTSTART;VALUE=DATE:20440101
DTEND;VALUE=DATE:20440102
DESCRIPTION:
LOCATION:
SUMMARY:Happy birthday!
END:VEVENT
BEGIN:VEVENT
DTSTAMP:20260419T125549Z
UID:c81a7dac-4473-4618-be1a-64491076b915
DTSTART;VALUE=DATE:20450101
DTEND;VALUE=DATE:20450102
DESCRIPTION:
LOCATION:
SUMMARY:Happy birthday!
END:VEVENT
BEGIN:VEVENT
DTSTAMP:20260419T125549Z
UID:801a45df-d0f9-4d1b-9f6a-1ae2611c4057
DTSTART;VALUE=DATE:20460101
DTEND;VALUE=DATE:20460102
DESCRIPTION:
LOCATION:
SUMMARY:Happy birthday!
END:VEVENT
BEGIN:VEVENT
DTSTAMP:20260419T125549Z
UID:63429b48-d1a9-4699-8203-68eab7f21d48
DTSTART;VALUE=DATE:20470101
DTEND;VALUE=DATE:20470102
DESCRIPTION:
LOCATION:
SUMMARY:Happy birthday!
END:VEVENT
BEGIN:VEVENT
DTSTAMP:20260419T125549Z
UID:09162eec-cdec-49a2-b002-63568bcca5e8
DTSTART;VALUE=DATE:20480101
DTEND;VALUE=DATE:20480102
DESCRIPTION:
LOCATION:
SUMMARY:Happy birthday!
END:VEVENT
BEGIN:VEVENT
DTSTAMP:20260419T125549Z
UID:f0f89c9e-37c0-4447-9824-d9cbb97990d9
DTSTART;VALUE=DATE:20490101
DTEND;VALUE=DATE:20490102
DESCRIPTION:
LOCATION:
SUMMARY:Happy birthday!
END:VEVENT
BEGIN:VEVENT
DTSTAMP:20260419T125549Z
UID:94cb7a78-3a10-4156-94f4-b08069c2d2ad
DTSTART;VALUE=DATE:20500101
DTEND;VALUE=DATE:20500102
DESCRIPTION:
LOCATION:
SUMMARY:Happy birthday!
END:VEVENT
BEGIN:VEVENT
DTSTAMP:20260419T125549Z
UID:42602f13-4e3c-4291-af8a-c376673485ba
DTSTART;VALUE=DATE:20510101
DTEND;VALUE=DATE:20510102
DESCRIPTION:
LOCATION:
SUMMARY:Happy birthday!
END:VEVENT
BEGIN:VEVENT
DTSTAMP:20260419T125549Z
UID:fc607f3b-721f-4495-b5f4-1bafd14e50e9
DTSTART;VALUE=DATE:20520101
DTEND;VALUE=DATE:20520102
DESCRIPTION:
LOCATION:
SUMMARY:Happy birthday!
END:VEVENT
BEGIN:VEVENT
DTSTAMP:20260419T125549Z
UID:89000419-a2c7-4d1d-a499-e5d6a5ccfbd9
DTSTART;VALUE=DATE:20530101
DTEND;VALUE=DATE:20530102
DESCRIPTION:
LOCATION:
SUMMARY:Happy birthday!
END:VEVENT
BEGIN:VEVENT
DTSTAMP:20260419T125549Z
UID:f21d047a-c46a-41f9-9167-57a1ff5d1780
DTSTART;VALUE=DATE:20540101
DTEND;VALUE=DATE:20540102
DESCRIPTION:
LOCATION:
SUMMARY:Happy birthday!
END:VEVENT
BEGIN:VEVENT
DTSTAMP:20260419T125549Z
UID:f59610b1-1473-466e-9fa5-546d428be10f
DTSTART;VALUE=DATE:20550101
DTEND;VALUE=DATE:20550102
DESCRIPTION:
LOCATION:
SUMMARY:Happy birthday!
END:VEVENT
BEGIN:VEVENT
DTSTAMP:20260419T125549Z
UID:7c0d07ef-c121-4480-8fb4-d3a3802e2484
DTSTART;VALUE=DATE:20560101
DTEND;VALUE=DATE:20560102
DESCRIPTION:
LOCATION:
SUMMARY:Happy birthday!
END:VEVENT
BEGIN:VEVENT
DTSTAMP:20260419T125549Z
UID:934886c0-1ff0-4d2e-ba7e-d3166cdf8276
DTSTART;VALUE=DATE:20570101
DTEND;VALUE=DATE:20570102
DESCRIPTION:
LOCATION:
SUMMARY:Happy birthday!
END:VEVENT
BEGIN:VEVENT
DTSTAMP:20260419T125549Z
UID:651c8c95-c8f0-4d39-8468-4c59203c8874
DTSTART;VALUE=DATE:20580101
DTEND;VALUE=DATE:20580102
DESCRIPTION:
LOCATION:
SUMMARY:Happy birthday!
END:VEVENT
BEGIN:VEVENT
DTSTAMP:20260419T125549Z
UID:e2dcba8f-3173-4d5b-979f-f2a60c1ba07e
DTSTART;VALUE=DATE:20590101
DTEND;VALUE=DATE:20590102
DESCRIPTION:
LOCATION:
SUMMARY:Happy birthday!
END:VEVENT
BEGIN:VEVENT
DTSTAMP:20260419T125549Z
UID:a5f3389c-e4be-43ed-adc1-5406ee77fbad
DTSTART;VALUE=DATE:20600101
DTEND;VALUE=DATE:20600102
DESCRIPTION:
LOCATION:
SUMMARY:Happy birthday!
END:VEVENT
BEGIN:VEVENT
DTSTAMP:20260419T125549Z
UID:6d2dba78-1e0f-430b-ac9b-364c379995c1
DTSTART;VALUE=DATE:20610101
DTEND;VALUE=DATE:20610102
DESCRIPTION:
LOCATION:
SUMMARY:Happy birthday!
END:VEVENT
BEGIN:VEVENT
DTSTAMP:20260419T125549Z
UID:41bc47f4-aaac-48b4-891f-89a55e2dc9a2
DTSTART;VALUE=DATE:20620101
DTEND;VALUE=DATE:20620102
DESCRIPTION:
LOCATION:
SUMMARY:Happy birthday!
END:VEVENT
BEGIN:VEVENT
DTSTAMP:20260419T125549Z
UID:c4ebf60d-6fd5-40ad-b6e0-570e85b69cd9
DTSTART;VALUE=DATE:20630101
DTEND;VALUE=DATE:20630102
DESCRIPTION:
LOCATION:
SUMMARY:Happy birthday!
END:VEVENT
BEGIN:VEVENT
DTSTAMP:20260419T125549Z
UID:5f052d33-8e6a-42b2-9aed-b141d5481844
DTSTART;VALUE=DATE:20640101
DTEND;VALUE=DATE:20640102
DESCRIPTION:
LOCATION:
SUMMARY:Happy birthday!
END:VEVENT
BEGIN:VEVENT
DTSTAMP:20260419T125549Z
UID:91b115f0-a737-4265-8c3e-7546e7fe36d0
DTSTART;VALUE=DATE:20650101
DTEND;VALUE=DATE:20650102
DESCRIPTION:
LOCATION:
SUMMARY:Happy birthday!
END:VEVENT
BEGIN:VEVENT
DTSTAMP:20260419T125549Z
UID:4aa2b775-3fb1-43b8-99ed-7679cbd7570c
DTSTART;VALUE=DATE:20660101
DTEND;VALUE=DATE:20660102
DESCRIPTION:
LOCATION:
SUMMARY:Happy birthday!
END:VEVENT
BEGIN:VEVENT
DTSTAMP:20260419T125549Z
UID:3ac21cc2-ddf5-496d-82e4-0c217faa5536
DTSTART;VALUE=DATE:20670101
DTEND;VALUE=DATE:20670102
DESCRIPTION:
LOCATION:
SUMMARY:Happy birthday!
END:VEVENT
BEGIN:VEVENT
DTSTAMP:20260419T125549Z
UID:9563e8c8-b9b0-46ef-914d-5251d0c186b4
DTSTART;VALUE=DATE:20680101
DTEND;VALUE=DATE:20680102
DESCRIPTION:
LOCATION:
SUMMARY:Happy birthday!
END:VEVENT
BEGIN:VEVENT
DTSTAMP:20260419T125549Z
UID:5aece284-3c69-476b-9a43-d5e35da16199
DTSTART;VALUE=DATE:20690101
DTEND;VALUE=DATE:20690102
DESCRIPTION:
LOCATION:
SUMMARY:Happy birthday!
END:VEVENT
BEGIN:VEVENT
DTSTAMP:20260419T125549Z
UID:a1c537ab-e306-4b90-a9c5-48a29fea01fb
DTSTART;VALUE=DATE:20700101
DTEND;VALUE=DATE:20700102
DESCRIPTION:
LOCATION:
SUMMARY:Happy birthday!
END:VEVENT
BEGIN:VEVENT
DTSTAMP:20260419T125549Z
UID:469407b8-3986-4b5c-bafe-95bbb613f781
DTSTART;VALUE=DATE:20710101
DTEND;VALUE=DATE:20710102
DESCRIPTION:
LOCATION:
SUMMARY:Happy birthday!
END:VEVENT
BEGIN:VEVENT
DTSTAMP:20260419T125549Z
UID:487f3e07-445a-4352-889b-ec9a201c7cbe
DTSTART;VALUE=DATE:20720101
DTEND;VALUE=DATE:20720102
DESCRIPTION:
LOCATION:
SUMMARY:Happy birthday!
END:VEVENT
BEGIN:VEVENT
DTSTAMP:20260419T125549Z
UID:aede8a8b-e41b-4706-8e75-4165e07131a4
DTSTART;VALUE=DATE:20730101
DTEND;VALUE=DATE:20730102
DESCRIPTION:
LOCATION:
SUMMARY:Happy birthday!
END:VEVENT
BEGIN:VEVENT
DTSTAMP:20260419T125549Z
UID:e65cb62c-7b08-4696-be1d-427ab31fb116
DTSTART;VALUE=DATE:20740101
DTEND;VALUE=DATE:20740102
DESCRIPTION:
LOCATION:
SUMMARY:Happy birthday!
END:VEVENT
BEGIN:VEVENT
DTSTAMP:20260419T125549Z
UID:17104e62-892f-495a-aa40-8284aff0969c
DTSTART;VALUE=DATE:20750101
DTEND;VALUE=DATE:20750102
DESCRIPTION:
LOCATION:
SUMMARY:Happy birthday!
END:VEVENT
BEGIN:VEVENT
DTSTAMP:20260419T125549Z
UID:2cbd8d0a-74d1-404f-8da4-e6b8ad1cd159
DTSTART;VALUE=DATE:20760101
DTEND;VALUE=DATE:20760102
DESCRIPTION:
LOCATION:
SUMMARY:Happy birthday!
END:VEVENT
BEGIN:VEVENT
DTSTAMP:20260419T125549Z
UID:0a5e804d-7daf-458a-b264-1aab38db8a2e
DTSTART;VALUE=DATE:20770101
DTEND;VALUE=DATE:20770102
DESCRIPTION:
LOCATION:
SUMMARY:Happy birthday!
END:VEVENT
BEGIN:VEVENT
DTSTAMP:20260419T125549Z
UID:00b2eda4-92ad-4839-a007-7303aed428a8
DTSTART;VALUE=DATE:20780101
DTEND;VALUE=DATE:20780102
DESCRIPTION:
LOCATION:
SUMMARY:Happy birthday!
END:VEVENT
BEGIN:VEVENT
DTSTAMP:20260419T125549Z
UID:fae0b671-a868-48d9-8bb1-0d47aab96a50
DTSTART;VALUE=DATE:20790101
DTEND;VALUE=DATE:20790102
DESCRIPTION:
LOCATION:
SUMMARY:Happy birthday!
END:VEVENT
BEGIN:VEVENT
DTSTAMP:20260419T125549Z
UID:bb05eb0f-d00a-42fe-a8c1-f7d1558b6e1c
DTSTART;VALUE=DATE:20800101
DTEND;VALUE=DATE:20800102
DESCRIPTION:
LOCATION:
SUMMARY:Happy birthday!
END:VEVENT
BEGIN:VEVENT
DTSTAMP:20260419T125549Z
UID:22a2fc23-8607-49b0-b9be-d2bf0afd85d7
DTSTART;VALUE=DATE:20810101
DTEND;VALUE=DATE:20810102
DESCRIPTION:
LOCATION:
SUMMARY:Happy birthday!
END:VEVENT
BEGIN:VEVENT
DTSTAMP:20260419T125549Z
UID:3436b227-d440-487f-afb5-566455b6dc11
DTSTART;VALUE=DATE:20820101
DTEND;VALUE=DATE:20820102
DESCRIPTION:
LOCATION:
SUMMARY:Happy birthday!
END:VEVENT
BEGIN:VEVENT
DTSTAMP:20260419T125549Z
UID:2031e0ad-8a6d-4531-bf91-1ab12a461caf
DTSTART;VALUE=DATE:20830101
DTEND;VALUE=DATE:20830102
DESCRIPTION:
LOCATION:
SUMMARY:Happy birthday!
END:VEVENT
BEGIN:VEVENT
DTSTAMP:20260419T125549Z
UID:92dd5e6b-572a-4821-9235-feeb1d103169
DTSTART;VALUE=DATE:20840101
DTEND;VALUE=DATE:20840102
DESCRIPTION:
LOCATION:
SUMMARY:Happy birthday!
END:VEVENT
BEGIN:VEVENT
DTSTAMP:20260419T125549Z
UID:9f3c076d-5897-4189-a319-7170b7fec536
DTSTART;VALUE=DATE:20850101
DTEND;VALUE=DATE:20850102
DESCRIPTION:
LOCATION:
SUMMARY:Happy birthday!
END:VEVENT
BEGIN:VEVENT
DTSTAMP:20260419T125549Z
UID:0cd8b271-a3d7-428f-88e5-fed743b29934
DTSTART;VALUE=DATE:20860101
DTEND;VALUE=DATE:20860102
DESCRIPTION:
LOCATION:
SUMMARY:Happy birthday!
END:VEVENT
BEGIN:VEVENT
DTSTAMP:20260419T125549Z
UID:a1bfcc8c-2b13-445a-b32c-5622c5af99b7
DTSTART;VALUE=DATE:20870101
DTEND;VALUE=DATE:20870102
DESCRIPTION:
LOCATION:
SUMMARY:Happy birthday!
END:VEVENT
BEGIN:VEVENT
DTSTAMP:20260419T125549Z
UID:781875d5-ed52-40a6-9a7f-a69c84bc79c6
DTSTART;VALUE=DATE:20880101
DTEND;VALUE=DATE:20880102
DESCRIPTION:
LOCATION:
SUMMARY:Happy birthday!
END:VEVENT
BEGIN:VEVENT
DTSTAMP:20260419T125549Z
UID:7a570264-57f7-43eb-8bee-fa4ce9c62099
DTSTART;VALUE=DATE:20890101
DTEND;VALUE=DATE:20890102
DESCRIPTION:
LOCATION:
SUMMARY:Happy birthday!
END:VEVENT
BEGIN:VEVENT
DTSTAMP:20260419T125549Z
UID:aeed4236-5058-45ba-9adf-eb5b058c2e3d
DTSTART;VALUE=DATE:20900101
DTEND;VALUE=DATE:20900102
DESCRIPTION:
LOCATION:
SUMMARY:Happy birthday!
END:VEVENT
BEGIN:VEVENT
DTSTAMP:20260419T125549Z
UID:2ebed1af-2add-4630-a926-86c85831ecab
DTSTART;VALUE=DATE:20910101
DTEND;VALUE=DATE:20910102
DESCRIPTION:
LOCATION:
SUMMARY:Happy birthday!
END:VEVENT
BEGIN:VEVENT
DTSTAMP:20260419T125549Z
UID:c73e385d-bb9a-4b22-aa77-723325b253bc
DTSTART;VALUE=DATE:20920101
DTEND;VALUE=DATE:20920102
DESCRIPTION:
LOCATION:
SUMMARY:Happy birthday!
END:VEVENT
BEGIN:VEVENT
DTSTAMP:20260419T125549Z
UID:0fd1c582-58a0-4e7e-a46f-eab9346e04b7
DTSTART;VALUE=DATE:20930101
DTEND;VALUE=DATE:20930102
DESCRIPTION:
LOCATION:
SUMMARY:Happy birthday!
END:VEVENT
BEGIN:VEVENT
DTSTAMP:20260419T125549Z
UID:d1b04008-85e9-41d3-8a2b-0499ae47fbc1
DTSTART;VALUE=DATE:20940101
DTEND;VALUE=DATE:20940102
DESCRIPTION:
LOCATION:
SUMMARY:Happy birthday!
END:VEVENT
BEGIN:VEVENT
DTSTAMP:20260419T125549Z
UID:4a048c8d-4f93-4a54-87aa-d6fc524f7498
DTSTART;VALUE=DATE:20950101
DTEND;VALUE=DATE:20950102
DESCRIPTION:
LOCATION:
SUMMARY:Happy birthday!
END:VEVENT
BEGIN:VEVENT
DTSTAMP:20260419T125549Z
UID:4d7ca377-ae18-47fb-86d0-50a3b4362b53
DTSTART;VALUE=DATE:20960101
DTEND;VALUE=DATE:20960102
DESCRIPTION:
LOCATION:
SUMMARY:Happy birthday!
END:VEVENT
BEGIN:VEVENT
DTSTAMP:20260419T125549Z
UID:58c9764f-3910-462b-9d36-2d2e049f4905
DTSTART;VALUE=DATE:20970101
DTEND;VALUE=DATE:20970102
DESCRIPTION:
LOCATION:
SUMMARY:Happy birthday!
END:VEVENT
BEGIN:VEVENT
DTSTAMP:20260419T125549Z
UID:5fd208c6-6df8-4587-a570-f772ff9c76ba
DTSTART;VALUE=DATE:20980101
DTEND;VALUE=DATE:20980102
DESCRIPTION:
LOCATION:
SUMMARY:Happy birthday!
END:VEVENT
BEGIN:VEVENT
DTSTAMP:20260419T125549Z
UID:37460019-e818-4de5-937b-8c942e6bceae
DTSTART;VALUE=DATE:20990101
DTEND;VALUE=DATE:20990102
DESCRIPTION:
LOCATION:
SUMMARY:Happy birthday!
END:VEVENT
END:VCALENDAR
