BEGIN:VCALENDAR
VERSION:2.0
PRODID:icalendar-ruby
CALSCALE:GREGORIAN
BEGIN:VTIMEZONE
TZID:America/New_York
BEGIN:DAYLIGHT
DTSTART:20260308T030000
TZOFFSETFROM:-0500
TZOFFSETTO:-0400
RRULE:FREQ=YEARLY;BYDAY=2SU;BYMONTH=3
TZNAME:EDT
END:DAYLIGHT
BEGIN:STANDARD
DTSTART:20261101T010000
TZOFFSETFROM:-0400
TZOFFSETTO:-0500
RRULE:FREQ=YEARLY;BYDAY=1SU;BYMONTH=11
TZNAME:EST
END:STANDARD
END:VTIMEZONE
BEGIN:VEVENT
DTSTAMP:20260420T041812Z
UID:40a5c1e9-fc8f-41ae-bb94-06c43d911c91
DTSTART;VALUE=DATE:20260421
DTEND;VALUE=DATE:20260422
DESCRIPTION:
LOCATION:
SUMMARY:GMAS - ELA Section 1
END:VEVENT
BEGIN:VEVENT
DTSTAMP:20260420T041812Z
UID:d9bb38e8-5261-4ece-95f9-49a8d41fe0a1
DTSTART:20260421T160000
DTEND:20260421T170000
DESCRIPTION:
LOCATION:
SUMMARY:Flag Football @ PGM (Valdosta)
END:VEVENT
BEGIN:VEVENT
DTSTAMP:20260420T041812Z
UID:590cb011-79f9-4beb-9218-b2c37f1f7959
DTSTART;VALUE=DATE:20260422
DTEND;VALUE=DATE:20260423
DESCRIPTION:
LOCATION:
SUMMARY:GMAS - ELA Section 2
END:VEVENT
BEGIN:VEVENT
DTSTAMP:20260420T041812Z
UID:7e850055-c6a7-45b0-bad6-dbd14d4745be
DTSTART;VALUE=DATE:20260423
DTEND;VALUE=DATE:20260424
DESCRIPTION:
LOCATION:
SUMMARY:GMAS - ELA Section 3
END:VEVENT
BEGIN:VEVENT
DTSTAMP:20260420T041812Z
UID:4291b487-796c-44f8-950f-3bcea97d5a11
DTSTART:20260423T153000
DTEND:20260423T173000
DESCRIPTION:
LOCATION:
SUMMARY:Culinary Crusaders (Spring A)
END:VEVENT
BEGIN:VEVENT
DTSTAMP:20260420T041812Z
UID:a7165b3b-ac07-4bf6-b3a4-0a452785f1c3
DTSTART:20260423T160000
DTEND:20260423T170000
DESCRIPTION:
LOCATION:
SUMMARY:Flag Football @ HMS
END:VEVENT
BEGIN:VEVENT
DTSTAMP:20260420T041812Z
UID:bc9c8586-97c9-485f-b5e4-8fa27db00e83
DTSTART;VALUE=DATE:20260424
DTEND;VALUE=DATE:20260426
DESCRIPTION:
LOCATION:
SUMMARY:Chorus Spring Trip
END:VEVENT
BEGIN:VEVENT
DTSTAMP:20260420T041812Z
UID:90b2bfab-8a60-4b2f-8597-b58b9e891afe
DTSTART;VALUE=DATE:20260424
DTEND;VALUE=DATE:20260425
DESCRIPTION:
LOCATION:
SUMMARY:GMAS - Social Studies (8th Only)
END:VEVENT
BEGIN:VEVENT
DTSTAMP:20260420T041812Z
UID:9194c14c-10fb-4227-a3ba-6ce55ae2e5de
DTSTART:20260424T073500
DTEND:20260424T075000
DESCRIPTION:
LOCATION:Media Center
SUMMARY:Y-LEAD Meeting
END:VEVENT
BEGIN:VEVENT
DTSTAMP:20260420T041812Z
UID:037013e2-1562-438c-8510-4b48475878d1
DTSTART;VALUE=DATE:20260428
DTEND;VALUE=DATE:20260429
DESCRIPTION:
LOCATION:
SUMMARY:GMAS - Math Section 1
END:VEVENT
BEGIN:VEVENT
DTSTAMP:20260420T041812Z
UID:cd744ae3-f265-4005-a161-e54dc7f59cdb
DTSTART:20260428T160000
DTEND:20260428T170000
DESCRIPTION:
LOCATION:
SUMMARY:Flag Football @ PGM (Colquitt)
END:VEVENT
BEGIN:VEVENT
DTSTAMP:20260420T041812Z
UID:8da0c3f6-3c7d-493e-8479-1f90aebae275
DTSTART;VALUE=DATE:20260429
DTEND;VALUE=DATE:20260430
DESCRIPTION:
LOCATION:
SUMMARY:GMAS - Math Section 2
END:VEVENT
BEGIN:VEVENT
DTSTAMP:20260420T041812Z
UID:2cdd6866-9f77-4347-b11c-cce90670057e
DTSTART;VALUE=DATE:20260430
DTEND;VALUE=DATE:20260501
DESCRIPTION:
LOCATION:
SUMMARY:GMAS - Science (8th Only)
END:VEVENT
BEGIN:VEVENT
DTSTAMP:20260420T041812Z
UID:44a04c3e-6bbd-45b8-9c94-efb1e3218a31
DTSTART:20260430T153000
DTEND:20260430T173000
DESCRIPTION:
LOCATION:
SUMMARY:Culinary Crusaders (Spring B)
END:VEVENT
BEGIN:VEVENT
DTSTAMP:20260420T041812Z
UID:b764b6af-1b37-43d6-a31c-8f75438886a4
DTSTART;VALUE=DATE:20260501
DTEND;VALUE=DATE:20260502
DESCRIPTION:
LOCATION:
SUMMARY:Wear RED
END:VEVENT
BEGIN:VEVENT
DTSTAMP:20260420T041812Z
UID:6a340f17-2ee9-43b7-ac65-e9ccac209b83
DTSTART;VALUE=DATE:20260502
DTEND;VALUE=DATE:20260503
DESCRIPTION:
LOCATION:
SUMMARY:Flag Football Tournament (Time TBA)
END:VEVENT
BEGIN:VEVENT
DTSTAMP:20260420T041812Z
UID:9ec08f3f-08a8-4eb3-a615-2ffd41de24ea
DTSTART:20260504T183000
DTEND:20260504T193000
DESCRIPTION:
LOCATION:LHS Performing Arts Center
SUMMARY:Band Concert
END:VEVENT
BEGIN:VEVENT
DTSTAMP:20260420T041812Z
UID:d266a5d3-f10f-452e-8a79-4308bbf80341
DTSTART:20260505T180000
DTEND:20260505T190000
DESCRIPTION:
LOCATION:
SUMMARY:Rising 6th Grade Parent Night
END:VEVENT
BEGIN:VEVENT
DTSTAMP:20260420T041812Z
UID:abe940bd-9f34-413f-8d8c-cb59199a0d10
DTSTART:20260506T180000
DTEND:20260506T190000
DESCRIPTION:
LOCATION:Pine Grove Middle Gym 
SUMMARY:Chorus Concert
END:VEVENT
BEGIN:VEVENT
DTSTAMP:20260420T041812Z
UID:e59dd9e5-10b3-452d-822a-beb860732d71
DTSTART:20260507T153000
DTEND:20260507T173000
DESCRIPTION:
LOCATION:
SUMMARY:Culinary Crusaders (Spring A)
END:VEVENT
BEGIN:VEVENT
DTSTAMP:20260420T041812Z
UID:d2158636-8cb0-4c1a-88e9-f8af904287c3
DTSTART;VALUE=DATE:20260508
DTEND;VALUE=DATE:20260509
DESCRIPTION:
LOCATION:
SUMMARY:All Library Books Due
END:VEVENT
BEGIN:VEVENT
DTSTAMP:20260420T041812Z
UID:82d6c95b-cf99-44e1-bbb2-773510bc72b0
DTSTART;VALUE=DATE:20260508
DTEND;VALUE=DATE:20260509
DESCRIPTION:
LOCATION:
SUMMARY:Kona Ice
END:VEVENT
BEGIN:VEVENT
DTSTAMP:20260420T041812Z
UID:fe80aa7e-76ac-4ab7-b6a8-d015f704ac33
DTSTART:20260508T073500
DTEND:20260508T075000
DESCRIPTION:
LOCATION:Media Center
SUMMARY:Y-LEAD Meeting
END:VEVENT
BEGIN:VEVENT
DTSTAMP:20260420T041812Z
UID:3cc8b19a-1256-43e7-a4e8-5a8cf42241f0
DTSTART:20260511T160000
DTEND:20260511T173000
DESCRIPTION:
LOCATION:
SUMMARY:North Lowndes Softball Tryouts @ HMS
END:VEVENT
BEGIN:VEVENT
DTSTAMP:20260420T041812Z
UID:ca3e5c6d-cd61-49a1-8f69-8db998b4c4fc
DTSTART:20260512T160000
DTEND:20260512T173000
DESCRIPTION:
LOCATION:
SUMMARY:North Lowndes Softball Tryouts @ PGM
END:VEVENT
BEGIN:VEVENT
DTSTAMP:20260420T041812Z
UID:5489998c-772c-4ec9-b273-2cb6e4ff3407
DTSTART:20260513T153000
DTEND:20260513T173000
DESCRIPTION:
LOCATION:
SUMMARY:Volleyball Tryouts 
END:VEVENT
BEGIN:VEVENT
DTSTAMP:20260420T041812Z
UID:86ff138b-c309-4846-aa4b-fdd64166b38f
DTSTART:20260514T153000
DTEND:20260514T173000
DESCRIPTION:
LOCATION:
SUMMARY:Culinary Crusaders (Spring B)
END:VEVENT
BEGIN:VEVENT
DTSTAMP:20260420T041812Z
UID:3f54f0fd-5d17-4ca3-b2c5-bff44fcd1dcd
DTSTART:20260514T153000
DTEND:20260514T173000
DESCRIPTION:
LOCATION:
SUMMARY:Volleyball Tryouts 
END:VEVENT
BEGIN:VEVENT
DTSTAMP:20260420T041812Z
UID:ec8476e1-83e6-4b4e-ad2b-d23a80282f49
DTSTART;VALUE=DATE:20260515
DTEND;VALUE=DATE:20260516
DESCRIPTION:
LOCATION:
SUMMARY:Spring Football Scrimmage @ LHS
END:VEVENT
BEGIN:VEVENT
DTSTAMP:20260420T041812Z
UID:dc933f35-ac87-4f9a-97d0-abc804198ca2
DTSTART:20260518T090000
DTEND:20260518T100000
DESCRIPTION:
LOCATION:
SUMMARY:7th Grade Honors Day
END:VEVENT
BEGIN:VEVENT
DTSTAMP:20260420T041812Z
UID:cc63686e-8b18-49a3-bb7d-c70758ca367a
DTSTART:20260518T110000
DTEND:20260518T120000
DESCRIPTION:
LOCATION:
SUMMARY:6th Grade Honors Day
END:VEVENT
BEGIN:VEVENT
DTSTAMP:20260420T041812Z
UID:13184c1c-1c4e-4d55-9d01-e5fe5b73ef28
DTSTART:20260518T180000
DTEND:20260518T190000
DESCRIPTION:
LOCATION:
SUMMARY:8th Grade Honors Night
END:VEVENT
BEGIN:VEVENT
DTSTAMP:20260420T041812Z
UID:40af29e7-fd3b-40d9-8202-3351422ccf8f
DTSTART;VALUE=DATE:20260520
DTEND;VALUE=DATE:20260521
DESCRIPTION:
LOCATION:
SUMMARY:Early Release Day
END:VEVENT
BEGIN:VEVENT
DTSTAMP:20260420T041812Z
UID:3c60c8cd-6a5a-4698-8b69-38d5add3cc1f
DTSTART;VALUE=DATE:20260520
DTEND;VALUE=DATE:20260521
DESCRIPTION:
LOCATION:
SUMMARY:Last Day of School
END:VEVENT
BEGIN:VEVENT
DTSTAMP:20260420T041812Z
UID:5e8c92e0-4dae-4eab-a7f8-27093a1c1fa8
DTSTART;VALUE=DATE:20260520
DTEND;VALUE=DATE:20260521
DESCRIPTION:
LOCATION:
SUMMARY:Report Cards Go Home
END:VEVENT
BEGIN:VEVENT
DTSTAMP:20260420T041812Z
UID:0a99c778-0529-40e9-bd85-756e9cc4067d
DTSTART;VALUE=DATE:20260805
DTEND;VALUE=DATE:20260806
DESCRIPTION:
LOCATION:
SUMMARY:First Day of School
END:VEVENT
BEGIN:VEVENT
DTSTAMP:20260420T041812Z
UID:b9ad8ba4-da7a-4e7e-a902-46c25ba0101f
DTSTART;VALUE=DATE:20260907
DTEND;VALUE=DATE:20260908
DESCRIPTION:
LOCATION:
SUMMARY:Labor Day Holiday
END:VEVENT
BEGIN:VEVENT
DTSTAMP:20260420T041812Z
UID:c9c2e7f7-ad0c-4c9b-9e10-32f216eba861
DTSTART;VALUE=DATE:20260908
DTEND;VALUE=DATE:20260909
DESCRIPTION:
LOCATION:
SUMMARY:Student Holiday
END:VEVENT
BEGIN:VEVENT
DTSTAMP:20260420T041812Z
UID:8f8fd3be-e4b8-418e-8dc8-aa8c49a0491f
DTSTART;VALUE=DATE:20260910
DTEND;VALUE=DATE:20260911
DESCRIPTION:
LOCATION:
SUMMARY:Picture Day
END:VEVENT
BEGIN:VEVENT
DTSTAMP:20260420T041812Z
UID:6ed3b1d5-de01-42e0-9a30-4e9dc2b89a06
DTSTART;VALUE=DATE:20260914
DTEND;VALUE=DATE:20260915
DESCRIPTION:
LOCATION:
SUMMARY:Help a Child Smile Dental Bus on Campus 
END:VEVENT
BEGIN:VEVENT
DTSTAMP:20260420T041812Z
UID:ebda426a-b48e-4496-9416-4301fc2f4c97
DTSTART;VALUE=DATE:20261008
DTEND;VALUE=DATE:20261009
DESCRIPTION:
LOCATION:
SUMMARY:Make-Up Picture Day (Absent/New Students)
END:VEVENT
BEGIN:VEVENT
DTSTAMP:20260420T041812Z
UID:1aee3ab3-2938-433b-841c-1d7ae4ad0ab6
DTSTART;VALUE=DATE:20261012
DTEND;VALUE=DATE:20261014
DESCRIPTION:
LOCATION:
SUMMARY:Fall Break
END:VEVENT
BEGIN:VEVENT
DTSTAMP:20260420T041812Z
UID:0e9a1b70-a091-4ade-9af1-4ceb9b98a27b
DTSTART;VALUE=DATE:20261014
DTEND;VALUE=DATE:20261015
DESCRIPTION:
LOCATION:
SUMMARY:Digital Learning for Students
END:VEVENT
BEGIN:VEVENT
DTSTAMP:20260420T041812Z
UID:fa7f8183-d532-4c31-b40f-abad010cf511
DTSTART;VALUE=DATE:20261109
DTEND;VALUE=DATE:20261114
DESCRIPTION:
LOCATION:
SUMMARY:Book Fair
END:VEVENT
BEGIN:VEVENT
DTSTAMP:20260420T041812Z
UID:86ecfd92-2d4a-4614-a4ff-43cd8701c3ec
DTSTART;VALUE=DATE:20261123
DTEND;VALUE=DATE:20261128
DESCRIPTION:
LOCATION:
SUMMARY:Thanksgiving Holiday
END:VEVENT
BEGIN:VEVENT
DTSTAMP:20260420T041812Z
UID:715b8d7d-d5c9-402b-ba3e-2282f9ee2f34
DTSTART;VALUE=DATE:20261218
DTEND;VALUE=DATE:20261219
DESCRIPTION:
LOCATION:
SUMMARY:Early Release Day
END:VEVENT
BEGIN:VEVENT
DTSTAMP:20260420T041812Z
UID:844850e0-977a-42b7-a0c5-9023e688a800
DTSTART;VALUE=DATE:20261221
DTEND;VALUE=DATE:20270102
DESCRIPTION:
LOCATION:
SUMMARY:Holiday Break
END:VEVENT
BEGIN:VEVENT
DTSTAMP:20260420T041812Z
UID:99daf13f-f21e-4379-aed0-962aa2b41e09
DTSTART;VALUE=DATE:20270104
DTEND;VALUE=DATE:20270105
DESCRIPTION:
LOCATION:
SUMMARY:Student Holiday
END:VEVENT
BEGIN:VEVENT
DTSTAMP:20260420T041812Z
UID:0bd5e154-a391-49d1-9d1b-5245a14bee8d
DTSTART;VALUE=DATE:20270105
DTEND;VALUE=DATE:20270106
DESCRIPTION:
LOCATION:
SUMMARY:Student Holiday
END:VEVENT
BEGIN:VEVENT
DTSTAMP:20260420T041812Z
UID:7b0a7d07-18d9-42f6-b6e1-9d86ace25116
DTSTART;VALUE=DATE:20270106
DTEND;VALUE=DATE:20270107
DESCRIPTION:
LOCATION:
SUMMARY:Students Return to School
END:VEVENT
BEGIN:VEVENT
DTSTAMP:20260420T041812Z
UID:ea48c600-ff84-476d-b5f3-19793a6fc028
DTSTART;VALUE=DATE:20270118
DTEND;VALUE=DATE:20270119
DESCRIPTION:
LOCATION:
SUMMARY:MLK\, Jr. Holiday
END:VEVENT
BEGIN:VEVENT
DTSTAMP:20260420T041812Z
UID:2fec894e-5068-4b16-959d-8e7fd248bbf1
DTSTART;VALUE=DATE:20270212
DTEND;VALUE=DATE:20270213
DESCRIPTION:
LOCATION:
SUMMARY:STEM Career Day 
END:VEVENT
BEGIN:VEVENT
DTSTAMP:20260420T041812Z
UID:7876da10-0327-4a37-9a24-7f6c8b808c1a
DTSTART;VALUE=DATE:20270215
DTEND;VALUE=DATE:20270216
DESCRIPTION:
LOCATION:
SUMMARY:Winter Break
END:VEVENT
BEGIN:VEVENT
DTSTAMP:20260420T041812Z
UID:d8ed79c1-1115-431b-96b6-32874abf170e
DTSTART;VALUE=DATE:20270216
DTEND;VALUE=DATE:20270217
DESCRIPTION:
LOCATION:
SUMMARY:Digital Learning for Students
END:VEVENT
BEGIN:VEVENT
DTSTAMP:20260420T041812Z
UID:e60c21ee-0beb-4bf7-b163-0203e6321cc4
DTSTART;VALUE=DATE:20270329
DTEND;VALUE=DATE:20270403
DESCRIPTION:
LOCATION:
SUMMARY:Spring Break
END:VEVENT
BEGIN:VEVENT
DTSTAMP:20260420T041812Z
UID:cea49f7f-7b3b-49e8-8a90-a8d99b215824
DTSTART;VALUE=DATE:20270521
DTEND;VALUE=DATE:20270522
DESCRIPTION:
LOCATION:
SUMMARY:Early Release Day
END:VEVENT
BEGIN:VEVENT
DTSTAMP:20260420T041812Z
UID:d4aff64d-6786-4ecb-b556-c22af7a48ae0
DTSTART;VALUE=DATE:20270521
DTEND;VALUE=DATE:20270522
DESCRIPTION:
LOCATION:
SUMMARY:Last Day of School
END:VEVENT
END:VCALENDAR
