BEGIN:VCALENDAR
VERSION:2.0
PRODID:icalendar-ruby
CALSCALE:GREGORIAN
BEGIN:VTIMEZONE
TZID:America/Denver
BEGIN:DAYLIGHT
DTSTART:20260308T030000
TZOFFSETFROM:-0700
TZOFFSETTO:-0600
RRULE:FREQ=YEARLY;BYDAY=2SU;BYMONTH=3
TZNAME:MDT
END:DAYLIGHT
BEGIN:STANDARD
DTSTART:20261101T010000
TZOFFSETFROM:-0600
TZOFFSETTO:-0700
RRULE:FREQ=YEARLY;BYDAY=1SU;BYMONTH=11
TZNAME:MST
END:STANDARD
END:VTIMEZONE
BEGIN:VEVENT
DTSTAMP:20260425T034738Z
UID:13a7e932-1df7-46c9-89a4-23c70888c851
DTSTART;VALUE=DATE:20260424
DTEND;VALUE=DATE:20260425
DESCRIPTION:
LOCATION:
SUMMARY:District Music @ Grant
END:VEVENT
BEGIN:VEVENT
DTSTAMP:20260425T034738Z
UID:87c9ac21-18af-402a-94bb-7a2c74504c2f
DTSTART;VALUE=DATE:20260424
DTEND;VALUE=DATE:20260425
DESCRIPTION:
LOCATION:
SUMMARY:FFA Community Service Learning
END:VEVENT
BEGIN:VEVENT
DTSTAMP:20260425T034738Z
UID:ec96b647-c735-4ec3-bffc-6219c06486f2
DTSTART;VALUE=DATE:20260424
DTEND;VALUE=DATE:20260425
DESCRIPTION:
LOCATION:
SUMMARY:Teacher In-Service
END:VEVENT
BEGIN:VEVENT
DTSTAMP:20260425T034738Z
UID:eb658a1e-9f35-46ec-92c0-f844c80ca333
DTSTART:20260427T074500
DTEND:20260427T154500
DESCRIPTION:
LOCATION:
SUMMARY:County Government Day (Jrs & Srs)
END:VEVENT
BEGIN:VEVENT
DTSTAMP:20260425T034738Z
UID:2b4ac483-0094-44a2-af83-533164f69e07
DTSTART:20260427T154500
DTEND:20260427T163000
DESCRIPTION:
LOCATION:
SUMMARY:Kindergarten Registration 
END:VEVENT
BEGIN:VEVENT
DTSTAMP:20260425T034738Z
UID:109e2908-3497-4e70-a111-c42a7499b01d
DTSTART;VALUE=DATE:20260428
DTEND;VALUE=DATE:20260429
DESCRIPTION:
LOCATION:
SUMMARY:JH Track SL @ Arnold
END:VEVENT
BEGIN:VEVENT
DTSTAMP:20260425T034738Z
UID:6c8ad192-2b17-45cf-a95e-672d952169ee
DTSTART:20260428T160000
DTEND:20260428T170000
DESCRIPTION:
LOCATION:
SUMMARY:NHS Highway Clean Up
END:VEVENT
BEGIN:VEVENT
DTSTAMP:20260425T034738Z
UID:f07b1d36-9438-48b7-b776-c85f147db80f
DTSTART;VALUE=DATE:20260429
DTEND;VALUE=DATE:20260430
DESCRIPTION:
LOCATION:
SUMMARY:STUCO Mentor Morning
END:VEVENT
BEGIN:VEVENT
DTSTAMP:20260425T034738Z
UID:5a412870-8500-4dc2-ad72-b421a40370d9
DTSTART:20260429T180000
DTEND:20260429T190000
DESCRIPTION:
LOCATION:
SUMMARY:Baccalaureate 
END:VEVENT
BEGIN:VEVENT
DTSTAMP:20260425T034738Z
UID:492b6591-f098-4999-818a-21f5b07e8ca4
DTSTART;VALUE=DATE:20260430
DTEND;VALUE=DATE:20260501
DESCRIPTION:
LOCATION:
SUMMARY:K-6 Field Day
END:VEVENT
BEGIN:VEVENT
DTSTAMP:20260425T034738Z
UID:cd6bb3ae-acbd-4dac-ba5e-4a8bb65d27a4
DTSTART;VALUE=DATE:20260501
DTEND;VALUE=DATE:20260502
DESCRIPTION:
LOCATION:
SUMMARY:JH/HS MNAC Track @ Arnold
END:VEVENT
BEGIN:VEVENT
DTSTAMP:20260425T034738Z
UID:804291a0-079c-4e18-949b-adec33438a6e
DTSTART;VALUE=DATE:20260506
DTEND;VALUE=DATE:20260507
DESCRIPTION:
LOCATION:
SUMMARY:JH Track Brady @ Arnold
END:VEVENT
BEGIN:VEVENT
DTSTAMP:20260425T034738Z
UID:533336ba-19f9-41f7-8eda-2d5931901b61
DTSTART:20260506T180000
DTEND:20260506T200000
DESCRIPTION:
LOCATION:
SUMMARY:FFA Officer Interviews
END:VEVENT
BEGIN:VEVENT
DTSTAMP:20260425T034738Z
UID:984777e7-9df9-4f40-afc9-a2525f72329d
DTSTART;VALUE=DATE:20260507
DTEND;VALUE=DATE:20260508
DESCRIPTION:
LOCATION:
SUMMARY:Awards Night
END:VEVENT
BEGIN:VEVENT
DTSTAMP:20260425T034738Z
UID:61295334-187d-4f93-999c-4a22d4862f8b
DTSTART;VALUE=DATE:20260507
DTEND;VALUE=DATE:20260508
DESCRIPTION:
LOCATION:
SUMMARY:K-6 Backup Field Day
END:VEVENT
BEGIN:VEVENT
DTSTAMP:20260425T034738Z
UID:dad2d75f-b34c-4f11-a4d2-3cf3bdd37cf7
DTSTART:20260507T150000
DTEND:20260507T153000
DESCRIPTION:
LOCATION:
SUMMARY:Graduation Rehearsal 
END:VEVENT
BEGIN:VEVENT
DTSTAMP:20260425T034738Z
UID:b0ee66df-72e9-4238-b7a1-04b48032d5ea
DTSTART;VALUE=DATE:20260508
DTEND;VALUE=DATE:20260509
DESCRIPTION:
LOCATION:
SUMMARY:Track SV @ Arnold
END:VEVENT
BEGIN:VEVENT
DTSTAMP:20260425T034738Z
UID:157012c8-607e-4013-a9df-f9243680499e
DTSTART:20260509T110000
DTEND:20260509T120000
DESCRIPTION:
LOCATION:
SUMMARY:Graduation
END:VEVENT
BEGIN:VEVENT
DTSTAMP:20260425T034738Z
UID:c4f34047-c55f-40ea-b6d7-71cdf577b0e5
DTSTART:20260511T183000
DTEND:20260511T193000
DESCRIPTION:
LOCATION:
SUMMARY:End of Yr. Music Concert 5th-12th
END:VEVENT
BEGIN:VEVENT
DTSTAMP:20260425T034738Z
UID:f74e8149-749e-4b7c-9461-88e1d7e4a880
DTSTART:20260512T183000
DTEND:20260512T200000
DESCRIPTION:
LOCATION:
SUMMARY:FFA Banquet
END:VEVENT
BEGIN:VEVENT
DTSTAMP:20260425T034738Z
UID:0f65c574-f57d-45d3-ac2f-d8a1f5392117
DTSTART;VALUE=DATE:20260513
DTEND;VALUE=DATE:20260514
DESCRIPTION:
LOCATION:
SUMMARY:District Track @ Paxton
END:VEVENT
BEGIN:VEVENT
DTSTAMP:20260425T034738Z
UID:0f87a4d2-3f60-42d7-beda-d5c30f4f5699
DTSTART;VALUE=DATE:20260514
DTEND;VALUE=DATE:20260515
DESCRIPTION:
LOCATION:
SUMMARY:Last Day K-12\; 1:30 out
END:VEVENT
BEGIN:VEVENT
DTSTAMP:20260425T034738Z
UID:a8662bf6-3fe5-4834-a266-e4ee23f30fe0
DTSTART;VALUE=DATE:20260514
DTEND;VALUE=DATE:20260515
DESCRIPTION:
LOCATION:
SUMMARY:End of 4th Quarter
END:VEVENT
BEGIN:VEVENT
DTSTAMP:20260425T034738Z
UID:9b2a1c49-6c9c-4ecc-9e4b-9b50ebf3dbe2
DTSTART:20260514T190000
DTEND:20260514T200000
DESCRIPTION:
LOCATION:
SUMMARY:Board of Education Meeting
END:VEVENT
BEGIN:VEVENT
DTSTAMP:20260425T034738Z
UID:e5acdebe-5f3d-4a3d-bd30-d4ce834cc7c9
DTSTART;VALUE=DATE:20260518
DTEND;VALUE=DATE:20260519
DESCRIPTION:
LOCATION:
SUMMARY:Teacher Work Day
END:VEVENT
BEGIN:VEVENT
DTSTAMP:20260425T034738Z
UID:9403313c-bfdf-4bec-b478-1e87f4dbaccc
DTSTART;VALUE=DATE:20260519
DTEND;VALUE=DATE:20260520
DESCRIPTION:
LOCATION:
SUMMARY:Teacher Work Day
END:VEVENT
BEGIN:VEVENT
DTSTAMP:20260425T034738Z
UID:d9c0c770-5cff-40b8-a54c-95f356cac956
DTSTART;VALUE=DATE:20260714
DTEND;VALUE=DATE:20260731
DESCRIPTION:
LOCATION:
SUMMARY:Gym Floor being refinished 
END:VEVENT
BEGIN:VEVENT
DTSTAMP:20260425T034738Z
UID:71633915-dd29-438c-92b5-89a518a31897
DTSTART;VALUE=DATE:20260916
DTEND;VALUE=DATE:20260917
DESCRIPTION:
LOCATION:
SUMMARY:School Pictures & Fall Sports Pictures
END:VEVENT
BEGIN:VEVENT
DTSTAMP:20260425T034738Z
UID:b48574b4-c40a-41e3-b7e8-a415d74e05b0
DTSTART;VALUE=DATE:20261117
DTEND;VALUE=DATE:20261118
DESCRIPTION:
LOCATION:
SUMMARY:Picture Retakes & Winter Sports Pictures
END:VEVENT
END:VCALENDAR
