BEGIN:VCALENDAR
VERSION:2.0
PRODID:icalendar-ruby
CALSCALE:GREGORIAN
BEGIN:VTIMEZONE
TZID:America/Chicago
BEGIN:DAYLIGHT
DTSTART:20260308T030000
TZOFFSETFROM:-0600
TZOFFSETTO:-0500
RRULE:FREQ=YEARLY;BYDAY=2SU;BYMONTH=3
TZNAME:CDT
END:DAYLIGHT
BEGIN:STANDARD
DTSTART:20261101T010000
TZOFFSETFROM:-0500
TZOFFSETTO:-0600
RRULE:FREQ=YEARLY;BYDAY=1SU;BYMONTH=11
TZNAME:CST
END:STANDARD
END:VTIMEZONE
BEGIN:VEVENT
DTSTAMP:20260426T032652Z
UID:0ec59805-feb3-4fcc-909e-fa66e6aea7f8
DTSTART:20260511T160000
DTEND:20260511T170000
DESCRIPTION:
LOCATION:
SUMMARY:HLOE SBDM Meeting 
END:VEVENT
BEGIN:VEVENT
DTSTAMP:20260426T032652Z
UID:d6dc3edf-ec98-444a-9271-5d0ef2445edf
DTSTART:20260512T170000
DTEND:20260512T190000
DESCRIPTION:
LOCATION:
SUMMARY:HLOE Awards Night at LOMS 
END:VEVENT
BEGIN:VEVENT
DTSTAMP:20260426T032652Z
UID:bd5eb40a-cd0d-425e-bb95-79539c89e9e9
DTSTART;VALUE=DATE:20260519
DTEND;VALUE=DATE:20260520
DESCRIPTION:
LOCATION:
SUMMARY:Primary Election-No School
END:VEVENT
BEGIN:VEVENT
DTSTAMP:20260426T032652Z
UID:ec4130d9-aad0-4acb-b1d5-1ddb363fd074
DTSTART:20260520T080000
DTEND:20260520T153000
DESCRIPTION:
LOCATION:
SUMMARY:HLOE Field Day 
END:VEVENT
BEGIN:VEVENT
DTSTAMP:20260426T032652Z
UID:739bf1ea-5b44-447e-8877-1c921557d475
DTSTART;VALUE=DATE:20260521
DTEND;VALUE=DATE:20260522
DESCRIPTION:
LOCATION:
SUMMARY:Last Day for Students
END:VEVENT
BEGIN:VEVENT
DTSTAMP:20260426T032652Z
UID:d295defc-c58e-44f8-b01f-b659a80fe9fa
DTSTART;VALUE=DATE:20260522
DTEND;VALUE=DATE:20260523
DESCRIPTION:
LOCATION:
SUMMARY:Last Day for Staff
END:VEVENT
BEGIN:VEVENT
DTSTAMP:20260426T032652Z
UID:76bb21cc-6975-4490-927e-7d82c9d78c9e
DTSTART:20260625T160000
DTEND:20260625T170000
DESCRIPTION:
LOCATION:
SUMMARY:HLOE SBDM Meeting 
END:VEVENT
END:VCALENDAR
