BEGIN:VCALENDAR
VERSION:2.0
PRODID:icalendar-ruby
CALSCALE:GREGORIAN
BEGIN:VTIMEZONE
TZID:America/New_York
BEGIN:DAYLIGHT
DTSTART:20260308T030000
TZOFFSETFROM:-0500
TZOFFSETTO:-0400
RRULE:FREQ=YEARLY;BYDAY=2SU;BYMONTH=3
TZNAME:EDT
END:DAYLIGHT
BEGIN:STANDARD
DTSTART:20261101T010000
TZOFFSETFROM:-0400
TZOFFSETTO:-0500
RRULE:FREQ=YEARLY;BYDAY=1SU;BYMONTH=11
TZNAME:EST
END:STANDARD
END:VTIMEZONE
BEGIN:VEVENT
DTSTAMP:20260425T115557Z
UID:b226ca64-0523-45be-ac4d-7c05ed285607
DTSTART:20260425T190000
DTEND:20260425T200000
DESCRIPTION:
LOCATION:ADER
SUMMARY:LHS: MUSCIAL
END:VEVENT
BEGIN:VEVENT
DTSTAMP:20260425T115557Z
UID:be1822f0-c714-4ba2-abc4-470b7ec79296
DTSTART:20260426T150000
DTEND:20260426T160000
DESCRIPTION:
LOCATION:ADER
SUMMARY:LHS: MUSICAL
END:VEVENT
BEGIN:VEVENT
DTSTAMP:20260425T115557Z
UID:5b3f4c9f-1ee3-4c6f-b0b2-736964493dd2
DTSTART:20260502T190000
DTEND:20260502T230000
DESCRIPTION:
LOCATION:
SUMMARY:LHS: Prom
END:VEVENT
BEGIN:VEVENT
DTSTAMP:20260425T115557Z
UID:3f4b3cb3-ff43-41e6-861c-7d9372776693
DTSTART:20260503T140000
DTEND:20260503T153000
DESCRIPTION:
LOCATION:ADER
SUMMARY:LHS: CMS/LHS BAND CONCERT
END:VEVENT
BEGIN:VEVENT
DTSTAMP:20260425T115557Z
UID:6e2fb0db-9271-44c5-a1f3-f670ed33a2e0
DTSTART:20260503T163000
DTEND:20260503T180000
DESCRIPTION:
LOCATION:ADER
SUMMARY:LHS: CMS/LHS CHOIR CONCERT
END:VEVENT
BEGIN:VEVENT
DTSTAMP:20260425T115557Z
UID:6de7a797-5600-43d1-9923-db1947d68401
DTSTART:20260622T090000
DTEND:20260622T153000
DESCRIPTION:
LOCATION:ADER
SUMMARY:LHS: VCSC ONSTAGE SUMMER CAMP
END:VEVENT
BEGIN:VEVENT
DTSTAMP:20260425T115557Z
UID:28385c0c-42d4-4267-8b3a-067ba2455ae1
DTSTART:20270501T190000
DTEND:20270501T230000
DESCRIPTION:
LOCATION:
SUMMARY:LHS: Prom
END:VEVENT
END:VCALENDAR
