BEGIN:VCALENDAR
VERSION:2.0
PRODID:icalendar-ruby
CALSCALE:GREGORIAN
BEGIN:VTIMEZONE
TZID:America/New_York
BEGIN:DAYLIGHT
DTSTART:20260308T030000
TZOFFSETFROM:-0500
TZOFFSETTO:-0400
RRULE:FREQ=YEARLY;BYDAY=2SU;BYMONTH=3
TZNAME:EDT
END:DAYLIGHT
BEGIN:STANDARD
DTSTART:20261101T010000
TZOFFSETFROM:-0400
TZOFFSETTO:-0500
RRULE:FREQ=YEARLY;BYDAY=1SU;BYMONTH=11
TZNAME:EST
END:STANDARD
END:VTIMEZONE
BEGIN:VEVENT
DTSTAMP:20260425T185941Z
UID:5c42f38b-45d8-4e18-bb2f-651be671eb1e
DTSTART;VALUE=DATE:20260424
DTEND;VALUE=DATE:20260426
DESCRIPTION:4/24 - Berrien Springs\n4/25 - Upton
LOCATION:TBA
SUMMARY:Upton Band & Orch. Solo & Ensemble
END:VEVENT
BEGIN:VEVENT
DTSTAMP:20260425T185941Z
UID:0db48a5c-2239-4d78-ba63-b11ffd0351d4
DTSTART:20260425T150000
DTEND:20260425T170000
DESCRIPTION:
LOCATION:St. Joseph High School\, 2521 Stadium Dr\, St Joseph\, MI 49085\, 
 USA
SUMMARY:Dare to Dream\, Jr. (Upton Musical)
END:VEVENT
BEGIN:VEVENT
DTSTAMP:20260425T185941Z
UID:3b698919-8cd9-42f2-a233-e036216899e5
DTSTART:20260425T150000
DTEND:20260425T170000
DESCRIPTION:
LOCATION:St. Joseph High School\, 2521 Stadium Dr\, St Joseph\, MI 49085\, 
 USA
SUMMARY:Upton Musical
END:VEVENT
BEGIN:VEVENT
DTSTAMP:20260425T185941Z
UID:c53db586-f3ed-4da8-9237-177ef84224b6
DTSTART:20260425T190000
DTEND:20260425T210000
DESCRIPTION:
LOCATION:St. Joseph High School\, 2521 Stadium Dr\, St Joseph\, MI 49085\, 
 USA
SUMMARY:Dare to Dream\, Jr. (Upton Musical)
END:VEVENT
BEGIN:VEVENT
DTSTAMP:20260425T185941Z
UID:a0673a40-2bdb-4366-bb4e-281dc1ee681c
DTSTART:20260425T190000
DTEND:20260425T230000
DESCRIPTION:<p>Secret Garden is the Theme</p><p>Tickets are $20 each and wi
 ll be sold in the library both lunches\, April 6-24\, 2026.</p>
LOCATION:333 Broad St\, St Joseph\, MI 49085\, USA
SUMMARY:St. Joseph High School Prom
END:VEVENT
BEGIN:VEVENT
DTSTAMP:20260425T185941Z
UID:2b3077e6-08d6-4f27-bb07-2549b133efd7
DTSTART:20260425T190000
DTEND:20260425T210000
DESCRIPTION:
LOCATION:St. Joseph High School\, 2521 Stadium Dr\, St Joseph\, MI 49085\, 
 USA
SUMMARY:Upton Musical
END:VEVENT
BEGIN:VEVENT
DTSTAMP:20260425T185941Z
UID:4493fe5e-71fb-449c-b0c2-b814026dc527
DTSTART;VALUE=DATE:20260427
DTEND;VALUE=DATE:20260428
DESCRIPTION:
LOCATION:
SUMMARY:No School Y5/K-12 
END:VEVENT
BEGIN:VEVENT
DTSTAMP:20260425T185941Z
UID:6bf61da7-17e1-4a69-9624-e436f92d12df
DTSTART;VALUE=DATE:20260427
DTEND;VALUE=DATE:20260428
DESCRIPTION:
LOCATION:
SUMMARY:NO SCHOOL Y5/K-12 - Professional Dev.
END:VEVENT
BEGIN:VEVENT
DTSTAMP:20260425T185941Z
UID:04b1b7e3-e3af-4d61-9a08-f6ea3d8e4816
DTSTART:20260427T080000
DTEND:20260427T133000
DESCRIPTION:
LOCATION:2521 Stadium Dr\, St Joseph\, MI 49085\, USA
SUMMARY:No School - Professional Dev. Day 
END:VEVENT
BEGIN:VEVENT
DTSTAMP:20260425T185941Z
UID:7a68c069-58a7-49b9-894f-63d6dc4a6c1b
DTSTART;VALUE=DATE:20260429
DTEND;VALUE=DATE:20260430
DESCRIPTION:
LOCATION:2521 Stadium Dr\, St Joseph\, MI 49085\, USA
SUMMARY:One Hour Late Start
END:VEVENT
BEGIN:VEVENT
DTSTAMP:20260425T185941Z
UID:97936ec4-6189-4606-99bb-a5d332b71f4b
DTSTART;VALUE=DATE:20260429
DTEND;VALUE=DATE:20260430
DESCRIPTION:
LOCATION:
SUMMARY:Y5/K-12 | 1 Hour Late Start
END:VEVENT
BEGIN:VEVENT
DTSTAMP:20260425T185941Z
UID:5dc280cd-ed95-4c02-9863-7df4723acf7f
DTSTART;VALUE=DATE:20260430
DTEND;VALUE=DATE:20260501
DESCRIPTION:
LOCATION:
SUMMARY:5th Grade Parent Orientation
END:VEVENT
BEGIN:VEVENT
DTSTAMP:20260425T185941Z
UID:783a4d6b-63ea-4bdf-801f-6cd904ee9c77
DTSTART;VALUE=DATE:20260430
DTEND;VALUE=DATE:20260501
DESCRIPTION:
LOCATION:
SUMMARY:5th Grade Parent Orientation
END:VEVENT
BEGIN:VEVENT
DTSTAMP:20260425T185941Z
UID:f6d09ebd-bbf3-4415-8492-1e4cb629ae5a
DTSTART:20260430T183000
DTEND:20260430T193000
DESCRIPTION:
LOCATION:St. Joseph High School\, 2521 Stadium Dr\, St Joseph\, MI 49085\, 
 USA
SUMMARY:5th to 6th Grade Parent Orientation
END:VEVENT
BEGIN:VEVENT
DTSTAMP:20260425T185941Z
UID:c25a7644-6a9b-4a2b-bdd5-c634504ad347
DTSTART;VALUE=DATE:20260501
DTEND;VALUE=DATE:20260502
DESCRIPTION:
LOCATION:
SUMMARY:Principals' Day
END:VEVENT
BEGIN:VEVENT
DTSTAMP:20260425T185941Z
UID:a32d53a0-7d63-4722-9ca7-25138c03580d
DTSTART:20260501T170000
DTEND:20260501T190000
DESCRIPTION:
LOCATION:Blue Gym
SUMMARY:Spring Dance - All Grades
END:VEVENT
BEGIN:VEVENT
DTSTAMP:20260425T185941Z
UID:2781ef60-ad73-45c1-8d71-e0515333b77d
DTSTART;VALUE=DATE:20260502
DTEND;VALUE=DATE:20260503
DESCRIPTION:
LOCATION:Gurnee\, IL\, USA
SUMMARY:8th Grade Music in the Parks
END:VEVENT
BEGIN:VEVENT
DTSTAMP:20260425T185941Z
UID:9cf33c19-616a-47ea-8575-de2b466d1ed2
DTSTART;VALUE=DATE:20260504
DTEND;VALUE=DATE:20260505
DESCRIPTION:
LOCATION:
SUMMARY:Battle of the Books
END:VEVENT
BEGIN:VEVENT
DTSTAMP:20260425T185941Z
UID:b85997bb-07c6-4aa9-ae32-c03275195ba7
DTSTART;VALUE=DATE:20260504
DTEND;VALUE=DATE:20260509
DESCRIPTION:
LOCATION:
SUMMARY:National Teacher Appreciation Week
END:VEVENT
BEGIN:VEVENT
DTSTAMP:20260425T185941Z
UID:704e4fa2-740d-4fcc-b275-1e9bf4a97fe2
DTSTART:20260504T074500
DTEND:20260504T144500
DESCRIPTION:
LOCATION:2521 Stadium Dr\, St Joseph\, MI 49085\, USA
SUMMARY:AP Biology & AP Microeconomics Testing
END:VEVENT
BEGIN:VEVENT
DTSTAMP:20260425T185941Z
UID:580b5b57-ff69-4725-87fb-42218c4f443c
DTSTART:20260505T074500
DTEND:20260505T144500
DESCRIPTION:
LOCATION:2521 Stadium Dr\, St Joseph\, MI 49085\, USA
SUMMARY:AP Chemistry & AP US Govt.  Testing
END:VEVENT
BEGIN:VEVENT
DTSTAMP:20260425T185941Z
UID:69d40569-5c09-4cbf-9e65-7dd344a0158e
DTSTART;VALUE=DATE:20260506
DTEND;VALUE=DATE:20260507
DESCRIPTION:
LOCATION:2521 Stadium Dr\, St Joseph\, MI 49085\, USA
SUMMARY:One Hour Late Start
END:VEVENT
BEGIN:VEVENT
DTSTAMP:20260425T185941Z
UID:01549ee0-2adf-479d-8db4-172d3ecf96be
DTSTART;VALUE=DATE:20260506
DTEND;VALUE=DATE:20260507
DESCRIPTION:
LOCATION:
SUMMARY:Y5/K-12 | 1 Hour Late Start
END:VEVENT
BEGIN:VEVENT
DTSTAMP:20260425T185941Z
UID:827415bb-981c-4489-aff2-44700b3b7bd8
DTSTART:20260506T074500
DTEND:20260506T144500
DESCRIPTION:
LOCATION:2521 Stadium Dr\, St Joseph\, MI 49085\, USA
SUMMARY:AP English Lit & Comparative Gov Testing
END:VEVENT
BEGIN:VEVENT
DTSTAMP:20260425T185941Z
UID:014cb295-0552-4e39-8c11-2e8c7cdaafae
DTSTART;VALUE=DATE:20260507
DTEND;VALUE=DATE:20260508
DESCRIPTION:
LOCATION:
SUMMARY:4th Grade Lansing Tour 
END:VEVENT
BEGIN:VEVENT
DTSTAMP:20260425T185941Z
UID:bbc7e280-6137-46ff-8031-65fd4d586040
DTSTART:20260507T074500
DTEND:20260507T144500
DESCRIPTION:
LOCATION:2521 Stadium Dr\, St Joseph\, MI 49085\, USA
SUMMARY:AP World History & AP Stats Testing
END:VEVENT
BEGIN:VEVENT
DTSTAMP:20260425T185941Z
UID:7e25a9a6-22d4-4513-b8a2-7a0dc4ff0c64
DTSTART:20260507T083000
DTEND:20260507T093000
DESCRIPTION:
LOCATION:Bear Den
SUMMARY:PTO Meeting
END:VEVENT
BEGIN:VEVENT
DTSTAMP:20260425T185941Z
UID:5ee2181e-4fd3-4900-9a9b-1c7a6f66ffe1
DTSTART:20260508T074500
DTEND:20260508T144500
DESCRIPTION:
LOCATION:2521 Stadium Dr\, St Joseph\, MI 49085\, USA
SUMMARY:AP 
END:VEVENT
BEGIN:VEVENT
DTSTAMP:20260425T185941Z
UID:73860e33-47c5-44a8-a182-6480f876ddad
DTSTART;VALUE=DATE:20260509
DTEND;VALUE=DATE:20260510
DESCRIPTION:
LOCATION:
SUMMARY:Blossomtime Parade
END:VEVENT
BEGIN:VEVENT
DTSTAMP:20260425T185941Z
UID:760432dc-6f7b-4479-ab98-5802d138b903
DTSTART:20260509T130000
DTEND:20260509T150000
DESCRIPTION:
LOCATION:St Joseph\, MI 49085\, USA
SUMMARY:Blossomtime Parade 
END:VEVENT
BEGIN:VEVENT
DTSTAMP:20260425T185941Z
UID:84d0228e-698c-47ce-9382-28c10a291794
DTSTART:20260511T074500
DTEND:20260511T144500
DESCRIPTION:
LOCATION:2521 Stadium Dr\, St Joseph\, MI 49085\, USA
SUMMARY:AP Calculus AB & BC Testing
END:VEVENT
BEGIN:VEVENT
DTSTAMP:20260425T185941Z
UID:90e3c106-05c3-4f0e-a500-ecae5d0e5507
DTSTART:20260511T180000
DTEND:20260511T190000
DESCRIPTION:This meeting will be held in the Bear Den.
LOCATION:St. Joseph High School\, 2521 Stadium Dr\, St Joseph\, MI 49085\, 
 USA
SUMMARY:Board of Education Meeting
END:VEVENT
BEGIN:VEVENT
DTSTAMP:20260425T185941Z
UID:9dc6b5ac-63d9-44a9-a449-57ec9222f5b4
DTSTART:20260511T190000
DTEND:20260511T213000
DESCRIPTION:
LOCATION:2521 Stadium Dr\, St Joseph\, MI 49085\, USA
SUMMARY:High School Band Spring Concert
END:VEVENT
BEGIN:VEVENT
DTSTAMP:20260425T185941Z
UID:5ef51c07-52c2-4324-bab7-8ba713a327d2
DTSTART:20260512T074500
DTEND:20260512T144500
DESCRIPTION:
LOCATION:2521 Stadium Dr\, St Joseph\, MI 49085\, USA
SUMMARY:AP Frech & AP Psychology Testing
END:VEVENT
BEGIN:VEVENT
DTSTAMP:20260425T185941Z
UID:9d605246-33c3-403e-a103-7318e666dfde
DTSTART:20260512T190000
DTEND:20260512T210000
DESCRIPTION:
LOCATION:2521 Stadium Dr\, St Joseph\, MI 49085\, USA
SUMMARY:High School Orchestra  Spring Concert
END:VEVENT
BEGIN:VEVENT
DTSTAMP:20260425T185941Z
UID:90566f3d-5daa-4407-a0cd-a455de8bb0c4
DTSTART;VALUE=DATE:20260513
DTEND;VALUE=DATE:20260514
DESCRIPTION:
LOCATION:2521 Stadium Dr\, St Joseph\, MI 49085\, USA
SUMMARY:One Hour Late Start
END:VEVENT
BEGIN:VEVENT
DTSTAMP:20260425T185941Z
UID:3762f7b3-287f-42fe-a6c4-636572c16e31
DTSTART;VALUE=DATE:20260513
DTEND;VALUE=DATE:20260514
DESCRIPTION:
LOCATION:
SUMMARY:Y5/K-12 | 1 Hour Late Start
END:VEVENT
BEGIN:VEVENT
DTSTAMP:20260425T185941Z
UID:14517bbb-6b56-4b73-a7f6-792ba998351f
DTSTART:20260513T074500
DTEND:20260513T144500
DESCRIPTION:
LOCATION:2521 Stadium Dr\, St Joseph\, MI 49085\, USA
SUMMARY:AP Comp & AP Physics Testing
END:VEVENT
BEGIN:VEVENT
DTSTAMP:20260425T185941Z
UID:b6b94e00-5a70-434c-a08b-c69d6d7e4e62
DTSTART:20260513T190000
DTEND:20260513T210000
DESCRIPTION:
LOCATION:2521 Stadium Dr\, St Joseph\, MI 49085\, USA
SUMMARY:High School Choir Spring Concert
END:VEVENT
BEGIN:VEVENT
DTSTAMP:20260425T185941Z
UID:ece084f4-71b8-4d9b-a27e-4a8c8277f8fd
DTSTART:20260514T074500
DTEND:20260514T144500
DESCRIPTION:
LOCATION:2521 Stadium Dr\, St Joseph\, MI 49085\, USA
SUMMARY:AP Spanish\, AP Art History\, AP Computer Science & AP Physics C Te
 sting
END:VEVENT
BEGIN:VEVENT
DTSTAMP:20260425T185941Z
UID:580e28d3-16da-4024-9f70-f73168b2953a
DTSTART;VALUE=DATE:20260515
DTEND;VALUE=DATE:20260516
DESCRIPTION:
LOCATION:
SUMMARY:8th Grade Farewell & Dance
END:VEVENT
BEGIN:VEVENT
DTSTAMP:20260425T185941Z
UID:ed4072d6-9680-44fd-863d-d56d85c69482
DTSTART:20260515T074500
DTEND:20260515T144500
DESCRIPTION:
LOCATION:2521 Stadium Dr\, St Joseph\, MI 49085\, USA
SUMMARY:AP Enviro Science & AP Computer Science A Testing
END:VEVENT
BEGIN:VEVENT
DTSTAMP:20260425T185941Z
UID:76f97fe4-644d-4996-94c1-b648819ba531
DTSTART:20260515T183000
DTEND:20260515T200000
DESCRIPTION:
LOCATION:St. Joseph High School\, 2521 Stadium Dr\, St Joseph\, MI 49085\, 
 USA
SUMMARY:8th Grade Farewell 
END:VEVENT
BEGIN:VEVENT
DTSTAMP:20260425T185941Z
UID:f9b48a66-4a9a-446c-bf88-8880e71138ce
DTSTART:20260515T200000
DTEND:20260515T220000
DESCRIPTION:
LOCATION:Upton Middle School\, 800 Maiden Ln\, St Joseph\, MI 49085\, USA
SUMMARY:8th Grade Dance
END:VEVENT
BEGIN:VEVENT
DTSTAMP:20260425T185941Z
UID:ea8b1dee-1686-4569-b166-318870e4abb3
DTSTART:20260515T203000
DTEND:20260515T223000
DESCRIPTION:
LOCATION:Upton Middle School\, 800 Maiden Ln\, St Joseph\, MI 49085\, USA
SUMMARY:8th Grade Dance
END:VEVENT
BEGIN:VEVENT
DTSTAMP:20260425T185941Z
UID:96f08a90-7ca2-498a-967e-949ef662d016
DTSTART;VALUE=DATE:20260517
DTEND;VALUE=DATE:20260518
DESCRIPTION:
LOCATION:
SUMMARY:Commencement
END:VEVENT
BEGIN:VEVENT
DTSTAMP:20260425T185941Z
UID:9f43acd8-52fe-43fa-87ee-f32bf96bd592
DTSTART:20260517T180000
DTEND:20260517T200000
DESCRIPTION:<p>Class of 2026 Graduation Ceremony </p>
LOCATION:2521 Stadium Dr\, St Joseph\, MI 49085\, USA
SUMMARY:SJHS Graduation 
END:VEVENT
BEGIN:VEVENT
DTSTAMP:20260425T185941Z
UID:61d5b9d4-1af3-4a1d-ba9e-9094b09dca42
DTSTART:20260518T190000
DTEND:20260518T210000
DESCRIPTION:
LOCATION:St. Joseph High School\, 2521 Stadium Dr\, St Joseph\, MI 49085\, 
 USA
SUMMARY:Upton Band Spring Concert
END:VEVENT
BEGIN:VEVENT
DTSTAMP:20260425T185941Z
UID:4b7db837-c970-447e-8ca9-3f3dd3b12ab8
DTSTART:20260518T190000
DTEND:20260518T210000
DESCRIPTION:
LOCATION:St. Joseph High School\, 2521 Stadium Dr\, St Joseph\, MI 49085\, 
 USA
SUMMARY:Upton Band Spring Concert
END:VEVENT
BEGIN:VEVENT
DTSTAMP:20260425T185941Z
UID:c7d78118-25a5-4bae-aef8-b465f0a534ee
DTSTART:20260519T190000
DTEND:20260519T210000
DESCRIPTION:
LOCATION:St. Joseph High School\, 2521 Stadium Dr\, St Joseph\, MI 49085\, 
 USA
SUMMARY:Upton Orchestra Spring Concert
END:VEVENT
BEGIN:VEVENT
DTSTAMP:20260425T185941Z
UID:e460c4db-c905-4154-b21a-936d0bbdfb82
DTSTART:20260519T190000
DTEND:20260519T210000
DESCRIPTION:
LOCATION:St. Joseph High School\, 2521 Stadium Dr\, St Joseph\, MI 49085\, 
 USA
SUMMARY:Upton Orchestra Spring Concert
END:VEVENT
BEGIN:VEVENT
DTSTAMP:20260425T185941Z
UID:8e277946-94d9-4925-abea-df3cc716d919
DTSTART;VALUE=DATE:20260520
DTEND;VALUE=DATE:20260521
DESCRIPTION:
LOCATION:
SUMMARY:LAST Y5/K-12 | 1 Hour Late Start
END:VEVENT
BEGIN:VEVENT
DTSTAMP:20260425T185941Z
UID:a9e20f04-df38-46f5-8261-e6ebf3967945
DTSTART;VALUE=DATE:20260520
DTEND;VALUE=DATE:20260521
DESCRIPTION:
LOCATION:2521 Stadium Dr\, St Joseph\, MI 49085\, USA
SUMMARY:One Hour Late Start
END:VEVENT
BEGIN:VEVENT
DTSTAMP:20260425T185941Z
UID:7902ef7d-7a96-4f91-b389-8df65b2f4106
DTSTART:20260520T190000
DTEND:20260520T210000
DESCRIPTION:
LOCATION:St. Joseph High School\, 2521 Stadium Dr\, St Joseph\, MI 49085\, 
 USA
SUMMARY:Upton Choir Spring Concert
END:VEVENT
BEGIN:VEVENT
DTSTAMP:20260425T185941Z
UID:92d6e6af-bed4-470a-845d-6077f6a06aab
DTSTART:20260520T190000
DTEND:20260520T210000
DESCRIPTION:
LOCATION:St. Joseph High School\, 2521 Stadium Dr\, St Joseph\, MI 49085\, 
 USA
SUMMARY:Upton Choir Spring Concert
END:VEVENT
BEGIN:VEVENT
DTSTAMP:20260425T185941Z
UID:de32ca47-da2a-4c5f-9e33-66ecd7883393
DTSTART;VALUE=DATE:20260521
DTEND;VALUE=DATE:20260522
DESCRIPTION:
LOCATION:
SUMMARY:8th grade HS visit
END:VEVENT
BEGIN:VEVENT
DTSTAMP:20260425T185941Z
UID:4db35518-63a7-487c-abe5-4a84f6e2ea5c
DTSTART:20260521T180000
DTEND:20260521T190000
DESCRIPTION:
LOCATION:Auditorium
SUMMARY:Wash. DC final departure meeting
END:VEVENT
BEGIN:VEVENT
DTSTAMP:20260425T185941Z
UID:144716e3-f740-431c-817b-1858800f6d09
DTSTART;VALUE=DATE:20260522
DTEND;VALUE=DATE:20260523
DESCRIPTION:
LOCATION:
SUMMARY:End of the 4th Quarter
END:VEVENT
BEGIN:VEVENT
DTSTAMP:20260425T185941Z
UID:d69a78fb-73a6-4d61-9713-f9a85f0cf04f
DTSTART;VALUE=DATE:20260522
DTEND;VALUE=DATE:20260523
DESCRIPTION:
LOCATION:
SUMMARY:End of the 4th Quarter
END:VEVENT
BEGIN:VEVENT
DTSTAMP:20260425T185941Z
UID:005c7732-8e98-4681-868a-ac45d22f733c
DTSTART;VALUE=DATE:20260522
DTEND;VALUE=DATE:20260523
DESCRIPTION:
LOCATION:
SUMMARY:Yearbook Signing Day
END:VEVENT
BEGIN:VEVENT
DTSTAMP:20260425T185941Z
UID:1d982326-cafb-44f9-ae07-907446e3da4d
DTSTART:20260522T074500
DTEND:20260522T144500
DESCRIPTION:
LOCATION:2521 Stadium Dr\, St Joseph\, MI 49085\, USA
SUMMARY:AP Enviro Science\, AP Physics 1\, AP Computer Science A & AP Physi
 cs C Testing
END:VEVENT
BEGIN:VEVENT
DTSTAMP:20260425T185941Z
UID:90e133bf-3ff0-44b8-b6d0-f56d196b6494
DTSTART:20260522T120000
DTEND:20260522T130000
DESCRIPTION:
LOCATION:St Joseph\, MI 49085\, USA
SUMMARY:Memorial Day Parade
END:VEVENT
BEGIN:VEVENT
DTSTAMP:20260425T185941Z
UID:66850a1f-64c3-45be-a0f9-07aaaddef0ee
DTSTART;VALUE=DATE:20260525
DTEND;VALUE=DATE:20260526
DESCRIPTION:
LOCATION:
SUMMARY:Memorial Day
END:VEVENT
BEGIN:VEVENT
DTSTAMP:20260425T185941Z
UID:a1a9d6ea-2887-4818-9cd2-a72c67a93c64
DTSTART;VALUE=DATE:20260525
DTEND;VALUE=DATE:20260526
DESCRIPTION:
LOCATION:
SUMMARY:Memorial Day - No School
END:VEVENT
BEGIN:VEVENT
DTSTAMP:20260425T185941Z
UID:7eb889e3-3d94-45e8-bee5-67dad060e108
DTSTART;VALUE=DATE:20260525
DTEND;VALUE=DATE:20260526
DESCRIPTION:
LOCATION:
SUMMARY:No School - Memorial Day
END:VEVENT
BEGIN:VEVENT
DTSTAMP:20260425T185941Z
UID:31265f92-8341-4fc4-85a0-94732fdedbdf
DTSTART;VALUE=DATE:20260525
DTEND;VALUE=DATE:20260526
DESCRIPTION:
LOCATION:
SUMMARY:NO SCHOOL Y5/K-11 Memorial Day
END:VEVENT
BEGIN:VEVENT
DTSTAMP:20260425T185941Z
UID:4a92c82e-caa3-4e69-a726-b69f9206fffc
DTSTART;VALUE=DATE:20260527
DTEND;VALUE=DATE:20260528
DESCRIPTION:
LOCATION:
SUMMARY:1/2 Day Y5/K-11 (MS/HS Exams)
END:VEVENT
BEGIN:VEVENT
DTSTAMP:20260425T185941Z
UID:cfcc92d3-e449-4015-9324-67dbf25297e6
DTSTART;VALUE=DATE:20260527
DTEND;VALUE=DATE:20260528
DESCRIPTION:
LOCATION:
SUMMARY:1/2 Day Y5/K-11 (MS/HS Exams)
END:VEVENT
BEGIN:VEVENT
DTSTAMP:20260425T185941Z
UID:0b99b8c3-526f-4176-b9fe-1abb4064817b
DTSTART;VALUE=DATE:20260527
DTEND;VALUE=DATE:20260530
DESCRIPTION:
LOCATION:
SUMMARY:Exams - Half Day
END:VEVENT
BEGIN:VEVENT
DTSTAMP:20260425T185941Z
UID:3c836cbe-6c25-407c-a6dc-160eba8be166
DTSTART;VALUE=DATE:20260528
DTEND;VALUE=DATE:20260529
DESCRIPTION:
LOCATION:
SUMMARY:1/2 Day Y5/K-11 (MS/HS Exams)
END:VEVENT
BEGIN:VEVENT
DTSTAMP:20260425T185941Z
UID:afd25af9-8a47-48ff-a747-0226ed5a60f9
DTSTART;VALUE=DATE:20260528
DTEND;VALUE=DATE:20260529
DESCRIPTION:
LOCATION:
SUMMARY:1/2 Day Y5/K-11 (MS/HS Exams)
END:VEVENT
BEGIN:VEVENT
DTSTAMP:20260425T185941Z
UID:c92c06f4-4c8b-4b61-9b53-72febc7ff7b5
DTSTART;VALUE=DATE:20260529
DTEND;VALUE=DATE:20260530
DESCRIPTION:
LOCATION:
SUMMARY:End of 2nd Semester (MS/HS)
END:VEVENT
BEGIN:VEVENT
DTSTAMP:20260425T185941Z
UID:9953e853-cfe8-45e2-b384-563cacb851c0
DTSTART;VALUE=DATE:20260529
DTEND;VALUE=DATE:20260530
DESCRIPTION:
LOCATION:
SUMMARY:End of 3rd Trimester (ELE)  
END:VEVENT
BEGIN:VEVENT
DTSTAMP:20260425T185941Z
UID:9946d709-8210-4976-a33f-ae9a65e0c899
DTSTART;VALUE=DATE:20260529
DTEND;VALUE=DATE:20260530
DESCRIPTION:
LOCATION:
SUMMARY:Last Day of School
END:VEVENT
BEGIN:VEVENT
DTSTAMP:20260425T185941Z
UID:e9f50013-328d-4e1b-85df-d7516f26f990
DTSTART;VALUE=DATE:20260529
DTEND;VALUE=DATE:20260530
DESCRIPTION:
LOCATION:
SUMMARY:LAST DAY OF SCHOOL - ½ DAY Y5/K-11  (MS/HS Exams)
END:VEVENT
BEGIN:VEVENT
DTSTAMP:20260425T185941Z
UID:bb283eb0-d0f7-4fdf-b047-fd42e82ff46f
DTSTART;VALUE=DATE:20260529
DTEND;VALUE=DATE:20260530
DESCRIPTION:
LOCATION:
SUMMARY:Last Day of School - 1/2 Day
END:VEVENT
BEGIN:VEVENT
DTSTAMP:20260425T185941Z
UID:65c576c3-8083-4309-9b49-4d967adb46cb
DTSTART;VALUE=DATE:20260531
DTEND;VALUE=DATE:20260604
DESCRIPTION:
LOCATION:
SUMMARY:Washington DC 2026 trip
END:VEVENT
BEGIN:VEVENT
DTSTAMP:20260425T185941Z
UID:b952a8fc-f3bf-4837-8762-42948d952fbc
DTSTART:20260602T090000
DTEND:20260602T140000
DESCRIPTION:
LOCATION:E P Clarke Elementary School\, 515 Glenlord Rd\, St Joseph\, MI 49
 085\, USA
SUMMARY:Y5/Kindergarten Screening Session Day 1
END:VEVENT
BEGIN:VEVENT
DTSTAMP:20260425T185941Z
UID:560ef307-9054-4132-9d26-b02471c6daeb
DTSTART:20260603T090000
DTEND:20260603T140000
DESCRIPTION:
LOCATION:E P Clarke Elementary School\, 515 Glenlord Rd\, St Joseph\, MI 49
 085\, USA
SUMMARY:Y5/Kindergarten Screening Session Day 2
END:VEVENT
BEGIN:VEVENT
DTSTAMP:20260425T185941Z
UID:20dd5175-e4aa-4082-ac5b-5403d8490d4d
DTSTART;VALUE=DATE:20260824
DTEND;VALUE=DATE:20260825
DESCRIPTION:
LOCATION:
SUMMARY:Start Up Day
END:VEVENT
BEGIN:VEVENT
DTSTAMP:20260425T185941Z
UID:ee525446-7d2b-41b3-bb86-f6a1a134cbd5
DTSTART;VALUE=DATE:20260831
DTEND;VALUE=DATE:20260901
DESCRIPTION:
LOCATION:
SUMMARY:1st Day of School
END:VEVENT
BEGIN:VEVENT
DTSTAMP:20260425T185941Z
UID:9768e239-6864-417f-842c-16bd460c746d
DTSTART;VALUE=DATE:20260831
DTEND;VALUE=DATE:20260901
DESCRIPTION:
LOCATION:2521 Stadium Dr\, St Joseph\, MI 49085\, USA
SUMMARY:First Day of School
END:VEVENT
BEGIN:VEVENT
DTSTAMP:20260425T185941Z
UID:772195e0-76fd-41f6-8a3b-8dd07c315689
DTSTART;VALUE=DATE:20260907
DTEND;VALUE=DATE:20260908
DESCRIPTION:
LOCATION:
SUMMARY:Labor Day - No School
END:VEVENT
BEGIN:VEVENT
DTSTAMP:20260425T185941Z
UID:f9c9d3d5-12de-46c8-beec-d8cbaf00b2fb
DTSTART;VALUE=DATE:20260909
DTEND;VALUE=DATE:20260910
DESCRIPTION:
LOCATION:2521 Stadium Dr\, St Joseph\, MI 49085\, USA
SUMMARY:One Hour Late Start 
END:VEVENT
BEGIN:VEVENT
DTSTAMP:20260425T185941Z
UID:2d19b678-c504-4a5c-87aa-9d04eb8178ed
DTSTART:20260914T183000
DTEND:20260914T200000
DESCRIPTION:
LOCATION:2521 Stadium Dr\, St Joseph\, MI 49085\, USA
SUMMARY:Back to School Night
END:VEVENT
BEGIN:VEVENT
DTSTAMP:20260425T185941Z
UID:fbd20175-3cd4-4145-85c2-8612da97c375
DTSTART;VALUE=DATE:20260915
DTEND;VALUE=DATE:20260916
DESCRIPTION:
LOCATION:
SUMMARY:Back to School Night - Upton
END:VEVENT
BEGIN:VEVENT
DTSTAMP:20260425T185941Z
UID:0470db65-2cd9-42ff-8bb8-f77e3f2fa069
DTSTART;VALUE=DATE:20260929
DTEND;VALUE=DATE:20260930
DESCRIPTION:
LOCATION:
SUMMARY:Picture Retake Day
END:VEVENT
BEGIN:VEVENT
DTSTAMP:20260425T185941Z
UID:0304924e-661d-4029-8e32-40950afc2474
DTSTART;VALUE=DATE:20261007
DTEND;VALUE=DATE:20261008
DESCRIPTION:
LOCATION:
SUMMARY:Count Day
END:VEVENT
BEGIN:VEVENT
DTSTAMP:20260425T185941Z
UID:cb9aa262-02ec-4978-bdca-1d903153081b
DTSTART;VALUE=DATE:20261007
DTEND;VALUE=DATE:20261008
DESCRIPTION:
LOCATION:2521 Stadium Dr\, St Joseph\, MI 49085\, USA
SUMMARY:Student Count Day
END:VEVENT
BEGIN:VEVENT
DTSTAMP:20260425T185941Z
UID:cf2f4a73-a03b-45aa-9006-096af7c9c452
DTSTART;VALUE=DATE:20261009
DTEND;VALUE=DATE:20261010
DESCRIPTION:
LOCATION:2521 Stadium Dr\, St Joseph\, MI 49085\, USA
SUMMARY:No School - PD Day
END:VEVENT
BEGIN:VEVENT
DTSTAMP:20260425T185941Z
UID:7c6331f7-a822-4d1a-9468-2d20630a162e
DTSTART;VALUE=DATE:20261030
DTEND;VALUE=DATE:20261031
DESCRIPTION:
LOCATION:2521 Stadium Dr\, St Joseph\, MI 49085\, USA
SUMMARY:End of First Quarter
END:VEVENT
BEGIN:VEVENT
DTSTAMP:20260425T185941Z
UID:6752baf7-fa3a-4ad7-934d-b6d480cb1b6b
DTSTART;VALUE=DATE:20261112
DTEND;VALUE=DATE:20261113
DESCRIPTION:
LOCATION:2521 Stadium Dr\, St Joseph\, MI 49085\, USA
SUMMARY:Half-Day - Parent Teacher Conferences
END:VEVENT
BEGIN:VEVENT
DTSTAMP:20260425T185941Z
UID:4c73c4e2-1ba2-4624-b76e-d11669e665ee
DTSTART;VALUE=DATE:20261112
DTEND;VALUE=DATE:20261113
DESCRIPTION:
LOCATION:
SUMMARY:PT Conferences - half day - Y5/K - 12
END:VEVENT
BEGIN:VEVENT
DTSTAMP:20260425T185941Z
UID:f550676d-b53c-4e1b-9de2-26ff12c43900
DTSTART;VALUE=DATE:20261113
DTEND;VALUE=DATE:20261114
DESCRIPTION:
LOCATION:2521 Stadium Dr\, St Joseph\, MI 49085\, USA
SUMMARY:Half Day - Parent Teacher Conferences
END:VEVENT
BEGIN:VEVENT
DTSTAMP:20260425T185941Z
UID:ab05db8b-4d7a-4b72-b4b4-a84b22f16150
DTSTART;VALUE=DATE:20261113
DTEND;VALUE=DATE:20261114
DESCRIPTION:
LOCATION:
SUMMARY:PT Conferences - half day - Y5/K - 12
END:VEVENT
BEGIN:VEVENT
DTSTAMP:20260425T185941Z
UID:b61a4d55-53a1-4802-bb7c-b92c108efb7f
DTSTART;VALUE=DATE:20261125
DTEND;VALUE=DATE:20261128
DESCRIPTION:
LOCATION:
SUMMARY:Thanksgiving Break - No School
END:VEVENT
BEGIN:VEVENT
DTSTAMP:20260425T185941Z
UID:d6a474fb-d53b-4b47-a554-ed488ec877d8
DTSTART;VALUE=DATE:20261221
DTEND;VALUE=DATE:20270102
DESCRIPTION:
LOCATION:
SUMMARY:Winter Break
END:VEVENT
BEGIN:VEVENT
DTSTAMP:20260425T185941Z
UID:0ebb3ed7-cd52-4931-b3b2-e49abef26388
DTSTART;VALUE=DATE:20270104
DTEND;VALUE=DATE:20270105
DESCRIPTION:
LOCATION:
SUMMARY:School Resumes
END:VEVENT
BEGIN:VEVENT
DTSTAMP:20260425T185941Z
UID:e49a99be-17c9-4755-bb38-d705faada929
DTSTART;VALUE=DATE:20270115
DTEND;VALUE=DATE:20270116
DESCRIPTION:
LOCATION:2521 Stadium Dr\, St Joseph\, MI 49085\, USA
SUMMARY:End of 2nd Quarter
END:VEVENT
BEGIN:VEVENT
DTSTAMP:20260425T185941Z
UID:82aae358-d601-4ab2-acc4-20e3545dc28e
DTSTART;VALUE=DATE:20270118
DTEND;VALUE=DATE:20270119
DESCRIPTION:
LOCATION:
SUMMARY:MLK Jr Day - No School
END:VEVENT
BEGIN:VEVENT
DTSTAMP:20260425T185941Z
UID:a32cabf9-808e-4020-a9a2-3a1860ca7cfa
DTSTART;VALUE=DATE:20270120
DTEND;VALUE=DATE:20270123
DESCRIPTION:
LOCATION:
SUMMARY:Semester Exams for Upton/HS - 1/2 days 6th - 12th grades only
END:VEVENT
BEGIN:VEVENT
DTSTAMP:20260425T185941Z
UID:22e17e96-6a0b-438f-8eaf-f32bbb4ec4ce
DTSTART;VALUE=DATE:20270120
DTEND;VALUE=DATE:20270121
DESCRIPTION:
LOCATION:2521 Stadium Dr\, St Joseph\, MI 49085\, USA
SUMMARY:Semester Exams - Half-day of School
END:VEVENT
BEGIN:VEVENT
DTSTAMP:20260425T185941Z
UID:d0a3b9ac-c509-4d5a-821c-2d955c8da362
DTSTART;VALUE=DATE:20270121
DTEND;VALUE=DATE:20270122
DESCRIPTION:
LOCATION:2521 Stadium Dr\, St Joseph\, MI 49085\, USA
SUMMARY:Semester Exams - Half day of School
END:VEVENT
BEGIN:VEVENT
DTSTAMP:20260425T185941Z
UID:e4bf872d-617d-44ca-a8b3-6fecc70f0527
DTSTART;VALUE=DATE:20270122
DTEND;VALUE=DATE:20270123
DESCRIPTION:
LOCATION:2521 Stadium Dr\, St Joseph\, MI 49085\, USA
SUMMARY:Semester Exams - Half day of School
END:VEVENT
BEGIN:VEVENT
DTSTAMP:20260425T185941Z
UID:08af6652-ee8d-47d2-a3e9-78a758e1a8ab
DTSTART;VALUE=DATE:20270210
DTEND;VALUE=DATE:20270211
DESCRIPTION:
LOCATION:
SUMMARY:Student Count Day
END:VEVENT
BEGIN:VEVENT
DTSTAMP:20260425T185941Z
UID:6734c11c-94d0-4516-902d-f17ffac8a9ae
DTSTART;VALUE=DATE:20270215
DTEND;VALUE=DATE:20270216
DESCRIPTION:
LOCATION:
SUMMARY:Presidents' Day - No School
END:VEVENT
BEGIN:VEVENT
DTSTAMP:20260425T185941Z
UID:ac700bdf-ddbf-4221-958f-60850da468e9
DTSTART;VALUE=DATE:20270315
DTEND;VALUE=DATE:20270316
DESCRIPTION:
LOCATION:2521 Stadium Dr\, St Joseph\, MI 49085\, USA
SUMMARY:No School - President's  Day
END:VEVENT
BEGIN:VEVENT
DTSTAMP:20260425T185941Z
UID:1a9a68bf-d381-4caa-afc8-221136155419
DTSTART;VALUE=DATE:20270319
DTEND;VALUE=DATE:20270320
DESCRIPTION:
LOCATION:
SUMMARY:No School
END:VEVENT
BEGIN:VEVENT
DTSTAMP:20260425T185941Z
UID:fc94c7d5-efd8-46c4-8b9d-1d7c82037ec3
DTSTART;VALUE=DATE:20270319
DTEND;VALUE=DATE:20270320
DESCRIPTION:
LOCATION:2521 Stadium Dr\, St Joseph\, MI 49085\, USA
SUMMARY:PD Day - No School
END:VEVENT
BEGIN:VEVENT
DTSTAMP:20260425T185941Z
UID:e4fc1f82-c3f6-4d0f-812e-18fa58c0bc35
DTSTART;VALUE=DATE:20270323
DTEND;VALUE=DATE:20270324
DESCRIPTION:
LOCATION:
SUMMARY:End of 3rd Qtr
END:VEVENT
BEGIN:VEVENT
DTSTAMP:20260425T185941Z
UID:69fcd123-c3f4-4325-b907-6a7d026f7cc1
DTSTART;VALUE=DATE:20270323
DTEND;VALUE=DATE:20270324
DESCRIPTION:
LOCATION:2521 Stadium Dr\, St Joseph\, MI 49085\, USA
SUMMARY:End of 3rd Quarter
END:VEVENT
BEGIN:VEVENT
DTSTAMP:20260425T185941Z
UID:b4428f1f-11fb-46ea-a153-92345e5dd43d
DTSTART;VALUE=DATE:20270326
DTEND;VALUE=DATE:20270327
DESCRIPTION:
LOCATION:2521 Stadium Dr\, St Joseph\, MI 49085\, USA
SUMMARY:No School - First Day of Spring Break
END:VEVENT
BEGIN:VEVENT
DTSTAMP:20260425T185941Z
UID:488351ac-8503-4602-a455-5f2432b3cc46
DTSTART;VALUE=DATE:20270326
DTEND;VALUE=DATE:20270403
DESCRIPTION:
LOCATION:
SUMMARY:No School - Spring Break
END:VEVENT
BEGIN:VEVENT
DTSTAMP:20260425T185941Z
UID:4279a027-021f-4efa-9e2a-ebb38a38dc98
DTSTART;VALUE=DATE:20270329
DTEND;VALUE=DATE:20270403
DESCRIPTION:
LOCATION:2521 Stadium Dr\, St Joseph\, MI 49085\, USA
SUMMARY:Spring Break
END:VEVENT
BEGIN:VEVENT
DTSTAMP:20260425T185941Z
UID:0367f370-e996-4cef-8686-7c0ef85c59ea
DTSTART;VALUE=DATE:20270405
DTEND;VALUE=DATE:20270406
DESCRIPTION:
LOCATION:
SUMMARY:School Resumes
END:VEVENT
BEGIN:VEVENT
DTSTAMP:20260425T185941Z
UID:b72d96c5-d70b-4615-9a9c-cdc414ca5e87
DTSTART;VALUE=DATE:20270426
DTEND;VALUE=DATE:20270427
DESCRIPTION:
LOCATION:
SUMMARY:No School
END:VEVENT
BEGIN:VEVENT
DTSTAMP:20260425T185941Z
UID:74e77df5-5ea1-471f-b031-bda0477c1512
DTSTART;VALUE=DATE:20270426
DTEND;VALUE=DATE:20270427
DESCRIPTION:
LOCATION:2521 Stadium Dr\, St Joseph\, MI 49085\, USA
SUMMARY:PD Day - No School
END:VEVENT
BEGIN:VEVENT
DTSTAMP:20260425T185941Z
UID:4d322199-6fe4-4743-abaa-77eb9a0c973b
DTSTART;VALUE=DATE:20270528
DTEND;VALUE=DATE:20270529
DESCRIPTION:
LOCATION:
SUMMARY:End of 4th Quarter
END:VEVENT
BEGIN:VEVENT
DTSTAMP:20260425T185941Z
UID:32263cd5-9165-4ef6-adbd-aaa059fa30aa
DTSTART;VALUE=DATE:20270531
DTEND;VALUE=DATE:20270601
DESCRIPTION:
LOCATION:
SUMMARY:Memorial Day - No School
END:VEVENT
BEGIN:VEVENT
DTSTAMP:20260425T185941Z
UID:3ce01ce8-037d-4c79-8d31-4b0d9468bfa1
DTSTART;VALUE=DATE:20270602
DTEND;VALUE=DATE:20270605
DESCRIPTION:
LOCATION:
SUMMARY:Half Day - Y5/K-11th grades & Secondary Exams
END:VEVENT
BEGIN:VEVENT
DTSTAMP:20260425T185941Z
UID:f7f99b02-900d-41f5-ba1e-fd5afe692bce
DTSTART;VALUE=DATE:20270604
DTEND;VALUE=DATE:20270605
DESCRIPTION:
LOCATION:
SUMMARY:Last Day of School
END:VEVENT
BEGIN:VEVENT
DTSTAMP:20260425T185941Z
UID:2a77fdd4-9c60-4fdf-a94b-42ff2d62690a
DTSTART;VALUE=DATE:20270606
DTEND;VALUE=DATE:20270610
DESCRIPTION:
LOCATION:
SUMMARY:Washington DC 2027 trip
END:VEVENT
END:VCALENDAR
