BEGIN:VCALENDAR
VERSION:2.0
PRODID:icalendar-ruby
CALSCALE:GREGORIAN
BEGIN:VTIMEZONE
TZID:America/Chicago
BEGIN:DAYLIGHT
DTSTART:20260308T030000
TZOFFSETFROM:-0600
TZOFFSETTO:-0500
RRULE:FREQ=YEARLY;BYDAY=2SU;BYMONTH=3
TZNAME:CDT
END:DAYLIGHT
BEGIN:STANDARD
DTSTART:20261101T010000
TZOFFSETFROM:-0500
TZOFFSETTO:-0600
RRULE:FREQ=YEARLY;BYDAY=1SU;BYMONTH=11
TZNAME:CST
END:STANDARD
END:VTIMEZONE
BEGIN:VEVENT
DTSTAMP:20260425T102852Z
UID:6eaad48e-2ba7-4e14-91c3-12756c4f9ce1
DTSTART:20260426T170000
DTEND:20260426T190000
DESCRIPTION:per Pallanez 3/30/26
LOCATION:
SUMMARY:Football | Cheer | Athletic Trainers Banquet
END:VEVENT
BEGIN:VEVENT
DTSTAMP:20260425T102852Z
UID:9d3076d5-1e00-45ad-a073-16296b8552c3
DTSTART:20260428T173000
DTEND:20260428T183000
DESCRIPTION:
LOCATION:Pecos Valley Country Club\, 80 Starley Dr\, Pecos\, TX 79772\, USA
SUMMARY:🎾 Tennis Banquet
END:VEVENT
BEGIN:VEVENT
DTSTAMP:20260425T102852Z
UID:d8a2f14e-d77c-47b1-96e4-ecb18f5539df
DTSTART:20260430T173000
DTEND:20260430T190000
DESCRIPTION:
LOCATION:Reeves County Civic Center\, 1500 S Cedar St\, Pecos\, TX 79772\, 
 USA
SUMMARY:College\, Career & Military Signing Day
END:VEVENT
BEGIN:VEVENT
DTSTAMP:20260425T102852Z
UID:26b41e90-c005-4325-9499-fb34e6526081
DTSTART;VALUE=DATE:20260501
DTEND;VALUE=DATE:20260503
DESCRIPTION:
LOCATION:Lowrey Field at Plains Capital Park 1301 66th St\, Lubbock\, TX 79
 412
SUMMARY:👟 PHS Varsity Track & Field: Regional Meet @ Lubbock
END:VEVENT
BEGIN:VEVENT
DTSTAMP:20260425T102852Z
UID:6a422bba-533d-490e-a46c-16f908ff6272
DTSTART;VALUE=DATE:20260501
DTEND;VALUE=DATE:20260502
DESCRIPTION:
LOCATION:
SUMMARY:Professional Development - (No School)
END:VEVENT
BEGIN:VEVENT
DTSTAMP:20260425T102852Z
UID:e0db806b-df31-4c2c-a09b-412b1f36982c
DTSTART;VALUE=DATE:20260501
DTEND;VALUE=DATE:20260502
DESCRIPTION:
LOCATION:
SUMMARY:Regular School Day
END:VEVENT
BEGIN:VEVENT
DTSTAMP:20260425T102852Z
UID:e91e1231-3f1d-450e-ada8-7653cb9576e7
DTSTART:20260501T180000
DTEND:20260501T193000
DESCRIPTION:
LOCATION:
SUMMARY:⚾️ Baseball Banquet
END:VEVENT
BEGIN:VEVENT
DTSTAMP:20260425T102852Z
UID:a1003e9a-4398-4224-b9f5-324a4d3022ff
DTSTART:20260502T070000
DTEND:20260502T130000
DESCRIPTION:
LOCATION:Pecos High School Cafeteria\, 1201 S Park St\, Pecos\, TX 79772\, 
 USA
SUMMARY:SAT Testing
END:VEVENT
BEGIN:VEVENT
DTSTAMP:20260425T102852Z
UID:419abb16-abcc-4046-88fb-770013e97ada
DTSTART:20260503T180000
DTEND:20260503T193000
DESCRIPTION:
LOCATION:Field House
SUMMARY:⛳️ Golf Banquet
END:VEVENT
BEGIN:VEVENT
DTSTAMP:20260425T102852Z
UID:ec5e7c7e-9229-4995-ac20-b8f6535adc05
DTSTART;VALUE=DATE:20260504
DTEND;VALUE=DATE:20260509
DESCRIPTION:
LOCATION:
SUMMARY:Teacher Appreciation Week
END:VEVENT
BEGIN:VEVENT
DTSTAMP:20260425T102852Z
UID:0ea48662-f48f-4c0f-b971-5638a8da2241
DTSTART:20260504T173000
DTEND:20260504T203000
DESCRIPTION:
LOCATION:
SUMMARY:All-Sports Banquet
END:VEVENT
BEGIN:VEVENT
DTSTAMP:20260425T102852Z
UID:98c99c96-cff4-475c-aa4d-69f9eaf65b5d
DTSTART:20260507T180000
DTEND:20260507T210000
DESCRIPTION:
LOCATION:
SUMMARY:🎶 Band: Band Banquet
END:VEVENT
BEGIN:VEVENT
DTSTAMP:20260425T102852Z
UID:28e9632d-a900-41ef-9a6f-77bea7fac75c
DTSTART;VALUE=DATE:20260508
DTEND;VALUE=DATE:20260509
DESCRIPTION:
LOCATION:
SUMMARY:Independent Learning Day
END:VEVENT
BEGIN:VEVENT
DTSTAMP:20260425T102852Z
UID:369d0474-5277-46c4-a9ac-dbe3ded27600
DTSTART;VALUE=DATE:20260508
DTEND;VALUE=DATE:20260509
DESCRIPTION:
LOCATION:
SUMMARY:Regular School Day
END:VEVENT
BEGIN:VEVENT
DTSTAMP:20260425T102852Z
UID:0d30444b-306f-4925-94ba-c6a765d2f3ac
DTSTART:20260508T170000
DTEND:20260508T190000
DESCRIPTION:
LOCATION:
SUMMARY:FFA Banquet 
END:VEVENT
BEGIN:VEVENT
DTSTAMP:20260425T102852Z
UID:9b3171be-d85b-4cd2-845e-c41ca61fc8f6
DTSTART:20260511T190000
DTEND:20260511T210000
DESCRIPTION:KHenson 8/26/25
LOCATION:
SUMMARY:Theatre Spring Production
END:VEVENT
BEGIN:VEVENT
DTSTAMP:20260425T102852Z
UID:582e1653-10b1-490a-962c-e70cfca67d00
DTSTART:20260512T173000
DTEND:20260512T200000
DESCRIPTION:
LOCATION:
SUMMARY:Band: Spring Concert
END:VEVENT
BEGIN:VEVENT
DTSTAMP:20260425T102852Z
UID:706f8e5c-b40e-47d1-ac58-07b3335668e8
DTSTART;VALUE=DATE:20260514
DTEND;VALUE=DATE:20260515
DESCRIPTION:
LOCATION:Mike A. Myers Stadium 707 Clyde Littlefield Dr\, Austin\, TX 78712
SUMMARY:👟 PHS Varsity Track & Field: State Meet
END:VEVENT
BEGIN:VEVENT
DTSTAMP:20260425T102852Z
UID:d1f6e8a7-9d9a-4563-82d1-ff31ac8d5171
DTSTART:20260514T133000
DTEND:20260514T153000
DESCRIPTION:
LOCATION:
SUMMARY:HS Athletic + Band Physicals
END:VEVENT
BEGIN:VEVENT
DTSTAMP:20260425T102852Z
UID:ccf8610f-4104-4ecf-a0d7-89e7a4f31e1d
DTSTART:20260514T173000
DTEND:20260514T203000
DESCRIPTION:
LOCATION:
SUMMARY:3rd Annual Purple & Gold Awards Banquet
END:VEVENT
BEGIN:VEVENT
DTSTAMP:20260425T102852Z
UID:36d190e7-af3e-43b5-ae30-439960cef312
DTSTART;VALUE=DATE:20260515
DTEND;VALUE=DATE:20260516
DESCRIPTION:
LOCATION:
SUMMARY:Independent Learning Day
END:VEVENT
BEGIN:VEVENT
DTSTAMP:20260425T102852Z
UID:ff639c4a-8ee0-4dca-82c4-ac611f421958
DTSTART;VALUE=DATE:20260515
DTEND;VALUE=DATE:20260516
DESCRIPTION:
LOCATION:
SUMMARY:Regular School Day
END:VEVENT
BEGIN:VEVENT
DTSTAMP:20260425T102852Z
UID:15451054-8c18-4ed1-ad43-1160665224d3
DTSTART;VALUE=DATE:20260521
DTEND;VALUE=DATE:20260522
DESCRIPTION:
LOCATION:
SUMMARY:Last Day of School
END:VEVENT
BEGIN:VEVENT
DTSTAMP:20260425T102852Z
UID:85fc7dea-1bd8-4069-9a00-26d0399db333
DTSTART;VALUE=DATE:20260522
DTEND;VALUE=DATE:20260523
DESCRIPTION:
LOCATION:
SUMMARY:Regular School Day
END:VEVENT
BEGIN:VEVENT
DTSTAMP:20260425T102852Z
UID:9f68279d-6ca5-402c-9dc7-2d9b693d1672
DTSTART;VALUE=DATE:20260522
DTEND;VALUE=DATE:20260523
DESCRIPTION:
LOCATION:
SUMMARY:Staff Work Day
END:VEVENT
BEGIN:VEVENT
DTSTAMP:20260425T102852Z
UID:a05861bd-a8f4-4e2b-a903-f73ad767f9af
DTSTART:20260522T200000
DTEND:20260522T230000
DESCRIPTION:
LOCATION:
SUMMARY:🎓 PHS Class of 2026 Graduation
END:VEVENT
BEGIN:VEVENT
DTSTAMP:20260425T102852Z
UID:a7039e37-d7f9-4462-af7f-d8a683686afc
DTSTART;VALUE=DATE:20260525
DTEND;VALUE=DATE:20260526
DESCRIPTION:
LOCATION:
SUMMARY:Memorial Day - District Holiday
END:VEVENT
BEGIN:VEVENT
DTSTAMP:20260425T102852Z
UID:9275dfac-9530-4a46-97e4-47a9722325a6
DTSTART;VALUE=DATE:20260529
DTEND;VALUE=DATE:20260530
DESCRIPTION:
LOCATION:
SUMMARY:Regular School Day
END:VEVENT
BEGIN:VEVENT
DTSTAMP:20260425T102852Z
UID:c891aa99-abb9-4958-9627-133d5b36c29a
DTSTART;VALUE=DATE:20260605
DTEND;VALUE=DATE:20260606
DESCRIPTION:
LOCATION:
SUMMARY:Regular School Day
END:VEVENT
BEGIN:VEVENT
DTSTAMP:20260425T102852Z
UID:9dbf7740-4965-4e45-ba46-dbd90b056aaa
DTSTART;VALUE=DATE:20260612
DTEND;VALUE=DATE:20260613
DESCRIPTION:
LOCATION:
SUMMARY:Regular School Day
END:VEVENT
BEGIN:VEVENT
DTSTAMP:20260425T102852Z
UID:f28e4d3a-66c7-4c49-927a-4cb8802a1058
DTSTART;VALUE=DATE:20260619
DTEND;VALUE=DATE:20260620
DESCRIPTION:
LOCATION:
SUMMARY:Regular School Day
END:VEVENT
BEGIN:VEVENT
DTSTAMP:20260425T102852Z
UID:6a26cb1d-26c5-4cb9-bb3d-0348fb1f5561
DTSTART;VALUE=DATE:20260626
DTEND;VALUE=DATE:20260627
DESCRIPTION:
LOCATION:
SUMMARY:Regular School Day
END:VEVENT
BEGIN:VEVENT
DTSTAMP:20260425T102852Z
UID:45b7b183-d4e7-410a-b639-a648d004b79c
DTSTART;VALUE=DATE:20260703
DTEND;VALUE=DATE:20260704
DESCRIPTION:
LOCATION:
SUMMARY:Regular School Day
END:VEVENT
BEGIN:VEVENT
DTSTAMP:20260425T102852Z
UID:f8ae5f44-2817-4246-92ba-e5f118f46f6a
DTSTART;VALUE=DATE:20260710
DTEND;VALUE=DATE:20260711
DESCRIPTION:
LOCATION:
SUMMARY:Regular School Day
END:VEVENT
BEGIN:VEVENT
DTSTAMP:20260425T102852Z
UID:23f653d3-0d8e-4f02-b7e8-6861daa19506
DTSTART;VALUE=DATE:20260717
DTEND;VALUE=DATE:20260718
DESCRIPTION:
LOCATION:
SUMMARY:Regular School Day
END:VEVENT
BEGIN:VEVENT
DTSTAMP:20260425T102852Z
UID:d908ded2-af66-496b-9f08-c2000330ba72
DTSTART;VALUE=DATE:20260724
DTEND;VALUE=DATE:20260725
DESCRIPTION:
LOCATION:
SUMMARY:Regular School Day
END:VEVENT
BEGIN:VEVENT
DTSTAMP:20260425T102852Z
UID:6f1e588b-8ca1-47c4-9ec0-9447ac49ff08
DTSTART;VALUE=DATE:20260731
DTEND;VALUE=DATE:20260801
DESCRIPTION:
LOCATION:
SUMMARY:Regular School Day
END:VEVENT
BEGIN:VEVENT
DTSTAMP:20260425T102852Z
UID:fb4cc278-23ba-4954-879e-885a7a0408dd
DTSTART;VALUE=DATE:20260807
DTEND;VALUE=DATE:20260808
DESCRIPTION:
LOCATION:
SUMMARY:Regular School Day
END:VEVENT
BEGIN:VEVENT
DTSTAMP:20260425T102852Z
UID:71e26cb3-6950-4164-9eef-991c7be1f885
DTSTART;VALUE=DATE:20260810
DTEND;VALUE=DATE:20260811
DESCRIPTION:
LOCATION:
SUMMARY:First Day of School
END:VEVENT
BEGIN:VEVENT
DTSTAMP:20260425T102852Z
UID:e3de2c0b-50e5-42b7-bba3-402904aee8f2
DTSTART;VALUE=DATE:20260814
DTEND;VALUE=DATE:20260815
DESCRIPTION:
LOCATION:
SUMMARY:Regular School Day
END:VEVENT
END:VCALENDAR
