BEGIN:VCALENDAR
VERSION:2.0
PRODID:icalendar-ruby
CALSCALE:GREGORIAN
BEGIN:VTIMEZONE
TZID:America/Chicago
BEGIN:DAYLIGHT
DTSTART:20260308T030000
TZOFFSETFROM:-0600
TZOFFSETTO:-0500
RRULE:FREQ=YEARLY;BYDAY=2SU;BYMONTH=3
TZNAME:CDT
END:DAYLIGHT
BEGIN:STANDARD
DTSTART:20261101T010000
TZOFFSETFROM:-0500
TZOFFSETTO:-0600
RRULE:FREQ=YEARLY;BYDAY=1SU;BYMONTH=11
TZNAME:CST
END:STANDARD
END:VTIMEZONE
BEGIN:VEVENT
DTSTAMP:20260425T103001Z
UID:6b76dd2f-73ff-41f5-b016-51f5f3fd2f65
DTSTART;VALUE=DATE:20260501
DTEND;VALUE=DATE:20260502
DESCRIPTION:
LOCATION:
SUMMARY:Professional Development - (No School)
END:VEVENT
BEGIN:VEVENT
DTSTAMP:20260425T103001Z
UID:2238c320-3900-4925-8d61-de44e61ea0de
DTSTART:20260501T180000
DTEND:20260501T200000
DESCRIPTION:
LOCATION:
SUMMARY:🪩 Mother-Son Dance 
END:VEVENT
BEGIN:VEVENT
DTSTAMP:20260425T103001Z
UID:ce8faea1-1389-4709-a685-8bff870eab15
DTSTART;VALUE=DATE:20260504
DTEND;VALUE=DATE:20260509
DESCRIPTION:
LOCATION:
SUMMARY:Teacher Appreciation Week
END:VEVENT
BEGIN:VEVENT
DTSTAMP:20260425T103001Z
UID:d3dfb895-e577-4c16-beae-7dd3ea32e56c
DTSTART;VALUE=DATE:20260508
DTEND;VALUE=DATE:20260509
DESCRIPTION:
LOCATION:
SUMMARY:Bad Weather Day (No School)
END:VEVENT
BEGIN:VEVENT
DTSTAMP:20260425T103001Z
UID:a182404b-6296-4881-911f-41e85a8f97f2
DTSTART;VALUE=DATE:20260512
DTEND;VALUE=DATE:20260513
DESCRIPTION:
LOCATION:
SUMMARY:First Grade Awards Assembly
END:VEVENT
BEGIN:VEVENT
DTSTAMP:20260425T103001Z
UID:64fb689f-557f-4d76-a946-f8c0a4ff39bf
DTSTART;VALUE=DATE:20260513
DTEND;VALUE=DATE:20260514
DESCRIPTION:
LOCATION:
SUMMARY:Kindergarten Awards Assembly
END:VEVENT
BEGIN:VEVENT
DTSTAMP:20260425T103001Z
UID:47f58f2e-2f52-494c-8491-c65c5d50da25
DTSTART;VALUE=DATE:20260514
DTEND;VALUE=DATE:20260515
DESCRIPTION:
LOCATION:
SUMMARY:Pre-K Awards Assembly
END:VEVENT
BEGIN:VEVENT
DTSTAMP:20260425T103001Z
UID:e6ea1a00-c42f-4741-a434-c340b0940992
DTSTART;VALUE=DATE:20260515
DTEND;VALUE=DATE:20260516
DESCRIPTION:
LOCATION:
SUMMARY:Bad Weather Day (No School)
END:VEVENT
BEGIN:VEVENT
DTSTAMP:20260425T103001Z
UID:67c59e34-c928-4464-80a5-a7feb9376a5e
DTSTART;VALUE=DATE:20260521
DTEND;VALUE=DATE:20260522
DESCRIPTION:
LOCATION:
SUMMARY:Last Day of School
END:VEVENT
BEGIN:VEVENT
DTSTAMP:20260425T103001Z
UID:7c25bf93-7825-49d3-b33b-a6f621d2a891
DTSTART;VALUE=DATE:20260522
DTEND;VALUE=DATE:20260523
DESCRIPTION:
LOCATION:
SUMMARY:Staff Work Day
END:VEVENT
BEGIN:VEVENT
DTSTAMP:20260425T103001Z
UID:07888fe0-f747-4073-824b-6fa2e7b6ee43
DTSTART;VALUE=DATE:20260525
DTEND;VALUE=DATE:20260526
DESCRIPTION:
LOCATION:
SUMMARY:Memorial Day - District Holiday
END:VEVENT
BEGIN:VEVENT
DTSTAMP:20260425T103001Z
UID:739e4ad9-7421-4eb8-8cb5-d5d135ad2cf2
DTSTART;VALUE=DATE:20260810
DTEND;VALUE=DATE:20260811
DESCRIPTION:
LOCATION:
SUMMARY:First Day of School
END:VEVENT
END:VCALENDAR
