BEGIN:VCALENDAR
VERSION:2.0
PRODID:icalendar-ruby
CALSCALE:GREGORIAN
BEGIN:VTIMEZONE
TZID:America/New_York
BEGIN:DAYLIGHT
DTSTART:20260308T030000
TZOFFSETFROM:-0500
TZOFFSETTO:-0400
RRULE:FREQ=YEARLY;BYDAY=2SU;BYMONTH=3
TZNAME:EDT
END:DAYLIGHT
BEGIN:STANDARD
DTSTART:20261101T010000
TZOFFSETFROM:-0400
TZOFFSETTO:-0500
RRULE:FREQ=YEARLY;BYDAY=1SU;BYMONTH=11
TZNAME:EST
END:STANDARD
END:VTIMEZONE
BEGIN:VEVENT
DTSTAMP:20260421T163232Z
UID:15f75df7-f30c-43e7-8ef6-6aa84498fb34
DTSTART;VALUE=DATE:20260505
DTEND;VALUE=DATE:20260506
DESCRIPTION:
LOCATION:
SUMMARY:Early Dismissal - Teacher Professional Development
END:VEVENT
BEGIN:VEVENT
DTSTAMP:20260421T163232Z
UID:c964ec80-e27b-4e70-b23a-11ffb9b43794
DTSTART:20260511T170000
DTEND:20260511T180000
DESCRIPTION:
LOCATION:1712 S Quail Run\, Vincennes\, IN 47591\, USA
SUMMARY:VCSC Board of School Trustees Meeting
END:VEVENT
BEGIN:VEVENT
DTSTAMP:20260421T163232Z
UID:c48210e6-97c5-4aae-ac4f-166c75e25ee5
DTSTART;VALUE=DATE:20260515
DTEND;VALUE=DATE:20260516
DESCRIPTION:
LOCATION:
SUMMARY:WLA Graduation
END:VEVENT
BEGIN:VEVENT
DTSTAMP:20260421T163232Z
UID:b392ac98-6c4e-46f7-ac8f-6a78f0532695
DTSTART;VALUE=DATE:20260521
DTEND;VALUE=DATE:20260522
DESCRIPTION:
LOCATION:
SUMMARY:Last Day of School
END:VEVENT
BEGIN:VEVENT
DTSTAMP:20260421T163232Z
UID:73f11438-58a2-4530-8dc8-d10714fb1042
DTSTART;VALUE=DATE:20260522
DTEND;VALUE=DATE:20260523
DESCRIPTION:
LOCATION:
SUMMARY:LHS Graduation
END:VEVENT
BEGIN:VEVENT
DTSTAMP:20260421T163232Z
UID:5ef6dfba-e9ab-43fa-afe0-424a556df455
DTSTART:20260608T080000
DTEND:20260608T090000
DESCRIPTION:
LOCATION:1712 S Quail Run\, Vincennes\, IN 47591\, USA
SUMMARY:VCSC Board of School Trustees
END:VEVENT
BEGIN:VEVENT
DTSTAMP:20260421T163232Z
UID:4421b4e6-57ec-4b57-8f8c-3782384b7967
DTSTART:20260713T080000
DTEND:20260713T090000
DESCRIPTION:
LOCATION:1712 S Quail Run\, Vincennes\, IN 47591\, USA
SUMMARY:VCSC Board of School Trustees Meeting
END:VEVENT
BEGIN:VEVENT
DTSTAMP:20260421T163232Z
UID:436d6084-11b1-45e9-8f0b-e34ff53187c5
DTSTART:20260810T190000
DTEND:20260810T200000
DESCRIPTION:
LOCATION:1712 S Quail Run\, Vincennes\, IN 47591\, USA
SUMMARY:VCSC Board of School Trustees Meeting
END:VEVENT
BEGIN:VEVENT
DTSTAMP:20260421T163232Z
UID:9942ad2a-b7b2-44a2-9d3c-5636386c4cdc
DTSTART:20260914T190000
DTEND:20260914T200000
DESCRIPTION:
LOCATION:1712 S Quail Run\, Vincennes\, IN 47591\, USA
SUMMARY:VCSC Board of School Trustees Meeting
END:VEVENT
BEGIN:VEVENT
DTSTAMP:20260421T163232Z
UID:b23b1aa9-3a49-476b-931c-bb204ce38f08
DTSTART:20261012T190000
DTEND:20261012T200000
DESCRIPTION:
LOCATION:1712 S Quail Run\, Vincennes\, IN 47591\, USA
SUMMARY:VCSC Board of School Trustees Meeting
END:VEVENT
BEGIN:VEVENT
DTSTAMP:20260421T163232Z
UID:661de6c6-5132-43cc-adc5-d4c8a1cc72ce
DTSTART:20261109T190000
DTEND:20261109T200000
DESCRIPTION:
LOCATION:1712 S Quail Run\, Vincennes\, IN 47591\, USA
SUMMARY:VCSC Board of School Trustees Meeting
END:VEVENT
BEGIN:VEVENT
DTSTAMP:20260421T163232Z
UID:feec3510-80f5-4b22-a46d-39654a6fec3b
DTSTART:20261214T190000
DTEND:20261214T200000
DESCRIPTION:
LOCATION:1712 S Quail Run\, Vincennes\, IN 47591\, USA
SUMMARY:VCSC Board of School Trustees Meeting
END:VEVENT
BEGIN:VEVENT
DTSTAMP:20260421T163232Z
UID:59cdfe2d-b672-4519-9bff-a2c2b80eb42b
DTSTART:20270405T180000
DTEND:20270405T190000
DESCRIPTION:
LOCATION:cafeteria
SUMMARY:LHS Academic Society Banquet
END:VEVENT
END:VCALENDAR
