BEGIN:VCALENDAR
VERSION:2.0
PRODID:icalendar-ruby
CALSCALE:GREGORIAN
BEGIN:VTIMEZONE
TZID:America/Chicago
BEGIN:DAYLIGHT
DTSTART:20260308T030000
TZOFFSETFROM:-0600
TZOFFSETTO:-0500
RRULE:FREQ=YEARLY;BYDAY=2SU;BYMONTH=3
TZNAME:CDT
END:DAYLIGHT
BEGIN:STANDARD
DTSTART:20261101T010000
TZOFFSETFROM:-0500
TZOFFSETTO:-0600
RRULE:FREQ=YEARLY;BYDAY=1SU;BYMONTH=11
TZNAME:CST
END:STANDARD
END:VTIMEZONE
BEGIN:VEVENT
DTSTAMP:20260419T120300Z
UID:c37e9ac3-97a9-4b61-a036-ebbae499523a
DTSTART;VALUE=DATE:20260421
DTEND;VALUE=DATE:20260422
DESCRIPTION:
LOCATION:
SUMMARY:Tuesday Treats
END:VEVENT
BEGIN:VEVENT
DTSTAMP:20260419T120300Z
UID:de7db35d-d004-4281-899d-d6dc83b1d433
DTSTART;VALUE=DATE:20260428
DTEND;VALUE=DATE:20260429
DESCRIPTION:
LOCATION:
SUMMARY:Tuesday Treats
END:VEVENT
BEGIN:VEVENT
DTSTAMP:20260419T120300Z
UID:c9dccbeb-ae43-410e-a4b2-109457c68491
DTSTART;VALUE=DATE:20260504
DTEND;VALUE=DATE:20260509
DESCRIPTION:
LOCATION:
SUMMARY:Teacher Appreciation Week
END:VEVENT
BEGIN:VEVENT
DTSTAMP:20260419T120300Z
UID:ee83a303-77a9-4005-8f2e-fb5ca9ba1aa9
DTSTART;VALUE=DATE:20260505
DTEND;VALUE=DATE:20260506
DESCRIPTION:
LOCATION:
SUMMARY:Tuesday Treats
END:VEVENT
BEGIN:VEVENT
DTSTAMP:20260419T120300Z
UID:a5bcf91b-f17c-4953-81eb-27182521c3a4
DTSTART;VALUE=DATE:20260512
DTEND;VALUE=DATE:20260513
DESCRIPTION:
LOCATION:
SUMMARY:Tuesday Treats
END:VEVENT
BEGIN:VEVENT
DTSTAMP:20260419T120300Z
UID:ae094cb5-1947-400a-b82e-ed10257eece1
DTSTART;VALUE=DATE:20260514
DTEND;VALUE=DATE:20260515
DESCRIPTION:
LOCATION:
SUMMARY:Last Day of Abrakadoodle
END:VEVENT
BEGIN:VEVENT
DTSTAMP:20260419T120300Z
UID:db5e3a15-68ff-4cec-a3c0-1b5140da3d55
DTSTART;VALUE=DATE:20260519
DTEND;VALUE=DATE:20260520
DESCRIPTION:
LOCATION:
SUMMARY:Tuesday Treats
END:VEVENT
BEGIN:VEVENT
DTSTAMP:20260419T120300Z
UID:2675e6c5-1dac-480c-b065-2d9a6f3310b9
DTSTART:20260519T113000
DTEND:20260519T123000
DESCRIPTION:
LOCATION:
SUMMARY:C6 Celebration at Vaughn Forest
END:VEVENT
BEGIN:VEVENT
DTSTAMP:20260419T120300Z
UID:b15ee319-24ab-41d9-8ccb-e5c4cf90a176
DTSTART;VALUE=DATE:20260521
DTEND;VALUE=DATE:20260522
DESCRIPTION:
LOCATION:
SUMMARY:1/2 Day for Learners
END:VEVENT
BEGIN:VEVENT
DTSTAMP:20260419T120300Z
UID:e70167f3-1906-4d4e-bf4b-8364659eeed7
DTSTART;VALUE=DATE:20260522
DTEND;VALUE=DATE:20260523
DESCRIPTION:
LOCATION:
SUMMARY:PD Day- No Learners
END:VEVENT
END:VCALENDAR
