BEGIN:VCALENDAR
VERSION:2.0
PRODID:icalendar-ruby
CALSCALE:GREGORIAN
BEGIN:VTIMEZONE
TZID:America/Chicago
BEGIN:DAYLIGHT
DTSTART:20260308T030000
TZOFFSETFROM:-0600
TZOFFSETTO:-0500
RRULE:FREQ=YEARLY;BYDAY=2SU;BYMONTH=3
TZNAME:CDT
END:DAYLIGHT
BEGIN:STANDARD
DTSTART:20261101T010000
TZOFFSETFROM:-0500
TZOFFSETTO:-0600
RRULE:FREQ=YEARLY;BYDAY=1SU;BYMONTH=11
TZNAME:CST
END:STANDARD
END:VTIMEZONE
BEGIN:VEVENT
DTSTAMP:20260423T221002Z
UID:1553cf7c-0453-49d7-8f06-d387d7037226
DTSTART:20260605T090000
DTEND:20260605T123000
DESCRIPTION:<p><span><strong>AI Vision and Strategy - AA#4229</strong></spa
 n></p><p><span>Who:&nbsp\; &nbsp\; K-12 Administrators&nbsp\;</span></p><p
 ><span>When:&nbsp\; Friday\, June 5\, 2026</span></p><p><span>&nbsp\; &nbs
 p\; &nbsp\;&nbsp\; &nbsp\;&nbsp\; &nbsp\; &nbsp\; &nbsp\; &nbsp\;&nbsp\; &
 nbsp\; &nbsp\; &nbsp\; &nbsp\; &nbsp\; &nbsp\; &nbsp\; &nbsp\;<br>Where: &
 nbsp\;Madison County Farm Bureau\, 900 Hillsboro\, Edwardsville</span></p>
 <p><span>&nbsp\; &nbsp\; &nbsp\; &nbsp\; &nbsp\; &nbsp\; &nbsp\; &nbsp\; &
 nbsp\;(use Ann St. to park behind Farm Bureau - enter back doors)&nbsp\;</
 span></p><p><span>&nbsp\;</span></p><p><span>Time: &nbsp\; &nbsp\;9:00 a.m
 . - 12:30 p.m.<br><br>Cost:&nbsp\; &nbsp\; Cost:&nbsp\; Madison County P.D
 . Co-op members – $100.00</span></p><p><span>&nbsp\; &nbsp\; &nbsp\; &nb
 sp\; &nbsp\; &nbsp\; &nbsp\; &nbsp\;Non-members - $150.00</span></p><p><sp
 an>&nbsp\; &nbsp\; &nbsp\; &nbsp\; &nbsp\; &nbsp\; &nbsp\; &nbsp\;Not sure
 ? contact Anna at </span><a target="_blank" rel="noopener noreferrer nofol
 low" href="mailto:adyson@roe41.org"><span>adyson@roe41.org</span></a><span
 >&nbsp\;</span></p><p><span>&nbsp\; &nbsp\;&nbsp\; &nbsp\; &nbsp\; &nbsp\;
  &nbsp\; &nbsp\; &nbsp\; &nbsp\; &nbsp\; &nbsp\; &nbsp\; &nbsp\; &nbsp\; &
 nbsp\; &nbsp\; &nbsp\;<br>Hours of Earned Credit:&nbsp\; Administrator Aca
 demy Credit or 3.5 PD Hours&nbsp\;<br>&nbsp\; &nbsp\; &nbsp\; &nbsp\; &nbs
 p\; &nbsp\; &nbsp\; &nbsp\; &nbsp\; &nbsp\; &nbsp\; &nbsp\; &nbsp\;<br>Pre
 senter:&nbsp\; Lisa Schwartz\, Illinois Learning Technology Center&nbsp\;<
 /span></p><p><span>&nbsp\;</span></p><p><span>This Administrator Academy (
 #4229) is for leaders ready to move beyond isolated AI tools and develop a
 &nbsp\;cohesive\, long-term vision for artificial intelligence in their sc
 hool or district. Participants will&nbsp\;engage in strategic planning\, f
 ocusing on how to lead change\, foster a culture of responsible&nbsp\;inno
 vation\, and align AI initiatives with school improvement goals. Rather th
 an focusing on personal&nbsp\;productivity\, this course equips leaders to
  answer the critical questions of why and how AI should&nbsp\;be integrate
 d\, enabling them to build a shared vision\, create an ethical framework\,
  and lead their&nbsp\;entire community through this technological transfor
 mation.&nbsp\;</span></p><p><span>&nbsp\;</span></p><p><span>TO REGISTER:&
 nbsp\; </span><a target="_blank" rel="noopener noreferrer nofollow" href="
 https://forms.gle/EQm7gx6dJg3wka2b6"><span>https://forms.gle/EQm7gx6dJg3wk
 a2b6</span></a></p><p><span>&nbsp\;</span></p>
LOCATION:Madison County Farm Bureau\, 900 Hillsboro\, Edwardsville
SUMMARY:AI Vision and Strategy - AA#4229AI Vision and Strategy - AA#4229
END:VEVENT
BEGIN:VEVENT
DTSTAMP:20260423T221002Z
UID:8df26164-9748-491f-b708-6d58807b6943
DTSTART:20260608T080000
DTEND:20260612T150000
DESCRIPTION:<p>Registration opens March 16!</p>
LOCATION:
SUMMARY:Construction Camp
END:VEVENT
BEGIN:VEVENT
DTSTAMP:20260423T221002Z
UID:1e2999fb-09be-4a95-88d6-2e5258a43763
DTSTART:20260608T090000
DTEND:20260612T150000
DESCRIPTION:<p>Registration opens March 16!</p>
LOCATION:
SUMMARY:STEM Camp
END:VEVENT
BEGIN:VEVENT
DTSTAMP:20260423T221002Z
UID:676cc262-0f5d-44e3-9493-df6daa55834b
DTSTART:20260706T090000
DTEND:20260710T140000
DESCRIPTION:<p>Registration opens March 16!</p>
LOCATION:
SUMMARY:Ag Camp
END:VEVENT
BEGIN:VEVENT
DTSTAMP:20260423T221002Z
UID:64dadff0-7192-4ecb-aaf3-8571eb041cf1
DTSTART:20260713T090000
DTEND:20260716T150000
DESCRIPTION:<p>Registration opens March 16!</p>
LOCATION:
SUMMARY:MCHS History Camp
END:VEVENT
END:VCALENDAR
