BEGIN:VCALENDAR
VERSION:2.0
PRODID:icalendar-ruby
CALSCALE:GREGORIAN
BEGIN:VTIMEZONE
TZID:America/Chicago
BEGIN:DAYLIGHT
DTSTART:20260308T030000
TZOFFSETFROM:-0600
TZOFFSETTO:-0500
RRULE:FREQ=YEARLY;BYDAY=2SU;BYMONTH=3
TZNAME:CDT
END:DAYLIGHT
BEGIN:STANDARD
DTSTART:20261101T010000
TZOFFSETFROM:-0500
TZOFFSETTO:-0600
RRULE:FREQ=YEARLY;BYDAY=1SU;BYMONTH=11
TZNAME:CST
END:STANDARD
END:VTIMEZONE
BEGIN:VEVENT
DTSTAMP:20260425T143045Z
UID:8315d984-fbed-41f9-a02e-dcb2a0671938
DTSTART:20260430T080000
DTEND:20260430T090000
DESCRIPTION:
LOCATION:
SUMMARY:Kindergarten Oxbow Park Field Trip
END:VEVENT
BEGIN:VEVENT
DTSTAMP:20260425T143045Z
UID:0b66cc02-a6e5-430c-b5a3-5c264229fd58
DTSTART:20260501T080000
DTEND:20260501T090000
DESCRIPTION:
LOCATION:
SUMMARY:Professional Day - No School for Students
END:VEVENT
BEGIN:VEVENT
DTSTAMP:20260425T143045Z
UID:24fce3d4-506c-4e6b-895c-a41741a839b3
DTSTART:20260507T080000
DTEND:20260507T090000
DESCRIPTION:
LOCATION:
SUMMARY:Kindergarten Informances - times TBD
END:VEVENT
BEGIN:VEVENT
DTSTAMP:20260425T143045Z
UID:f75f6f33-902c-4a74-91a8-5b1201550da5
DTSTART:20260508T080000
DTEND:20260508T090000
DESCRIPTION:
LOCATION:
SUMMARY:2nd Grade Fort Snelling Field Trip
END:VEVENT
BEGIN:VEVENT
DTSTAMP:20260425T143045Z
UID:b9206833-12fd-4744-b0d3-cc258fcceaae
DTSTART:20260512T160000
DTEND:20260512T190000
DESCRIPTION:
LOCATION:
SUMMARY:Hartley Family Night
END:VEVENT
BEGIN:VEVENT
DTSTAMP:20260425T143045Z
UID:858d58f6-c06b-42e3-ab64-032ce74b0ebb
DTSTART:20260514T080000
DTEND:20260514T090000
DESCRIPTION:
LOCATION:
SUMMARY:1st Grade MN Zoo Field Trip
END:VEVENT
BEGIN:VEVENT
DTSTAMP:20260425T143045Z
UID:bd9c81b6-a6f4-4445-967b-560b73a08345
DTSTART:20260522T080000
DTEND:20260522T090000
DESCRIPTION:
LOCATION:
SUMMARY:3rd Grade Farmamerica Field Trip
END:VEVENT
BEGIN:VEVENT
DTSTAMP:20260425T143045Z
UID:279fcb22-d7c7-4ac7-b779-d68cbba7ce07
DTSTART:20260525T080000
DTEND:20260525T090000
DESCRIPTION:
LOCATION:
SUMMARY:Memorial Day - District is Closed
END:VEVENT
BEGIN:VEVENT
DTSTAMP:20260425T143045Z
UID:49aac538-baef-4f3e-862a-0075f4d082cd
DTSTART:20260604T080000
DTEND:20260604T090000
DESCRIPTION:
LOCATION:
SUMMARY:Last Day of School
END:VEVENT
BEGIN:VEVENT
DTSTAMP:20260425T143045Z
UID:6fa4b540-0531-4ef7-8c3d-7092a2c28701
DTSTART:20260605T080000
DTEND:20260605T090000
DESCRIPTION:
LOCATION:
SUMMARY:Professional Day - No School for Students
END:VEVENT
END:VCALENDAR
